Shooting information for this photo
Camera: | Apple iPhone 11 Pro Max |
Exposure: | 0.00208 sec. (1/480) |
Aperture: | f/2.4 |
Focal Length: | 1.5 mm (35 mm equivalent: 14.0 mm) |
Flash: | Auto, Did not fire |
Exposure mode: | Program AE |
Resolution: | 240 x 240 dpi |
Original Date: | 2019:12:28 10:20:13.137 |
Created on: | 2019:12:28 10:20:13.137 |
Modified on: | 2020:02:14 08:45:48 |
Software: | Adobe Photoshop Lightroom Classic 9.2 (Windows) |
Copyright: | Bernhard Sonderhuesken |
Already Applied | True |
Auto Lateral CA | 0 |
Blacks 2012 | -32 |
Blue Hue | 0 |
Blue Saturation | 0 |
Brightness Value | 9.23088255 |
Camera Profile | Embedded |
Circle Of Confusion | 0.003 mm |
Clarity 2012 | 0 |
Color Noise Reduction | 25 |
Color Noise Reduction Detail | 50 |
Color Noise Reduction Smoothness | 50 |
Color Space | Uncalibrated |
Contrast 2012 | +6 |
Convert To Grayscale | False |
Crop Angle | 0 |
Crop Bottom | 0.859296 |
Crop Constrain To Warp | 0 |
Crop Left | 0.047231 |
Crop Right | 0.968227 |
Crop Top | 0 |
Date Created | 2019:12:28 10:20:13.137+01:00 |
Defringe Green Amount | 0 |
Defringe Green Hue Hi | 60 |
Defringe Green Hue Lo | 40 |
Defringe Purple Amount | 0 |
Defringe Purple Hue Hi | 70 |
Defringe Purple Hue Lo | 30 |
Dehaze | 0 |
Digital Zoom Ratio | 1.022312373 |
Exposure 2012 | -0.15 |
Exposure Compensation | 0 |
Exposure Mode | Auto |
Field Of View | 104.3 deg |
Focal Length In 35mm Format | 14 mm |
Format | image/jpeg |
Grain Amount | 0 |
Green Hue | 0 |
Green Saturation | 0 |
Has Crop | True |
Has Settings | True |
Highlights 2012 | -8 |
Hue Adjustment Aqua | 0 |
Hue Adjustment Blue | 0 |
Hue Adjustment Green | 0 |
Hue Adjustment Magenta | 0 |
Hue Adjustment Orange | 0 |
Hue Adjustment Purple | 0 |
Hue Adjustment Red | 0 |
Hue Adjustment Yellow | 0 |
Hyperfocal Distance | 0.30 m |
ISO | 20 |
Image Size | 3445x2197 |
Incremental Temperature | 0 |
Incremental Tint | 0 |
Label | Rot |
Lens | iPhone 11 Pro Max back triple camera 1.54mm f/2.4 |
Lens Info | 1.53999996185121-6mm f/1.8-2.4 |
Lens Make | Apple |
Lens Manual Distortion Amount | 0 |
Lens Model | iPhone 11 Pro Max back triple camera 1.54mm f/2.4 |
Lens Profile Enable | 0 |
Lens Profile Setup | LensDefaults |
Light Value | 13.8 |
Luminance Adjustment Aqua | 0 |
Luminance Adjustment Blue | 0 |
Luminance Adjustment Green | 0 |
Luminance Adjustment Magenta | 0 |
Luminance Adjustment Orange | 0 |
Luminance Adjustment Purple | 0 |
Luminance Adjustment Red | 0 |
Luminance Adjustment Yellow | 0 |
Luminance Smoothing | 0 |
Marked | True |
Metering Mode | Multi-segment |
Override Look Vignette | False |
Parametric Darks | 0 |
Parametric Highlight Split | 75 |
Parametric Highlights | 0 |
Parametric Lights | 0 |
Parametric Midtone Split | 50 |
Parametric Shadow Split | 25 |
Parametric Shadows | 0 |
Perspective Aspect | 0 |
Perspective Horizontal | 0 |
Perspective Rotate | 0.0 |
Perspective Scale | 100 |
Perspective Upright | 1 |
Perspective Vertical | 0 |
Perspective X | 0.00 |
Perspective Y | 0.00 |
Post Crop Vignette Amount | 0 |
Preserved File Name | IMG_E0284.JPG |
Process Version | 11.0 |
Red Hue | 0 |
Red Saturation | 0 |
Rights | Bernhard Sonderhuesken |
Saturation | +2 |
Saturation Adjustment Aqua | 0 |
Saturation Adjustment Blue | 0 |
Saturation Adjustment Green | 0 |
Saturation Adjustment Magenta | 0 |
Saturation Adjustment Orange | 0 |
Saturation Adjustment Purple | 0 |
Saturation Adjustment Red | 0 |
Saturation Adjustment Yellow | 0 |
Scale Factor To 35 mm Equivalent | 9.1 |
Scene Capture Type | Standard |
Scene Type | Directly photographed |
Sensing Method | One-chip color area |
Shadow Tint | 0 |
Shadows 2012 | +29 |
Sharpen Detail | 25 |
Sharpen Edge Masking | 0 |
Sharpen Radius | +1.0 |
Sharpness | 40 |
Split Toning Balance | 0 |
Split Toning Highlight Hue | 0 |
Split Toning Highlight Saturation | 0 |
Split Toning Shadow Hue | 0 |
Split Toning Shadow Saturation | 0 |
Subject | Porte de la Craffe, france, frankkreich, lorraine, lothringen, nancy |
Subject Area | 2015 1510 2323 1392 |
Texture | 0 |
Title | Porte de la Craffe |
Tone Curve | 0, 0, 255, 255 |
Tone Curve Blue | 0, 0, 255, 255 |
Tone Curve Green | 0, 0, 255, 255 |
Tone Curve Name | Linear |
Tone Curve Name 2012 | Linear |
Tone Curve PV2012 | 0, 0, 255, 255 |
Tone Curve PV2012 Blue | 0, 0, 255, 255 |
Tone Curve PV2012 Green | 0, 0, 255, 255 |
Tone Curve PV2012 Red | 0, 0, 255, 255 |
Tone Curve Red | 0, 0, 255, 255 |
Tone Map Strength | 0 |
Version | 12.2 |
Vibrance | +8 |
Vignette Amount | 0 |
White Balance | Auto |
Whites 2012 | +14 |
GPS Information |
GPS Altitude | 201.5 m Above Sea Level |
GPS Altitude Ref | Above Sea Level |
GPS Dest Bearing | 357.8869936 |
GPS Dest Bearing Ref | Magnetic North |
GPS Horizontal Positioning Error | 14.28824388 m |
GPS Img Direction | 357.8869936 |
GPS Img Direction Ref | Magnetic North |
GPS Latitude | 48 deg 41' 55.06" N |
GPS Latitude Ref | North |
GPS Longitude | 6 deg 10' 40.90" E |
GPS Longitude Ref | East |
GPS Position | 48 deg 41' 55.06" N, 6 deg 10' 40.90" E |
GPS Speed | 0 |
GPS Speed Ref | km/h |