Shooting information for this photo
Camera: | Apple iPhone 7 Plus |
Exposure: | 0.00018 sec. (1/5700) |
Aperture: | f/2.8 |
Focal Length: | 6.6 mm (35 mm equivalent: 57.0 mm) |
Flash: | Auto, Did not fire |
Exposure mode: | Program AE |
Resolution: | 240 x 240 dpi |
Original Date: | 2017:10:06 16:01:53.352 |
Created on: | 2017:10:06 16:01:53.352 |
Modified on: | 2017:10:07 17:57:24 |
Software: | Adobe Photoshop Lightroom 6.12 (Windows) |
Copyright: | Bernhard Sonderhuesken |
Already Applied | True |
Artist | Bernhard Sonderhuesken |
Auto Lateral CA | 1 |
Auto White Version | 134348800 |
Blacks 2012 | -26 |
Blue Hue | 0 |
Blue Saturation | 0 |
Brightness Value | 13.19966443 |
Camera Profile | Embedded |
Circle Of Confusion | 0.003 mm |
Clarity 2012 | +9 |
Color Noise Reduction | 25 |
Color Noise Reduction Detail | 50 |
Color Noise Reduction Smoothness | 50 |
Color Space | sRGB |
Contrast 2012 | -1 |
Convert To Grayscale | False |
Creator | Bernhard Sonderhuesken |
Crop Angle | 0 |
Crop Bottom | 0.904085 |
Crop Constrain To Warp | 0 |
Crop Left | 0.345103 |
Crop Right | 1 |
Crop Top | 0.030195 |
Custom Rendered | Unknown (3) |
Date Created | 2017:10:06 16:01:53.352 |
Defringe Green Amount | 0 |
Defringe Green Hue Hi | 60 |
Defringe Green Hue Lo | 40 |
Defringe Purple Amount | 0 |
Defringe Purple Hue Hi | 70 |
Defringe Purple Hue Lo | 30 |
Dehaze | 0 |
Exposure 2012 | +1.21 |
Exposure Compensation | 0 |
Exposure Mode | Auto |
Field Of View | 35.1 deg |
Focal Length In 35mm Format | 57 mm |
Format | image/jpeg |
Grain Amount | 0 |
Green Hue | 0 |
Green Saturation | 0 |
Has Crop | True |
Has Settings | True |
Highlights 2012 | -100 |
Hue Adjustment Aqua | 0 |
Hue Adjustment Blue | 0 |
Hue Adjustment Green | 0 |
Hue Adjustment Magenta | 0 |
Hue Adjustment Orange | 0 |
Hue Adjustment Purple | 0 |
Hue Adjustment Red | 0 |
Hue Adjustment Yellow | 0 |
Hyperfocal Distance | 4.47 m |
ISO | 20 |
Image Size | 2641x2643 |
Incremental Temperature | +5 |
Incremental Tint | 0 |
Label | Rot |
Lateral Chromatic Aberration Correction Already Applied | True |
Lens | iPhone 7 Plus back dual camera 6.6mm f/2.8 |
Lens Info | 3.99-6.6mm f/1.8-2.8 |
Lens Make | Apple |
Lens Manual Distortion Amount | 0 |
Lens Model | iPhone 7 Plus back dual camera 6.6mm f/2.8 |
Lens Profile Enable | 0 |
Lens Profile Setup | LensDefaults |
Light Value | 17.8 |
Luminance Adjustment Aqua | -1 |
Luminance Adjustment Blue | -1 |
Luminance Adjustment Green | +1 |
Luminance Adjustment Magenta | 0 |
Luminance Adjustment Orange | 0 |
Luminance Adjustment Purple | 0 |
Luminance Adjustment Red | 0 |
Luminance Adjustment Yellow | +10 |
Luminance Noise Reduction Contrast | 0 |
Luminance Noise Reduction Detail | 50 |
Luminance Smoothing | 15 |
Marked | True |
Metering Mode | Multi-segment |
Paint Correction Active | true |
Paint Correction Amount | 1.000000 |
Paint Correction Brightness | 0.000000 |
Paint Correction Clarity 2012 | 0.000000 |
Paint Correction Contrast 2012 | 0.000000 |
Paint Correction Defringe | 0.000000 |
Paint Correction Exposure 2012 | -0.289750 |
Paint Correction Highlights 2012 | -0.327100 |
Paint Correction Hue | 0.000000 |
Paint Correction Local Blacks 2012 | 0.000000 |
Paint Correction Local Dehaze | 0.000000 |
Paint Correction Local Whites 2012 | 0.000000 |
Paint Correction Luminance Noise | 0.000000 |
Paint Correction Mask Center Weight | 1.000000 |
Paint Correction Mask Flow | 0.600000 |
Paint Correction Mask Radius | 0.053138 |
Paint Correction Mask Value | 0.202000 |
Paint Correction Mask What | Mask/Paint |
Paint Correction Moire | 0.000000 |
Paint Correction Saturation | 0.000000 |
Paint Correction Shadows 2012 | 0.000000 |
Paint Correction Sharpness | 0.000000 |
Paint Correction Temperature | 0.000000 |
Paint Correction Tint | 0.000000 |
Paint Correction What | Correction |
Parametric Darks | 0 |
Parametric Highlight Split | 75 |
Parametric Highlights | 0 |
Parametric Lights | 0 |
Parametric Midtone Split | 50 |
Parametric Shadow Split | 25 |
Parametric Shadows | 0 |
Perspective Aspect | 0 |
Perspective Horizontal | 0 |
Perspective Rotate | 0.0 |
Perspective Scale | 100 |
Perspective Upright | 1 |
Perspective Vertical | 0 |
Perspective X | 0.00 |
Perspective Y | 0.00 |
Post Crop Vignette Amount | -20 |
Post Crop Vignette Feather | 64 |
Post Crop Vignette Highlight Contrast | 0 |
Post Crop Vignette Midpoint | 29 |
Post Crop Vignette Roundness | -34 |
Post Crop Vignette Style | 1 |
Process Version | 6.7 |
Red Hue | 0 |
Red Saturation | 0 |
Rights | Bernhard Sonderhuesken |
Saturation | +7 |
Saturation Adjustment Aqua | +32 |
Saturation Adjustment Blue | +35 |
Saturation Adjustment Green | +11 |
Saturation Adjustment Magenta | 0 |
Saturation Adjustment Orange | 0 |
Saturation Adjustment Purple | 0 |
Saturation Adjustment Red | 0 |
Saturation Adjustment Yellow | +57 |
Scale Factor To 35 mm Equivalent | 8.6 |
Scene Capture Type | Standard |
Scene Type | Directly photographed |
Sensing Method | One-chip color area |
Shadow Tint | 0 |
Shadows 2012 | +22 |
Sharpen Detail | 34 |
Sharpen Edge Masking | 8 |
Sharpen Radius | +1.0 |
Sharpness | 49 |
Split Toning Balance | 0 |
Split Toning Highlight Hue | 0 |
Split Toning Highlight Saturation | 0 |
Split Toning Shadow Hue | 0 |
Split Toning Shadow Saturation | 0 |
Subject | Weser, Wremen, boats, fishing, harbour, sunlight, tide |
Subject Area | 2011 1511 2217 1330 |
Title | Wremen harbour |
Tone Curve | 0, 0, 255, 255 |
Tone Curve Blue | 0, 0, 255, 255 |
Tone Curve Green | 0, 0, 255, 255 |
Tone Curve Name | Linear |
Tone Curve Name 2012 | Medium Contrast |
Tone Curve PV2012 | 0, 0, 32, 22, 64, 56, 128, 128, 192, 196, 255, 255 |
Tone Curve PV2012 Blue | 0, 0, 255, 255 |
Tone Curve PV2012 Green | 0, 0, 255, 255 |
Tone Curve PV2012 Red | 0, 0, 255, 255 |
Tone Curve Red | 0, 0, 255, 255 |
Tone Map Strength | 0 |
Version | 9.12 |
Vibrance | +15 |
Vignette Amount | 0 |
White Balance | Auto |
Whites 2012 | +11 |
GPS Information |
GPS Altitude | 13.1 m Below Sea Level |
GPS Altitude Ref | Below Sea Level |
GPS Date Stamp | 2017:10:06 |
GPS Date/Time | 2017:10:06 14:01:51Z |
GPS Dest Bearing | 130.4115044 |
GPS Dest Bearing Ref | True North |
GPS Horizontal Positioning Error | 6 m |
GPS Img Direction | 130.4115044 |
GPS Img Direction Ref | True North |
GPS Latitude | 53 deg 38' 53.04" N |
GPS Latitude Ref | North |
GPS Longitude | 8 deg 29' 39.99" E |
GPS Longitude Ref | East |
GPS Position | 53 deg 38' 53.04" N, 8 deg 29' 39.99" E |
GPS Speed | 0.003873077806 |
GPS Speed Ref | km/h |
GPS Time Stamp | 14:01:51 |