Shooting information for this photo
Camera: | NIKON CORPORATION NIKON D300 |
Exposure: | 0.05 sec. (1/20) |
Aperture: | f/4.5 |
Focal Length: | 17.0 mm (35 mm equivalent: 25.0 mm) |
Flash: | No Flash |
Exposure mode: | Aperture-priority AE |
Max Aperture: | 2.8 |
Resolution: | 240 x 240 dpi |
Original Date: | 2010:09:09 19:58:44.94 |
Created on: | 2010:09:09 19:58:44.94 |
Modified on: | 2017:06:20 17:37:04 |
Software: | Adobe Photoshop Lightroom 6.10.1 (Windows) |
Copyright: | Bernhard Sonderhuesken |
Already Applied | True |
Approximate Focus Distance | 2.99 |
Artist | Bernhard Sonderhuesken |
Auto Lateral CA | 1 |
Auto White Version | 134348800 |
Blacks 2012 | -3 |
Blue Hue | 0 |
Blue Saturation | 0 |
CFA Pattern | [Red,Green][Green,Blue] |
Camera Profile | Adobe Standard |
Circle Of Confusion | 0.020 mm |
Clarity 2012 | +14 |
Color Noise Reduction | 25 |
Color Noise Reduction Detail | 50 |
Color Noise Reduction Smoothness | 50 |
Color Space | sRGB |
Color Temperature | 7300 |
Contrast | Normal |
Contrast 2012 | +26 |
Convert To Grayscale | False |
Creator | Bernhard Sonderhuesken |
Custom Rendered | Normal |
Date Created | 2010:09:09 19:58:44.94 |
Defringe Green Amount | 0 |
Defringe Green Hue Hi | 60 |
Defringe Green Hue Lo | 40 |
Defringe Purple Amount | 0 |
Defringe Purple Hue Hi | 70 |
Defringe Purple Hue Lo | 30 |
Dehaze | 0 |
Digital Zoom Ratio | 1 |
Distortion Correction Already Applied | True |
Exposure 2012 | +0.05 |
Exposure Compensation | 0 |
Exposure Mode | Auto |
Field Of View | 71.5 deg |
Focal Length In 35mm Format | 25 mm |
Format | image/jpeg |
Gain Control | None |
Gradient Based Corr Active | true |
Gradient Based Corr Amount | 1.000000 |
Gradient Based Corr Brightness | 0.000000 |
Gradient Based Corr Clarity 2012 | 0.000000 |
Gradient Based Corr Contrast 2012 | 0.000000 |
Gradient Based Corr Defringe | 0.000000 |
Gradient Based Corr Exposure 2012 | 0.000000 |
Gradient Based Corr Highlights 2012 | -0.046730 |
Gradient Based Corr Hue | 0.000000 |
Gradient Based Corr Local Blacks 2012 | 0.000000 |
Gradient Based Corr Local Dehaze | 0.000000 |
Gradient Based Corr Local Whites 2012 | 0.000000 |
Gradient Based Corr Luminance Noise | 0.000000 |
Gradient Based Corr Mask Full X | 0.522656 |
Gradient Based Corr Mask Full Y | -0.002143 |
Gradient Based Corr Mask Value | 1.000000 |
Gradient Based Corr Mask What | Mask/Gradient |
Gradient Based Corr Mask Zero X | 0.538346 |
Gradient Based Corr Mask Zero Y | 0.598585 |
Gradient Based Corr Moire | 0.000000 |
Gradient Based Corr Saturation | 0.000000 |
Gradient Based Corr Shadows 2012 | 0.000000 |
Gradient Based Corr Sharpness | 0.000000 |
Gradient Based Corr Temperature | 0.000000 |
Gradient Based Corr Tint | 0.000000 |
Gradient Based Corr What | Correction |
Grain Amount | 0 |
Green Hue | 0 |
Green Saturation | 0 |
Has Crop | False |
Has Settings | True |
Highlights 2012 | -91 |
Hue Adjustment Aqua | 0 |
Hue Adjustment Blue | 0 |
Hue Adjustment Green | 0 |
Hue Adjustment Magenta | 0 |
Hue Adjustment Orange | 0 |
Hue Adjustment Purple | 0 |
Hue Adjustment Red | 0 |
Hue Adjustment Yellow | 0 |
Hyperfocal Distance | 3.14 m |
ISO | 200 |
Image Number | 27925 |
Image Size | 4288x2848 |
Label | Rot |
Lateral Chromatic Aberration Correction Already Applied | True |
Lens | 17.0-55.0 mm f/2.8 |
Lens ID | AF-S DX Zoom-Nikkor 17-55mm f/2.8G IF-ED |
Lens Info | 17-55mm f/2.8 |
Lens Manual Distortion Amount | 0 |
Lens Model | 17.0-55.0 mm f/2.8 |
Lens Profile Chromatic Aberration Scale | 100 |
Lens Profile Distortion Scale | 100 |
Lens Profile Enable | 1 |
Lens Profile Filename | NIKON D90 (Nikon AF-S DX Zoom-NIKKOR 17-55mm f2.8G IF-ED) - RAW.lcp |
Lens Profile Name | Adobe (Nikon AF-S DX Zoom-Nikkor 17-55mm f/2.8G IF-ED) |
Lens Profile Setup | Custom |
Lens Profile Vignetting Scale | 100 |
Light Source | Unknown |
Light Value | 7.7 |
Luminance Adjustment Aqua | 0 |
Luminance Adjustment Blue | 0 |
Luminance Adjustment Green | 0 |
Luminance Adjustment Magenta | 0 |
Luminance Adjustment Orange | 0 |
Luminance Adjustment Purple | 0 |
Luminance Adjustment Red | 0 |
Luminance Adjustment Yellow | 0 |
Luminance Noise Reduction Contrast | 0 |
Luminance Noise Reduction Detail | 50 |
Luminance Smoothing | 15 |
Marked | True |
Metering Mode | Multi-segment |
Parametric Darks | 0 |
Parametric Highlight Split | 75 |
Parametric Highlights | 0 |
Parametric Lights | 0 |
Parametric Midtone Split | 50 |
Parametric Shadow Split | 25 |
Parametric Shadows | 0 |
Perspective Aspect | 0 |
Perspective Horizontal | 0 |
Perspective Rotate | 0.0 |
Perspective Scale | 100 |
Perspective Upright | 1 |
Perspective Vertical | 0 |
Perspective X | 0.00 |
Perspective Y | 0.00 |
Post Crop Vignette Amount | 0 |
Process Version | 6.7 |
Red Hue | 0 |
Red Saturation | 0 |
Rights | Bernhard Sonderhuesken |
Saturation | Normal |
Saturation Adjustment Aqua | 0 |
Saturation Adjustment Blue | 0 |
Saturation Adjustment Green | 0 |
Saturation Adjustment Magenta | 0 |
Saturation Adjustment Orange | 0 |
Saturation Adjustment Purple | 0 |
Saturation Adjustment Red | 0 |
Saturation Adjustment Yellow | 0 |
Scale Factor To 35 mm Equivalent | 1.5 |
Scene Capture Type | Standard |
Scene Type | Directly photographed |
Sensing Method | One-chip color area |
Shadow Tint | 0 |
Shadows 2012 | +86 |
Sharpen Detail | 34 |
Sharpen Edge Masking | 8 |
Sharpen Radius | +1.0 |
Sharpness | Normal |
Split Toning Balance | 0 |
Split Toning Highlight Hue | 0 |
Split Toning Highlight Saturation | 0 |
Split Toning Shadow Hue | 0 |
Split Toning Shadow Saturation | 0 |
Subject | England, boats, brixham, devon, harbour, reflections, torbay |
Subject Distance Range | Unknown |
Tint | 0 |
Title | Brixham harbour |
Tone Curve | 0, 0, 255, 255 |
Tone Curve Blue | 0, 0, 255, 255 |
Tone Curve Green | 0, 0, 255, 255 |
Tone Curve Name | Linear |
Tone Curve Name 2012 | Medium Contrast |
Tone Curve PV2012 | 0, 0, 32, 22, 64, 56, 128, 128, 192, 196, 255, 255 |
Tone Curve PV2012 Blue | 0, 0, 255, 255 |
Tone Curve PV2012 Green | 0, 0, 255, 255 |
Tone Curve PV2012 Red | 0, 0, 255, 255 |
Tone Curve Red | 0, 0, 255, 255 |
Tone Map Strength | 0 |
Version | 9.10.1 |
Vibrance | +26 |
Vignette Amount | 0 |
Vignette Correction Already Applied | True |
White Balance | Auto |
Whites 2012 | +25 |
GPS Information |
GPS Altitude | 13.504 m |
GPS Latitude | 50 deg 23' 45.86" N |
GPS Latitude Ref | North |
GPS Longitude | 3 deg 30' 41.42" W |
GPS Longitude Ref | West |
GPS Position | 50 deg 23' 45.86" N, 3 deg 30' 41.42" W |
GPS Version ID | 2.2.0.0 |