Shooting information for this photo
Camera: | SONY DSC-RX100M3 |
Exposure: | 0.00156 sec. (1/640) |
Aperture: | f/2.8 |
Focal Length: | 18.3 mm (35 mm equivalent: 50.0 mm) |
Flash: | Off, Did not fire |
Exposure mode: | Aperture-priority AE |
Max Aperture: | 2.8 |
Resolution: | 240 x 240 dpi |
Original Date: | 2016:09:11 08:11:22 |
Created on: | 2016:09:11 08:11:22 |
Modified on: | 2017:01:01 15:55:02 |
Software: | Adobe Photoshop Lightroom 6.8 (Windows) |
Copyright: | Bernhard Sonderhuesken |
Already Applied | True |
Artist | Bernhard Sonderhuesken |
Auto Lateral CA | 1 |
Auto White Version | 134348800 |
Blacks 2012 | -21 |
Blue Hue | 0 |
Blue Saturation | 0 |
Brightness Value | 8.4078125 |
Camera Profile | Adobe Standard |
Circle Of Confusion | 0.011 mm |
Clarity 2012 | +9 |
Color Noise Reduction | 25 |
Color Noise Reduction Detail | 50 |
Color Noise Reduction Smoothness | 50 |
Color Space | sRGB |
Color Temperature | 5750 |
Contrast | Normal |
Contrast 2012 | +2 |
Convert To Grayscale | False |
Creator | Bernhard Sonderhuesken |
Custom Rendered | Normal |
Date Created | 2016:09:11 08:11:22 |
Defringe Green Amount | 0 |
Defringe Green Hue Hi | 60 |
Defringe Green Hue Lo | 40 |
Defringe Purple Amount | 0 |
Defringe Purple Hue Hi | 70 |
Defringe Purple Hue Lo | 30 |
Dehaze | 0 |
Digital Zoom Ratio | 1 |
Exposure 2012 | +0.90 |
Exposure Compensation | 0 |
Exposure Mode | Auto |
Field Of View | 39.6 deg |
Focal Length In 35mm Format | 50 mm |
Format | image/jpeg |
Gradient Based Corr Active | true |
Gradient Based Corr Amount | 1.000000 |
Gradient Based Corr Brightness | 0.000000 |
Gradient Based Corr Clarity 2012 | 0.000000 |
Gradient Based Corr Contrast 2012 | 0.000000 |
Gradient Based Corr Defringe | 0.000000 |
Gradient Based Corr Exposure 2012 | -0.065500 |
Gradient Based Corr Highlights 2012 | -0.869160 |
Gradient Based Corr Hue | 0.000000 |
Gradient Based Corr Local Blacks 2012 | 0.000000 |
Gradient Based Corr Local Dehaze | 0.000000 |
Gradient Based Corr Local Whites 2012 | 0.000000 |
Gradient Based Corr Luminance Noise | 0.000000 |
Gradient Based Corr Mask Full X | 0.597242 |
Gradient Based Corr Mask Full Y | 0.009334 |
Gradient Based Corr Mask Value | 1.000000 |
Gradient Based Corr Mask What | Mask/Gradient |
Gradient Based Corr Mask Zero X | 0.538502 |
Gradient Based Corr Mask Zero Y | 0.514538 |
Gradient Based Corr Moire | 0.000000 |
Gradient Based Corr Saturation | 0.000000 |
Gradient Based Corr Shadows 2012 | 0.000000 |
Gradient Based Corr Sharpness | 0.000000 |
Gradient Based Corr Temperature | -0.121500 |
Gradient Based Corr Tint | 0.000000 |
Gradient Based Corr What | Correction |
Grain Amount | 0 |
Green Hue | 0 |
Green Saturation | 0 |
Has Crop | False |
Has Settings | True |
Highlights 2012 | -26 |
Hue Adjustment Aqua | 0 |
Hue Adjustment Blue | 0 |
Hue Adjustment Green | 0 |
Hue Adjustment Magenta | 0 |
Hue Adjustment Orange | 0 |
Hue Adjustment Purple | 0 |
Hue Adjustment Red | 0 |
Hue Adjustment Yellow | 0 |
Hyperfocal Distance | 10.88 m |
ISO | 125 |
Image Size | 5472x3648 |
Lens | 24-70mm F1.8-2.8 |
Lens Distort Info | 33266/32768 -61181153/1073741824 23717595/1073741824 8937941/1073741824 |
Lens Info | 8.8-25.7mm f/1.8-2.8 |
Lens Manual Distortion Amount | 0 |
Lens Model | 24-70mm F1.8-2.8 |
Lens Profile Enable | 0 |
Lens Profile Setup | LensDefaults |
Light Source | Unknown |
Light Value | 12.0 |
Luminance Adjustment Aqua | 0 |
Luminance Adjustment Blue | 0 |
Luminance Adjustment Green | 0 |
Luminance Adjustment Magenta | 0 |
Luminance Adjustment Orange | 0 |
Luminance Adjustment Purple | 0 |
Luminance Adjustment Red | 0 |
Luminance Adjustment Yellow | 0 |
Luminance Smoothing | 0 |
Marked | True |
Metering Mode | Multi-segment |
Parametric Darks | 0 |
Parametric Highlight Split | 75 |
Parametric Highlights | 0 |
Parametric Lights | 0 |
Parametric Midtone Split | 50 |
Parametric Shadow Split | 25 |
Parametric Shadows | 0 |
Perspective Aspect | 0 |
Perspective Horizontal | 0 |
Perspective Rotate | 0.0 |
Perspective Scale | 100 |
Perspective Upright | 1 |
Perspective Vertical | 0 |
Perspective X | 0.00 |
Perspective Y | 0.00 |
Post Crop Vignette Amount | 0 |
Process Version | 6.7 |
Recommended Exposure Index | 125 |
Red Hue | 0 |
Red Saturation | 0 |
Rights | Bernhard Sonderhuesken |
Saturation | Normal |
Saturation Adjustment Aqua | 0 |
Saturation Adjustment Blue | 0 |
Saturation Adjustment Green | 0 |
Saturation Adjustment Magenta | 0 |
Saturation Adjustment Orange | 0 |
Saturation Adjustment Purple | 0 |
Saturation Adjustment Red | 0 |
Saturation Adjustment Yellow | 0 |
Scale Factor To 35 mm Equivalent | 2.7 |
Scene Capture Type | Standard |
Scene Type | Directly photographed |
Sensitivity Type | Recommended Exposure Index |
Shadow Tint | 0 |
Shadows 2012 | +34 |
Sharpen Detail | 35 |
Sharpen Edge Masking | 0 |
Sharpen Radius | +0.8 |
Sharpness | Normal |
Split Toning Balance | -50 |
Split Toning Highlight Hue | 50 |
Split Toning Highlight Saturation | 15 |
Split Toning Shadow Hue | 0 |
Split Toning Shadow Saturation | 0 |
Subject | 2016, Frankreich, coast, france, nord, normandie, pas-de-calais |
Tint | +11 |
Title | Honfleur |
Tone Curve | 0, 0, 255, 255 |
Tone Curve Blue | 0, 0, 255, 255 |
Tone Curve Green | 0, 0, 255, 255 |
Tone Curve Name | Linear |
Tone Curve Name 2012 | Medium Contrast |
Tone Curve PV2012 | 0, 0, 32, 22, 64, 56, 128, 128, 192, 196, 255, 255 |
Tone Curve PV2012 Blue | 0, 0, 255, 255 |
Tone Curve PV2012 Green | 0, 0, 255, 255 |
Tone Curve PV2012 Red | 0, 0, 255, 255 |
Tone Curve Red | 0, 0, 255, 255 |
Tone Map Strength | 0 |
Version | 9.8 |
Vibrance | +11 |
Vignette Amount | 0 |
White Balance | Auto |
Whites 2012 | +37 |
GPS Information |
GPS Altitude | 9.5187 m |
GPS Latitude | 49 deg 25' 11.11" N |
GPS Latitude Ref | North |
GPS Longitude | 0 deg 13' 58.83" E |
GPS Longitude Ref | East |
GPS Position | 49 deg 25' 11.11" N, 0 deg 13' 58.83" E |
GPS Version ID | 2.2.0.0 |