Shooting information for this photo
Camera: | FUJIFILM X-E1 |
Exposure: | 0.06667 sec. (1/15) |
Aperture: | f/2.8 |
Focal Length: | 18.0 mm (35 mm equivalent: 27.0 mm) |
Flash: | Off, Did not fire |
Exposure mode: | Aperture-priority AE |
Max Aperture: | 2.8 |
Resolution: | 240 x 240 dpi |
Original Date: | 2014:02:24 07:35:46 |
Created on: | 2014:02:24 07:35:46 |
Modified on: | 2015:05:16 23:21:28 |
Software: | Adobe Photoshop Lightroom 6.0 (Windows) |
Copyright: | Bernhard Sonderhuesken |
Already Applied | True |
Auto Lateral CA | 1 |
Auto White Version | 134348800 |
Blacks 2012 | -9 |
Blue Hue | 0 |
Blue Saturation | 0 |
Brightness Value | 1.18 |
Camera Profile | Adobe Standard |
Circle Of Confusion | 0.020 mm |
Clarity 2012 | 0 |
Color Noise Reduction | 25 |
Color Noise Reduction Detail | 50 |
Color Noise Reduction Smoothness | 50 |
Color Space | sRGB |
Color Temperature | 4800 |
Contrast 2012 | 0 |
Convert To Grayscale | False |
Country | Großbritannien und Nordirland |
Country Code | GB |
Crop Angle | 0 |
Crop Bottom | 1 |
Crop Constrain To Warp | 0 |
Crop Left | 0 |
Crop Right | 0.945846 |
Crop Top | 0 |
Custom Rendered | Normal |
Defringe Green Amount | 0 |
Defringe Green Hue Hi | 60 |
Defringe Green Hue Lo | 40 |
Defringe Purple Amount | 0 |
Defringe Purple Hue Hi | 70 |
Defringe Purple Hue Lo | 30 |
Description | Sunrise. Fort Crescent, Margate, Thanet, Kent, UK |
Exposure 2012 | -0.34 |
Exposure Compensation | -0.33 |
Exposure Mode | Auto |
Field Of View | 67.4 deg |
Focal Length In 35mm Format | 27 mm |
Format | image/jpeg |
Gradient Based Corr Active | true |
Gradient Based Corr Amount | 1.000000 |
Gradient Based Corr Brightness | 0.000000 |
Gradient Based Corr Clarity 2012 | 0.000000 |
Gradient Based Corr Contrast 2012 | 0.000000 |
Gradient Based Corr Defringe | 0.000000 |
Gradient Based Corr Exposure 2012 | -0.065500 |
Gradient Based Corr Highlights 2012 | -0.177570 |
Gradient Based Corr Hue | 0.000000 |
Gradient Based Corr Luminance Noise | 0.000000 |
Gradient Based Corr Mask Full X | 0.506747 |
Gradient Based Corr Mask Full Y | -0.002075 |
Gradient Based Corr Mask Value | 1.000000 |
Gradient Based Corr Mask What | Mask/Gradient |
Gradient Based Corr Mask Zero X | 0.531781 |
Gradient Based Corr Mask Zero Y | 0.765049 |
Gradient Based Corr Moire | 0.000000 |
Gradient Based Corr Saturation | 0.000000 |
Gradient Based Corr Shadows 2012 | 0.000000 |
Gradient Based Corr Sharpness | 0.000000 |
Gradient Based Corr Temperature | 0.000000 |
Gradient Based Corr Tint | 0.000000 |
Gradient Based Corr What | Correction |
Grain Amount | 0 |
Green Hue | 0 |
Green Saturation | 0 |
Has Crop | True |
Has Settings | True |
Highlights 2012 | -50 |
Hue Adjustment Aqua | 0 |
Hue Adjustment Blue | 0 |
Hue Adjustment Green | 0 |
Hue Adjustment Magenta | 0 |
Hue Adjustment Orange | 0 |
Hue Adjustment Purple | 0 |
Hue Adjustment Red | 0 |
Hue Adjustment Yellow | 0 |
Hyperfocal Distance | 5.78 m |
ISO | 200 |
Image Description | Sunrise. Fort Crescent, Margate, Thanet, Kent, UK |
Image Size | 4631x3264 |
Lens | XF18-55mmF2.8-4 R LM OIS |
Lens Info | 18-55mm f/2.8-4 |
Lens Make | FUJIFILM |
Lens Manual Distortion Amount | 0 |
Lens Model | XF18-55mmF2.8-4 R LM OIS |
Lens Profile Enable | 1 |
Lens Profile Setup | LensDefaults |
Light Source | Unknown |
Light Value | 5.9 |
Luminance Adjustment Aqua | 0 |
Luminance Adjustment Blue | 0 |
Luminance Adjustment Green | 0 |
Luminance Adjustment Magenta | 0 |
Luminance Adjustment Orange | 0 |
Luminance Adjustment Purple | 0 |
Luminance Adjustment Red | 0 |
Luminance Adjustment Yellow | 0 |
Luminance Smoothing | 0 |
Marked | True |
Metering Mode | Multi-segment |
Parametric Darks | 0 |
Parametric Highlight Split | 75 |
Parametric Highlights | 0 |
Parametric Lights | 0 |
Parametric Midtone Split | 50 |
Parametric Shadow Split | 25 |
Parametric Shadows | 0 |
Perspective Aspect | 0 |
Perspective Horizontal | 0 |
Perspective Rotate | 0.0 |
Perspective Scale | 100 |
Perspective Upright | 1 |
Perspective Vertical | 0 |
Post Crop Vignette Amount | 0 |
Process Version | 6.7 |
Raw File Name | X-E1_20140224_073546_DSCF5175. jpg |
Red Hue | 0 |
Red Saturation | 0 |
Rights | Bernhard Sonderhuesken |
Saturation | 0 |
Saturation Adjustment Aqua | 0 |
Saturation Adjustment Blue | 0 |
Saturation Adjustment Green | 0 |
Saturation Adjustment Magenta | 0 |
Saturation Adjustment Orange | 0 |
Saturation Adjustment Purple | 0 |
Saturation Adjustment Red | 0 |
Saturation Adjustment Yellow | 0 |
Scale Factor To 35 mm Equivalent | 1.5 |
Scene Capture Type | Standard |
Scene Type | Directly photographed |
Sensing Method | One-chip color area |
Sensitivity Type | Standard Output Sensitivity |
Shadow Tint | 0 |
Shadows 2012 | +13 |
Sharpen Detail | 25 |
Sharpen Edge Masking | 0 |
Sharpen Radius | +1.0 |
Sharpness | Normal |
Split Toning Balance | 0 |
Split Toning Highlight Hue | 0 |
Split Toning Highlight Saturation | 0 |
Split Toning Shadow Hue | 0 |
Split Toning Shadow Saturation | 0 |
State | England |
Subject | england, fort crescent, kent, margate, sunrise, thanet, uk |
Subject Distance Range | Unknown |
Tint | +17 |
Title | Good morning, Thanet. |
Tone Curve | 0, 0, 255, 255 |
Tone Curve Blue | 0, 0, 255, 255 |
Tone Curve Green | 0, 0, 255, 255 |
Tone Curve Name | Linear |
Tone Curve Name 2012 | Medium Contrast |
Tone Curve PV2012 | 0, 0, 32, 22, 64, 56, 128, 128, 192, 196, 255, 255 |
Tone Curve PV2012 Blue | 0, 0, 255, 255 |
Tone Curve PV2012 Green | 0, 0, 255, 255 |
Tone Curve PV2012 Red | 0, 0, 255, 255 |
Tone Curve Red | 0, 0, 255, 255 |
Version | 9.0 |
Vibrance | +20 |
Vignette Amount | 0 |
White Balance | Auto |
Whites 2012 | 0 |
GPS Information |
GPS Latitude | 51 deg 23' 29.86" N |
GPS Latitude Ref | North |
GPS Longitude | 1 deg 23' 15.29" E |
GPS Longitude Ref | East |
GPS Position | 51 deg 23' 29.86" N, 1 deg 23' 15.29" E |
GPS Version ID | 2.2.0.0 |