Shooting information for this photo
Camera: | Canon EOS DIGITAL REBEL XT |
Exposure: | 0.00125 sec. (1/800) |
Flash: | Off, Did not fire |
Exposure mode: | Manual |
Max Aperture: | 1.8 |
Resolution: | 72 x 72 dpi |
Dimension: | 3456 x 2304 pixels |
Original Date: | 2008:07:12 13:46:49 |
Created on: | 2008:07:12 13:46:49 |
Modified on: | 2012:09:10 18:29:40 |
Software: | Adobe Photoshop CS6 (Windows) |
Already Applied | True |
Artist | Roberto V de Carvalho |
Blue Hue | 0 |
Blue Saturation | 0 |
Brightness | +45 |
Camera Profile | ACR 3.1 |
Chromatic Aberration B | 0 |
Chromatic Aberration R | 0 |
Circle Of Confusion | 0.019 mm |
Clarity | 55 |
Color Mode | RGB |
Color Noise Reduction | 26 |
Color Space | sRGB |
Color Temperature | 4050 |
Contrast | +58 |
Convert To Grayscale | False |
Creator | Roberto V de Carvalho |
Custom Rendered | Normal |
Date Created | 2008:07:12 13:46:49-03:00 |
Defringe | 0 |
Exposure | -0.19 |
Exposure Compensation | 0 |
Exposure Mode | Manual |
Fill Light | 19 |
Firmware | 1.0.3 |
Flash Compensation | -0.333333333333333 |
Format | image/jpeg |
Green Hue | 0 |
Green Saturation | 0 |
Has Crop | False |
Has Settings | True |
Highlight Recovery | 13 |
Hue Adjustment Aqua | 0 |
Hue Adjustment Blue | 0 |
Hue Adjustment Green | 0 |
Hue Adjustment Magenta | 0 |
Hue Adjustment Orange | 0 |
Hue Adjustment Purple | 0 |
Hue Adjustment Red | 0 |
Hue Adjustment Yellow | 0 |
ICC Profile Name | sRGB IEC61966-2.1 |
ISO | 800 |
Image Number | 136 |
Image Size | 3456x2304 |
Luminance Adjustment Aqua | 0 |
Luminance Adjustment Blue | 0 |
Luminance Adjustment Green | +14 |
Luminance Adjustment Magenta | 0 |
Luminance Adjustment Orange | -37 |
Luminance Adjustment Purple | 0 |
Luminance Adjustment Red | 0 |
Luminance Adjustment Yellow | -37 |
Luminance Smoothing | 31 |
Metering Mode | Partial |
Owner Name | Roberto V de Carvalho |
Parametric Darks | -4 |
Parametric Highlight Split | 75 |
Parametric Highlights | +9 |
Parametric Lights | +4 |
Parametric Midtone Split | 50 |
Parametric Shadow Split | 25 |
Parametric Shadows | -9 |
Photometric Interpretation | RGB |
Rating | 0 |
Rating Percent | 0 |
Red Hue | 0 |
Red Saturation | 0 |
Samples Per Pixel | 3 |
Saturation | +9 |
Saturation Adjustment Aqua | 0 |
Saturation Adjustment Blue | 0 |
Saturation Adjustment Green | 0 |
Saturation Adjustment Magenta | 0 |
Saturation Adjustment Orange | 0 |
Saturation Adjustment Purple | 0 |
Saturation Adjustment Red | 0 |
Saturation Adjustment Yellow | 0 |
Scale Factor To 35 mm Equivalent | 1.6 |
Scene Capture Type | Standard |
Shadow Tint | 0 |
Shadows | 0 |
Sharpen Detail | 25 |
Sharpen Edge Masking | 0 |
Sharpen Radius | +1.0 |
Sharpness | 25 |
Split Toning Balance | 0 |
Split Toning Highlight Hue | 0 |
Split Toning Highlight Saturation | 0 |
Split Toning Shadow Hue | 0 |
Split Toning Shadow Saturation | 0 |
Tint | +2 |
Tone Curve | 0, 0, 32, 22, 64, 56, 128, 128, 192, 196, 255, 255 |
Tone Curve Name | Medium Contrast |
Version | 1.0 |
Vibrance | +47 |
Vignette Amount | 0 |
White Balance | Auto |