Shooting information for this photo
Camera: | Canon EOS DIGITAL REBEL XT |
Exposure: | 0.05 sec. (1/20) |
Flash: | Off, Did not fire |
Exposure mode: | Aperture-priority AE |
Resolution: | 240 x 240 dpi |
Dimension: | 3474 x 2314 pixels |
Original Date: | 2006:11:20 12:28:37 |
Digitized Date: | 2006:11:20 12:28:37-02:00 |
Created on: | 2006:11:20 12:28:37 |
Modified on: | 2010:10:07 12:04:13 |
Software: | ACD Systems Digital Imaging |
Already Applied | True |
Artist | Roberto V de Carvalho |
Bits Per Sample | 16 16 16 |
Blue Hue | 0 |
Blue Saturation | 0 |
Brightness | 0 |
Camera Profile | Embedded |
Chromatic Aberration B | 0 |
Chromatic Aberration R | 0 |
Circle Of Confusion | 0.019 mm |
Clarity | +75 |
Color Noise Reduction | 0 |
Contrast | 0 |
Convert To Grayscale | False |
Creator | Roberto V de Carvalho |
Custom Rendered | Normal |
Defringe | 0 |
Exposure | +0.60 |
Exposure Compensation | 0 |
Exposure Mode | Auto |
Fill Light | 14 |
Firmware | 1.0.2 |
Flash Compensation | -0.666666666666667 |
Flash Fired | False |
Flash Function | False |
Flash Mode | Off |
Flash Red Eye Mode | False |
Flash Return | No return detection |
Grain Amount | 0 |
Green Hue | 0 |
Green Saturation | 0 |
Has Crop | False |
Has Settings | True |
Highlight Recovery | 100 |
Hue Adjustment Aqua | 0 |
Hue Adjustment Blue | 0 |
Hue Adjustment Green | 0 |
Hue Adjustment Magenta | 0 |
Hue Adjustment Orange | 0 |
Hue Adjustment Purple | 0 |
Hue Adjustment Red | 0 |
Hue Adjustment Yellow | 0 |
ISO | 200 |
Image Height | 2314 |
Image Number | 206 |
Image Size | 3474x2314 |
Image Width | 3474 |
Incremental Temperature | 0 |
Incremental Tint | 0 |
Lens Manual Distortion Amount | 0 |
Lens Profile Enable | 0 |
Lens Profile Setup | LensDefaults |
Luminance Adjustment Aqua | 0 |
Luminance Adjustment Blue | 0 |
Luminance Adjustment Green | +2 |
Luminance Adjustment Magenta | 0 |
Luminance Adjustment Orange | +4 |
Luminance Adjustment Purple | 0 |
Luminance Adjustment Red | +17 |
Luminance Adjustment Yellow | +18 |
Luminance Smoothing | 0 |
Metering Mode | Partial |
Owner Name | Roberto V de Carvalho |
Parametric Darks | -5 |
Parametric Highlight Split | 75 |
Parametric Highlights | +33 |
Parametric Lights | +14 |
Parametric Midtone Split | 50 |
Parametric Shadow Split | 25 |
Parametric Shadows | -26 |
Perspective Horizontal | 0 |
Perspective Rotate | 0.0 |
Perspective Scale | 100 |
Perspective Vertical | 0 |
Photometric Interpretation | RGB |
Planar Configuration | Chunky |
Post Crop Vignette Amount | 0 |
Process Version | 5.7 |
Red Hue | 0 |
Red Saturation | 0 |
Rows Per Strip | 2314 |
Samples Per Pixel | 3 |
Saturation | 0 |
Saturation Adjustment Aqua | 0 |
Saturation Adjustment Blue | 0 |
Saturation Adjustment Green | 0 |
Saturation Adjustment Magenta | 0 |
Saturation Adjustment Orange | 0 |
Saturation Adjustment Purple | 0 |
Saturation Adjustment Red | 0 |
Saturation Adjustment Yellow | 0 |
Scale Factor To 35 mm Equivalent | 1.6 |
Scene Capture Type | Standard |
Shadow Tint | 0 |
Shadows | 6 |
Sharpen Detail | 25 |
Sharpen Edge Masking | 0 |
Sharpen Radius | +1.0 |
Sharpness | 0 |
Split Toning Balance | 0 |
Split Toning Highlight Hue | 0 |
Split Toning Highlight Saturation | 0 |
Split Toning Shadow Hue | 0 |
Split Toning Shadow Saturation | 0 |
Strip Byte Counts | 48233016 |
Strip Offsets | 34302 |
Subfile Type | Full-resolution Image |
Tone Curve | 0, 0, 32, 22, 64, 56, 128, 128, 192, 196, 255, 255 |
Tone Curve Name | Medium Contrast |
Version | 6.1 |
Vibrance | 0 |
Vignette Amount | 0 |
White Balance | Auto |