Shooting information for this photo
Camera: | SONY ILCE-7M3 |
Exposure: | 0.008 sec. (1/125) |
Aperture: | f/11.0 |
Focal Length: | 28.0 mm (35 mm equivalent: 28.0 mm) |
Flash: | Off, Did not fire |
Exposure mode: | Manual |
Max Aperture: | 2.0 |
Resolution: | 300 x 300 dpi |
Dimension: | 1300 x 867 pixels |
Original Date: | 2019:12:09 10:21:50 |
Created on: | 2019:12:09 10:21:50 |
Modified on: | 2020:02:02 09:02:20 |
Software: | Adobe Photoshop CS6 (Windows) |
Already Applied | True |
Auto Lateral CA | 0 |
Auto White Version | 134348800 |
Blacks 2012 | +6 |
Blue Hue | 0 |
Blue Saturation | 0 |
Brightness Value | 1.39609375 |
Camera Profile | Embedded |
Circle Of Confusion | 0.030 mm |
Clarity 2012 | -23 |
Color Mode | RGB |
Color Noise Reduction | 0 |
Color Space | Uncalibrated |
Contrast | Normal |
Contrast 2012 | 0 |
Convert To Grayscale | False |
Crop Angle | -2.108095 |
Crop Bottom | 0.936957 |
Crop Constrain To Warp | 0 |
Crop Height | 3 |
Crop Left | 0.004345 |
Crop Right | 0.956855 |
Crop Top | 0.058594 |
Crop Unit | Unknown (3) |
Crop Width | 2 |
Custom Rendered | Normal |
Date Created | 2019:12:09 10:21:50 |
Defringe Green Amount | 0 |
Defringe Green Hue Hi | 60 |
Defringe Green Hue Lo | 40 |
Defringe Purple Amount | 0 |
Defringe Purple Hue Hi | 70 |
Defringe Purple Hue Lo | 30 |
Dehaze | 0 |
Digital Zoom Ratio | 1 |
Exposure 2012 | +1.25 |
Exposure Compensation | 0 |
Exposure Mode | Manual |
Field Of View | 65.5 deg |
Focal Length In 35mm Format | 28 mm |
Format | image/jpeg |
Grain Amount | 0 |
Green Hue | 0 |
Green Saturation | 0 |
Has Crop | True |
Has Settings | True |
Highlights 2012 | -20 |
Hue Adjustment Aqua | 0 |
Hue Adjustment Blue | 0 |
Hue Adjustment Green | 0 |
Hue Adjustment Magenta | 0 |
Hue Adjustment Orange | 0 |
Hue Adjustment Purple | 0 |
Hue Adjustment Red | 0 |
Hue Adjustment Yellow | 0 |
Hyperfocal Distance | 2.37 m |
ICC Profile Name | Adobe RGB (1998) |
ISO | 12800 |
Image Size | 1300x867 |
Incremental Temperature | 0 |
Incremental Tint | 0 |
Lens | FE 28mm F2 |
Lens Info | 28mm f/2 |
Lens Manual Distortion Amount | 0 |
Lens Model | FE 28mm F2 |
Lens Profile Enable | 0 |
Lens Profile Setup | LensDefaults |
Light Source | Unknown |
Light Value | 6.9 |
Luminance Adjustment Aqua | 0 |
Luminance Adjustment Blue | 0 |
Luminance Adjustment Green | 0 |
Luminance Adjustment Magenta | 0 |
Luminance Adjustment Orange | 0 |
Luminance Adjustment Purple | 0 |
Luminance Adjustment Red | 0 |
Luminance Adjustment Yellow | 0 |
Luminance Smoothing | 0 |
Metering Mode | Multi-segment |
Parametric Darks | 0 |
Parametric Highlight Split | 75 |
Parametric Highlights | 0 |
Parametric Lights | 0 |
Parametric Midtone Split | 50 |
Parametric Shadow Split | 25 |
Parametric Shadows | 0 |
Perspective Aspect | 0 |
Perspective Horizontal | 0 |
Perspective Rotate | 0.0 |
Perspective Scale | 100 |
Perspective Upright | 0 |
Perspective Vertical | 0 |
Photometric Interpretation | RGB |
Planar Configuration | Chunky |
Post Crop Vignette Amount | 0 |
Process Version | 6.7 |
Rating | 0 |
Raw File Name | DSC00398.JPG |
Recommended Exposure Index | 12800 |
Red Hue | 0 |
Red Saturation | 0 |
Samples Per Pixel | 3 |
Saturation | Normal |
Saturation Adjustment Aqua | 0 |
Saturation Adjustment Blue | 0 |
Saturation Adjustment Green | 0 |
Saturation Adjustment Magenta | 0 |
Saturation Adjustment Orange | 0 |
Saturation Adjustment Purple | 0 |
Saturation Adjustment Red | 0 |
Saturation Adjustment Yellow | 0 |
Scale Factor To 35 mm Equivalent | 1.0 |
Scene Capture Type | Standard |
Scene Type | Directly photographed |
Sensitivity Type | Recommended Exposure Index |
Shadow Tint | 0 |
Shadows 2012 | +8 |
Sharpen Detail | 25 |
Sharpen Edge Masking | 0 |
Sharpen Radius | +1.0 |
Sharpness | Normal |
Split Toning Balance | 0 |
Split Toning Highlight Hue | 0 |
Split Toning Highlight Saturation | 0 |
Split Toning Shadow Hue | 0 |
Split Toning Shadow Saturation | 0 |
Tone Curve | 0, 0, 255, 255 |
Tone Curve Blue | 0, 0, 255, 255 |
Tone Curve Green | 0, 0, 255, 255 |
Tone Curve Name | Linear |
Tone Curve Name 2012 | Linear |
Tone Curve PV2012 | 0, 0, 255, 255 |
Tone Curve PV2012 Blue | 0, 0, 255, 255 |
Tone Curve PV2012 Green | 0, 0, 255, 255 |
Tone Curve PV2012 Red | 0, 0, 255, 255 |
Tone Curve Red | 0, 0, 255, 255 |
Tone Map Strength | 0 |
Version | 9.1.1 |
Vibrance | +3 |
Vignette Amount | 0 |
White Balance | Auto |
Whites 2012 | +15 |