Shooting information for this photo
Camera: | NIKON CORPORATION NIKON D4 |
Exposure: | 0.00313 sec. (1/320) |
Aperture: | f/16.0 |
Focal Length: | 105.0 mm (35 mm equivalent: 105.0 mm) |
Flash: | No Flash |
Exposure mode: | Aperture-priority AE |
Max Aperture: | 2.8 |
Resolution: | 300 x 300 dpi |
Original Date: | 2018:07:22 12:44:35.30 |
Created on: | 2018:07:22 12:44:35.30 |
Modified on: | 2018:10:07 21:27:22 |
Software: | Adobe Photoshop Lightroom Classic 7.5 (Macintosh) |
Copyright: | Jakob Bärfuss, CH-8625 Gossau ZH |
Already Applied | True |
Approximate Focus Distance | 4294967295 |
Artist | Jakob Bäefuss |
Auto Lateral CA | 0 |
Blacks 2012 | +22 |
Blue Hue | 0 |
Blue Saturation | 0 |
CFA Pattern | [Red,Green][Green,Blue] |
Camera Profile | Adobe Standard |
Circle Of Confusion | 0.030 mm |
Clarity 2012 | +30 |
Color Noise Reduction | 25 |
Color Noise Reduction Detail | 50 |
Color Noise Reduction Smoothness | 50 |
Color Space | sRGB |
Color Temperature | 4700 |
Contrast | Normal |
Contrast 2012 | 0 |
Convert To Grayscale | False |
Creator | Jakob Bäefuss |
Custom Rendered | Normal |
Date Created | 2018:07:22 12:44:35.30 |
Defringe Green Amount | 0 |
Defringe Green Hue Hi | 60 |
Defringe Green Hue Lo | 40 |
Defringe Purple Amount | 0 |
Defringe Purple Hue Hi | 70 |
Defringe Purple Hue Lo | 30 |
Dehaze | 0 |
Digital Zoom Ratio | 1 |
Exposure 2012 | +1.20 |
Exposure Compensation | -1 |
Exposure Mode | Auto |
Field Of View | 19.5 deg |
Focal Length In 35mm Format | 105 mm |
Format | image/jpeg |
Gain Control | None |
Gradient Based Corr Active | true |
Gradient Based Corr Amount | 1.000000 |
Gradient Based Corr Brightness | 0.000000 |
Gradient Based Corr Clarity 2012 | 0.000000 |
Gradient Based Corr Contrast 2012 | 0.000000 |
Gradient Based Corr Correction Range Mask Color Amount | 0.500000 |
Gradient Based Corr Correction Range Mask Lum Feather | 0.500000 |
Gradient Based Corr Correction Range Mask Lum Max | 1.000000 |
Gradient Based Corr Correction Range Mask Lum Min | 0.000000 |
Gradient Based Corr Correction Range Mask Type | 0 |
Gradient Based Corr Correction Range Mask Version | +2 |
Gradient Based Corr Defringe | 0.000000 |
Gradient Based Corr Exposure 2012 | -0.025000 |
Gradient Based Corr Highlights 2012 | -0.300919 |
Gradient Based Corr Hue | 0.000000 |
Gradient Based Corr Local Blacks 2012 | -0.044577 |
Gradient Based Corr Local Dehaze | 0.051746 |
Gradient Based Corr Local Whites 2012 | 0.000000 |
Gradient Based Corr Luminance Noise | 0.000000 |
Gradient Based Corr Mask Full X | 0.479959 |
Gradient Based Corr Mask Full Y | 0.163431 |
Gradient Based Corr Mask Value | 1.000000 |
Gradient Based Corr Mask What | Mask/Gradient |
Gradient Based Corr Mask Zero X | 0.455912 |
Gradient Based Corr Mask Zero Y | 0.726953 |
Gradient Based Corr Moire | 0.000000 |
Gradient Based Corr Saturation | 0.000000 |
Gradient Based Corr Shadows 2012 | 0.000000 |
Gradient Based Corr Sharpness | 0.000000 |
Gradient Based Corr Temperature | 0.000000 |
Gradient Based Corr Tint | 0.000000 |
Gradient Based Corr What | Correction |
Grain Amount | 0 |
Green Hue | 0 |
Green Saturation | 0 |
Has Crop | False |
Has Settings | True |
Highlights 2012 | -40 |
Hue Adjustment Aqua | 0 |
Hue Adjustment Blue | 0 |
Hue Adjustment Green | 0 |
Hue Adjustment Magenta | 0 |
Hue Adjustment Orange | 0 |
Hue Adjustment Purple | 0 |
Hue Adjustment Red | 0 |
Hue Adjustment Yellow | 0 |
Hyperfocal Distance | 22.93 m |
ISO | 200 |
Image Number | 61899 |
Image Size | 4928x3280 |
Label | Gelb |
Lens | 105.0 mm f/2.8 |
Lens ID | AF-S VR Micro-Nikkor 105mm f/2.8G IF-ED |
Lens Info | 105mm f/2.8 |
Lens Manual Distortion Amount | 0 |
Lens Model | 105.0 mm f/2.8 |
Lens Profile Enable | 0 |
Lens Profile Setup | LensDefaults |
Light Source | Unknown |
Light Value | 15.3 |
Luminance Adjustment Aqua | 0 |
Luminance Adjustment Blue | -5 |
Luminance Adjustment Green | +15 |
Luminance Adjustment Magenta | 0 |
Luminance Adjustment Orange | +15 |
Luminance Adjustment Purple | 0 |
Luminance Adjustment Red | 0 |
Luminance Adjustment Yellow | +40 |
Luminance Noise Reduction Contrast | 0 |
Luminance Noise Reduction Detail | 50 |
Luminance Smoothing | 10 |
Marked | True |
Metering Mode | Center-weighted average |
Override Look Vignette | False |
Parametric Darks | +5 |
Parametric Highlight Split | 90 |
Parametric Highlights | +5 |
Parametric Lights | -40 |
Parametric Midtone Split | 50 |
Parametric Shadow Split | 20 |
Parametric Shadows | -5 |
Perspective Aspect | 0 |
Perspective Horizontal | 0 |
Perspective Rotate | 0.0 |
Perspective Scale | 100 |
Perspective Upright | 1 |
Perspective Vertical | 0 |
Perspective X | 0.00 |
Perspective Y | 0.00 |
Post Crop Vignette Amount | 0 |
Process Version | 10.0 |
Rating | 3 |
Raw File Name | 2018-07-22_D4__DSC7836.NEF |
Red Hue | 0 |
Red Saturation | 0 |
Rights | Jakob Bärfuss, CH-8625 Gossau ZH |
Saturation | Normal |
Saturation Adjustment Aqua | +3 |
Saturation Adjustment Blue | +15 |
Saturation Adjustment Green | -8 |
Saturation Adjustment Magenta | 0 |
Saturation Adjustment Orange | +10 |
Saturation Adjustment Purple | +20 |
Saturation Adjustment Red | +10 |
Saturation Adjustment Yellow | 0 |
Scale Factor To 35 mm Equivalent | 1.0 |
Scene Capture Type | Standard |
Scene Type | Directly photographed |
Sensing Method | One-chip color area |
Sensitivity Type | Recommended Exposure Index |
Shadow Tint | 0 |
Shadows 2012 | 0 |
Sharpen Detail | 35 |
Sharpen Edge Masking | 5 |
Sharpen Radius | +0.8 |
Sharpness | Normal |
Split Toning Balance | 0 |
Split Toning Highlight Hue | 0 |
Split Toning Highlight Saturation | 0 |
Split Toning Shadow Hue | 0 |
Split Toning Shadow Saturation | 0 |
Subject Distance Range | Unknown |
Tint | +3 |
Tone Curve | 0, 0, 255, 255 |
Tone Curve Blue | 0, 0, 255, 255 |
Tone Curve Green | 0, 0, 255, 255 |
Tone Curve Name | Linear |
Tone Curve Name 2012 | Linear |
Tone Curve PV2012 | 0, 0, 255, 255 |
Tone Curve PV2012 Blue | 0, 0, 255, 255 |
Tone Curve PV2012 Green | 0, 0, 255, 255 |
Tone Curve PV2012 Red | 0, 0, 255, 255 |
Tone Curve Red | 0, 0, 255, 255 |
Tone Map Strength | 0 |
Version | 10.5 |
Vibrance | +4 |
Vignette Amount | 0 |
White Balance | Auto |
Whites 2012 | 0 |