Shooting information for this photo
Camera: | NIKON CORPORATION NIKON D300 |
Exposure: | 0.004 sec. (1/250) |
Aperture: | f/11.0 |
Focal Length: | 70.0 mm (35 mm equivalent: 105.0 mm) |
Flash: | No Flash |
Exposure mode: | Aperture-priority AE |
Max Aperture: | 2.8 |
Resolution: | 360 x 360 dpi |
Original Date: | 2015:05:23 13:56:29.17 |
Created on: | 2015:05:23 13:56:29.17 |
Modified on: | 2015:05:30 22:21:30 |
Software: | Adobe Photoshop Lightroom 5.7 (Windows) |
Copyright: | (C) 2015 Jakob Bärfuss CH-8625 Gossau ZH, all rights reserved |
Already Applied | True |
Approximate Focus Distance | 4294967295 |
Artist | Jakob Bärfuss |
Auto Lateral CA | 0 |
Auto White Version | 134348800 |
Blacks 2012 | -3 |
Blue Hue | 0 |
Blue Saturation | 0 |
CFA Pattern | [Red,Green][Green,Blue] |
Camera Profile | Adobe Standard |
Circle Of Confusion | 0.020 mm |
Clarity 2012 | +30 |
Color Noise Reduction | 35 |
Color Noise Reduction Detail | 50 |
Color Noise Reduction Smoothness | 50 |
Color Temperature | 5200 |
Contrast | Normal |
Contrast 2012 | 0 |
Convert To Grayscale | False |
Creator | Jakob Bärfuss |
Crop Angle | 0 |
Crop Bottom | 0.972789 |
Crop Constrain To Warp | 0 |
Crop Left | 0 |
Crop Right | 0.972789 |
Crop Top | 0 |
Custom Rendered | Normal |
Date Created | 2015:05:23 13:56:29.17 |
Defringe Green Amount | 0 |
Defringe Green Hue Hi | 60 |
Defringe Green Hue Lo | 40 |
Defringe Purple Amount | 0 |
Defringe Purple Hue Hi | 70 |
Defringe Purple Hue Lo | 30 |
Digital Zoom Ratio | 1 |
Exposure 2012 | +0.90 |
Exposure Compensation | -1/3 |
Exposure Mode | Auto |
Field Of View | 19.5 deg |
Focal Length In 35mm Format | 105 mm |
Format | image/jpeg |
Gain Control | Low gain up |
Gradient Based Corr Active | true |
Gradient Based Corr Amount | 1.000000 |
Gradient Based Corr Brightness | 0.000000 |
Gradient Based Corr Clarity 2012 | 0.000000 |
Gradient Based Corr Contrast 2012 | 0.000000 |
Gradient Based Corr Defringe | 0.000000 |
Gradient Based Corr Exposure 2012 | -0.150000 |
Gradient Based Corr Highlights 2012 | -0.030000 |
Gradient Based Corr Hue | 240.000000 |
Gradient Based Corr Luminance Noise | 0.000000 |
Gradient Based Corr Mask Full X | 0.735761 |
Gradient Based Corr Mask Full Y | 0.842873 |
Gradient Based Corr Mask Value | 1.000000 |
Gradient Based Corr Mask What | Mask/Gradient |
Gradient Based Corr Mask Zero X | 0.706711 |
Gradient Based Corr Mask Zero Y | 0.561385 |
Gradient Based Corr Moire | 0.000000 |
Gradient Based Corr Saturation | 0.000000 |
Gradient Based Corr Shadows 2012 | 0.000000 |
Gradient Based Corr Sharpness | 0.000000 |
Gradient Based Corr Temperature | 0.000000 |
Gradient Based Corr Tint | 0.000000 |
Gradient Based Corr What | Correction |
Grain Amount | 0 |
Green Hue | 0 |
Green Saturation | 0 |
Has Crop | True |
Has Settings | True |
Highlights 2012 | 0 |
Hue Adjustment Aqua | 0 |
Hue Adjustment Blue | 0 |
Hue Adjustment Green | 0 |
Hue Adjustment Magenta | 0 |
Hue Adjustment Orange | 0 |
Hue Adjustment Purple | 0 |
Hue Adjustment Red | 0 |
Hue Adjustment Yellow | 0 |
Hyperfocal Distance | 22.24 m |
ISO | 400 |
Image Number | 47139 |
Image Size | 4171x2770 |
Lens | 70.0-200.0 mm f/2.8 |
Lens ID | AF-S VR Zoom-Nikkor 70-200mm f/2.8G IF-ED |
Lens Info | 70-200mm f/2.8 |
Lens Manual Distortion Amount | 0 |
Lens Model | 70.0-200.0 mm f/2.8 |
Lens Profile Enable | 0 |
Lens Profile Setup | LensDefaults |
Light Source | Unknown |
Light Value | 12.9 |
Luminance Adjustment Aqua | 0 |
Luminance Adjustment Blue | 0 |
Luminance Adjustment Green | +25 |
Luminance Adjustment Magenta | 0 |
Luminance Adjustment Orange | -10 |
Luminance Adjustment Purple | 0 |
Luminance Adjustment Red | +5 |
Luminance Adjustment Yellow | +5 |
Luminance Noise Reduction Contrast | 0 |
Luminance Noise Reduction Detail | 50 |
Luminance Smoothing | 15 |
Marked | True |
Metering Mode | Multi-segment |
Parametric Darks | 0 |
Parametric Highlight Split | 85 |
Parametric Highlights | +30 |
Parametric Lights | -20 |
Parametric Midtone Split | 40 |
Parametric Shadow Split | 25 |
Parametric Shadows | -10 |
Perspective Aspect | 0 |
Perspective Horizontal | 0 |
Perspective Rotate | 0.0 |
Perspective Scale | 100 |
Perspective Upright | 0 |
Perspective Vertical | 0 |
Post Crop Vignette Amount | 0 |
Process Version | 6.7 |
Rating | 3 |
Red Hue | 0 |
Red Saturation | 0 |
Rights | (C) 2015 Jakob Bärfuss CH-8625 Gossau ZH, all rights reserved |
Saturation | Normal |
Saturation Adjustment Aqua | 0 |
Saturation Adjustment Blue | +3 |
Saturation Adjustment Green | -6 |
Saturation Adjustment Magenta | 0 |
Saturation Adjustment Orange | +10 |
Saturation Adjustment Purple | 0 |
Saturation Adjustment Red | +3 |
Saturation Adjustment Yellow | +5 |
Scale Factor To 35 mm Equivalent | 1.5 |
Scene Capture Type | Standard |
Scene Type | Directly photographed |
Sensing Method | One-chip color area |
Shadow Tint | 0 |
Shadows 2012 | 0 |
Sharpen Detail | 35 |
Sharpen Edge Masking | 15 |
Sharpen Radius | +1.1 |
Sharpness | Normal |
Split Toning Balance | 0 |
Split Toning Highlight Hue | 0 |
Split Toning Highlight Saturation | 0 |
Split Toning Shadow Hue | 0 |
Split Toning Shadow Saturation | 0 |
Subject | 01 Jakob |
Subject Distance Range | Unknown |
Tint | +20 |
Tone Curve | 0, 0, 255, 255 |
Tone Curve Blue | 0, 0, 255, 255 |
Tone Curve Green | 0, 0, 255, 255 |
Tone Curve Name | Linear |
Tone Curve Name 2012 | Linear |
Tone Curve PV2012 | 0, 0, 255, 255 |
Tone Curve PV2012 Blue | 0, 0, 255, 255 |
Tone Curve PV2012 Green | 0, 0, 255, 255 |
Tone Curve PV2012 Red | 0, 0, 255, 255 |
Tone Curve Red | 0, 0, 255, 255 |
Version | 8.7 |
Vibrance | +4 |
Vignette Amount | 0 |
White Balance | Auto |
Whites 2012 | +28 |