Shooting information for this photo
Camera: | NIKON CORPORATION NIKON D300 |
Exposure: | 0.008 sec. (1/125) |
Aperture: | f/11.0 |
Focal Length: | 105.0 mm (35 mm equivalent: 157.0 mm) |
Flash: | No Flash |
Exposure mode: | Aperture-priority AE |
Max Aperture: | 2.8 |
Resolution: | 240 x 240 dpi |
Original Date: | 2014:07:31 12:55:40.80 |
Created on: | 2014:07:31 12:55:40.80 |
Modified on: | 2014:08:13 22:47:26 |
Software: | Adobe Photoshop Lightroom 5.4 (Windows) |
Copyright: | (C) 2014 Jakob Bärfuss, CH-8625 Gossau ZH, all rights reserved |
Already Applied | True |
Approximate Focus Distance | 4294967295 |
Artist | (C) 2014 Jakob Bärfuss; CH-8625 Gossau ZH; all rights reserved |
Authors Position | Dipl. Naturwissenschafter (Syst. Botanik) |
Auto Lateral CA | 0 |
Auto White Version | 134348800 |
Blacks 2012 | +16 |
Blue Hue | 0 |
Blue Saturation | 0 |
CFA Pattern | [Red,Green][Green,Blue] |
Camera Profile | Adobe Standard |
Circle Of Confusion | 0.020 mm |
Clarity 2012 | +30 |
Color Noise Reduction | 35 |
Color Noise Reduction Detail | 50 |
Color Noise Reduction Smoothness | 50 |
Color Temperature | 4250 |
Contrast | Normal |
Contrast 2012 | 0 |
Convert To Grayscale | False |
Creator | (C) 2014 Jakob Bärfuss, CH-8625 Gossau ZH, all rights reserved |
Custom Rendered | Normal |
Date Created | 2014:07:31 12:55:40.80 |
Defringe Green Amount | 0 |
Defringe Green Hue Hi | 60 |
Defringe Green Hue Lo | 40 |
Defringe Purple Amount | 0 |
Defringe Purple Hue Hi | 70 |
Defringe Purple Hue Lo | 30 |
Digital Zoom Ratio | 1 |
Exposure 2012 | +0.90 |
Exposure Compensation | -4/3 |
Exposure Mode | Auto |
Field Of View | 13.1 deg |
Focal Length In 35mm Format | 157 mm |
Format | image/jpeg |
Gain Control | None |
Grain Amount | 0 |
Green Hue | 0 |
Green Saturation | 0 |
Has Crop | False |
Has Settings | True |
Highlights 2012 | 0 |
Hue Adjustment Aqua | 0 |
Hue Adjustment Blue | 0 |
Hue Adjustment Green | 0 |
Hue Adjustment Magenta | 0 |
Hue Adjustment Orange | 0 |
Hue Adjustment Purple | 0 |
Hue Adjustment Red | 0 |
Hue Adjustment Yellow | 0 |
Hyperfocal Distance | 49.88 m |
ISO | 200 |
Image Number | 44824 |
Image Size | 4288x2848 |
Label | Blau |
Lens | 105.0 mm f/2.8 |
Lens ID | AF-S VR Micro-Nikkor 105mm f/2.8G IF-ED |
Lens Info | 105mm f/2.8 |
Lens Manual Distortion Amount | 0 |
Lens Model | 105.0 mm f/2.8 |
Lens Profile Enable | 0 |
Lens Profile Setup | LensDefaults |
Light Source | Unknown |
Light Value | 12.9 |
Luminance Adjustment Aqua | 0 |
Luminance Adjustment Blue | +30 |
Luminance Adjustment Green | 0 |
Luminance Adjustment Magenta | 0 |
Luminance Adjustment Orange | -35 |
Luminance Adjustment Purple | -30 |
Luminance Adjustment Red | +15 |
Luminance Adjustment Yellow | +12 |
Luminance Noise Reduction Contrast | 50 |
Luminance Noise Reduction Detail | 50 |
Luminance Smoothing | 15 |
Marked | True |
Metering Mode | Center-weighted average |
Parametric Darks | +20 |
Parametric Highlight Split | 85 |
Parametric Highlights | +30 |
Parametric Lights | -35 |
Parametric Midtone Split | 41 |
Parametric Shadow Split | 25 |
Parametric Shadows | -20 |
Perspective Aspect | 0 |
Perspective Horizontal | 0 |
Perspective Rotate | 0.0 |
Perspective Scale | 100 |
Perspective Upright | 0 |
Perspective Vertical | 0 |
Post Crop Vignette Amount | 0 |
Process Version | 6.7 |
Rating | 3 |
Red Hue | 0 |
Red Saturation | 0 |
Rights | (C) 2014 Jakob Bärfuss, CH-8625 Gossau ZH, all rights reserved |
Saturation | Normal |
Saturation Adjustment Aqua | 0 |
Saturation Adjustment Blue | +15 |
Saturation Adjustment Green | 0 |
Saturation Adjustment Magenta | 0 |
Saturation Adjustment Orange | +10 |
Saturation Adjustment Purple | +20 |
Saturation Adjustment Red | +15 |
Saturation Adjustment Yellow | 0 |
Scale Factor To 35 mm Equivalent | 1.5 |
Scene Capture Type | Standard |
Scene Type | Directly photographed |
Sensing Method | One-chip color area |
Shadow Tint | 0 |
Shadows 2012 | 0 |
Sharpen Detail | 35 |
Sharpen Edge Masking | 10 |
Sharpen Radius | +1.0 |
Sharpness | Normal |
Split Toning Balance | 0 |
Split Toning Highlight Hue | 0 |
Split Toning Highlight Saturation | 0 |
Split Toning Shadow Hue | 0 |
Split Toning Shadow Saturation | 0 |
Subject | 01 Jakob, 2014-07-31-bis-08-04 - So-F Seis |
Subject Distance Range | Unknown |
Tint | -9 |
Tone Curve | 0, 0, 255, 255 |
Tone Curve Blue | 0, 0, 255, 255 |
Tone Curve Green | 0, 0, 255, 255 |
Tone Curve Name | Linear |
Tone Curve Name 2012 | Linear |
Tone Curve PV2012 | 0, 0, 255, 255 |
Tone Curve PV2012 Blue | 0, 0, 255, 255 |
Tone Curve PV2012 Green | 0, 0, 255, 255 |
Tone Curve PV2012 Red | 0, 0, 255, 255 |
Tone Curve Red | 0, 0, 255, 255 |
Version | 8.4 |
Vibrance | 0 |
Vignette Amount | 0 |
White Balance | Auto |
Whites 2012 | 0 |