Shooting information for this photo
Camera: | Canon DIGITAL IXUS 500 |
Exposure: | 0.00156 sec. (1/640) |
Aperture: | f/2.8 |
Focal Length: | 7.4 mm (35 mm equivalent: 35.7 mm) |
Flash: | Auto, Did not fire |
Max Aperture: | 2.8 |
Resolution: | 240 x 240 dpi |
Original Date: | 2005:10:17 11:29:08 |
Created on: | 2005:10:17 11:29:08 |
Modified on: | 2012:10:24 09:36:12 |
Software: | Adobe Photoshop Lightroom 4.1 (Windows) |
Copyright: | (C)2005 Jakob Bärfuss CH-8625 Gossau ZH, all rights reserved |
Already Applied | True |
Approximate Focus Distance | 1.67 |
Artist | Jakob Bärfuss |
Authors Position | Dipl. Naturwissenschafter (Botaniker) |
Auto Lateral CA | 0 |
Blue Hue | 0 |
Blue Saturation | 0 |
Brightness | +45 |
Camera Profile | Embedded |
Circle Of Confusion | 0.006 mm |
Clarity | +6 |
Color Noise Reduction | 25 |
Contrast | 0 |
Convert To Grayscale | False |
Creator | Jakob Bärfuss |
Crop Angle | 6.53468 |
Crop Bottom | 1 |
Crop Constrain To Warp | 0 |
Crop Height | 1697 |
Crop Left | 0.103512 |
Crop Right | 0.896487 |
Crop Top | 0 |
Crop Unit | pixels |
Crop Width | 2264 |
Custom Rendered | Normal |
Date Created | 2005:10:17 11:29:08+02:00 |
Defringe Green Amount | 0 |
Defringe Green Hue Hi | 60 |
Defringe Green Hue Lo | 40 |
Defringe Purple Amount | 0 |
Defringe Purple Hue Hi | 70 |
Defringe Purple Hue Lo | 30 |
Digital Zoom Ratio | 1 |
Exposure | -0.40 |
Exposure Compensation | 0 |
Exposure Mode | Auto |
Field Of View | 53.5 deg |
Fill Light | 0 |
Firmware | 1.00 |
Flash Compensation | 0 |
Format | image/jpeg |
Grain Amount | 0 |
Green Hue | 0 |
Green Saturation | 0 |
Has Crop | True |
Has Settings | True |
Highlight Recovery | 83 |
Hue Adjustment Aqua | 0 |
Hue Adjustment Blue | 0 |
Hue Adjustment Green | 0 |
Hue Adjustment Magenta | 0 |
Hue Adjustment Orange | 0 |
Hue Adjustment Purple | 0 |
Hue Adjustment Red | 0 |
Hue Adjustment Yellow | 0 |
Hyperfocal Distance | 3.14 m |
ISO | 50 |
Image Size | 1697x2264 |
Incremental Temperature | 0 |
Incremental Tint | 0 |
Lens | 7.4-22.2 mm |
Lens Info | 7.40625-22.21875mm f/? |
Lens Manual Distortion Amount | 0 |
Lens Model | 7.4-22.2 mm |
Lens Profile Enable | 0 |
Lens Profile Setup | LensDefaults |
Light Value | 13.3 |
Luminance Adjustment Aqua | 0 |
Luminance Adjustment Blue | 0 |
Luminance Adjustment Green | 0 |
Luminance Adjustment Magenta | 0 |
Luminance Adjustment Orange | +5 |
Luminance Adjustment Purple | 0 |
Luminance Adjustment Red | +5 |
Luminance Adjustment Yellow | +25 |
Luminance Smoothing | 10 |
Marked | True |
Metering Mode | Multi-segment |
Parametric Darks | -10 |
Parametric Highlight Split | 75 |
Parametric Highlights | -30 |
Parametric Lights | +5 |
Parametric Midtone Split | 50 |
Parametric Shadow Split | 25 |
Parametric Shadows | -25 |
Perspective Horizontal | 0 |
Perspective Rotate | 0.0 |
Perspective Scale | 100 |
Perspective Vertical | 0 |
Post Crop Vignette Amount | 0 |
Process Version | 5.0 |
Red Hue | 0 |
Red Saturation | 0 |
Rights | (C)2005 Jakob Bärfuss CH-8625 Gossau ZH, all rights reserved |
Saturation | +3 |
Saturation Adjustment Aqua | 0 |
Saturation Adjustment Blue | 0 |
Saturation Adjustment Green | 0 |
Saturation Adjustment Magenta | 0 |
Saturation Adjustment Orange | +6 |
Saturation Adjustment Purple | 0 |
Saturation Adjustment Red | +4 |
Saturation Adjustment Yellow | 0 |
Scale Factor To 35 mm Equivalent | 4.8 |
Scene Capture Type | Standard |
Sensing Method | One-chip color area |
Shadow Tint | 0 |
Shadows | 6 |
Sharpen Detail | 15 |
Sharpen Edge Masking | 0 |
Sharpen Radius | +0.8 |
Sharpness | 20 |
Split Toning Balance | 0 |
Split Toning Highlight Hue | 0 |
Split Toning Highlight Saturation | 0 |
Split Toning Shadow Hue | 0 |
Split Toning Shadow Saturation | 0 |
Subject | 01 Jakob |
Title | -> Kal-10 |
Tone Curve | 0, 0, 255, 255 |
Tone Curve Blue | 0, 0, 255, 255 |
Tone Curve Green | 0, 0, 255, 255 |
Tone Curve Name | Linear |
Tone Curve Red | 0, 0, 255, 255 |
Usage Terms | Nur zur Ansicht, keine Vervielfältigung ohne vorherige Genehmigung |
Version | 7.1 |
Vibrance | 0 |
Vignette Amount | 0 |
White Balance | Auto |