Shooting information for this photo
Camera: | NIKON CORPORATION NIKON D300 |
Exposure: | 0.00313 sec. (1/320) |
Aperture: | f/16.0 |
Focal Length: | 105.0 mm (35 mm equivalent: 157.0 mm) |
Flash: | No Flash |
Exposure mode: | Aperture-priority AE |
Max Aperture: | 3.4 |
Resolution: | 240 x 240 dpi |
Dimension: | 2340 x 2925 pixels |
Original Date: | 2009:08:27 12:39:50.68 |
Digitized Date: | 2009:08:27 12:39:50.68+02:00 |
Created on: | 2009:08:27 12:39:50.68 |
Modified on: | 2010:08:25 20:45:17 |
Software: | Ver.1.10 |
Copyright: | (C)2009 Jakob Barfuss CH-8625 Gossau ZH, all rights reserved |
Already Applied | True |
Artist | (c) Jakob Baerfuss |
Authors Position | Dipl. Naturwissenschafter (Botaniker) |
Blue Hue | 0 |
Blue Saturation | 0 |
Brightness | +40 |
CFA Pattern | [Red,Green][Green,Blue] |
Camera Profile | Adobe Standard |
Chromatic Aberration B | 0 |
Chromatic Aberration R | 0 |
Circle Of Confusion | 0.020 mm |
Clarity | +30 |
Color Noise Reduction | 25 |
Color Temperature | 5200 |
Contrast | Normal |
Convert To Grayscale | False |
Creator | Jakob Bärfuss |
Crop Angle | 0 |
Crop Bottom | 0.895785 |
Crop Height | 2340 |
Crop Left | 0.225035 |
Crop Right | 0.907199 |
Crop Top | 0.074122 |
Crop Unit | pixels |
Crop Width | 2925 |
Custom Rendered | Normal |
Defringe | 0 |
Depth Of Field | 0.010 m (0.465 - 0.475) |
Digital Zoom Ratio | 1 |
Exposure | +0.50 |
Exposure Compensation | -1/3 |
Exposure Mode | Auto |
Field Of View | 13.1 deg |
Fill Light | 0 |
Flash Fired | False |
Flash Function | False |
Flash Mode | Unknown |
Flash Red Eye Mode | False |
Flash Return | No return detection |
Focal Length In 35mm Format | 157 mm |
Gain Control | None |
Green Hue | 0 |
Green Saturation | 0 |
Has Crop | True |
Has Settings | True |
Highlight Recovery | 3 |
Hue Adjustment Aqua | 0 |
Hue Adjustment Blue | 0 |
Hue Adjustment Green | 0 |
Hue Adjustment Magenta | 0 |
Hue Adjustment Orange | +18 |
Hue Adjustment Purple | 0 |
Hue Adjustment Red | 0 |
Hue Adjustment Yellow | 0 |
Hyperfocal Distance | 34.29 m |
ISO | 200 |
Image Number | 6501 |
Image Size | 2340x2925 |
Lens | 105.0 mm f/2.8 |
Lens Info | 105mm f/2.8 |
Light Source | Unknown |
Light Value | 15.3 |
Luminance Adjustment Aqua | 0 |
Luminance Adjustment Blue | -16 |
Luminance Adjustment Green | 0 |
Luminance Adjustment Magenta | 0 |
Luminance Adjustment Orange | 0 |
Luminance Adjustment Purple | 0 |
Luminance Adjustment Red | 0 |
Luminance Adjustment Yellow | +18 |
Luminance Smoothing | 0 |
Marked | True |
Metering Mode | Spot |
Parametric Darks | +16 |
Parametric Highlight Split | 90 |
Parametric Highlights | +42 |
Parametric Lights | -42 |
Parametric Midtone Split | 60 |
Parametric Shadow Split | 40 |
Parametric Shadows | -32 |
Post Crop Vignette Amount | 0 |
Rating | 3 |
Red Hue | 0 |
Red Saturation | 0 |
Rights | (C)2009 Jakob Bärfuss CH-8625 Gossau ZH, all rights reserved |
Saturation | Normal |
Saturation Adjustment Aqua | 0 |
Saturation Adjustment Blue | +22 |
Saturation Adjustment Green | 0 |
Saturation Adjustment Magenta | 0 |
Saturation Adjustment Orange | 0 |
Saturation Adjustment Purple | 0 |
Saturation Adjustment Red | 0 |
Saturation Adjustment Yellow | 0 |
Scale Factor To 35 mm Equivalent | 1.5 |
Scene Capture Type | Standard |
Scene Type | Directly photographed |
Sensing Method | One-chip color area |
Shadow Tint | 0 |
Shadows | 0 |
Sharpen Detail | 40 |
Sharpen Edge Masking | 0 |
Sharpen Radius | +1.0 |
Sharpness | Normal |
Split Toning Balance | 0 |
Split Toning Highlight Hue | 0 |
Split Toning Highlight Saturation | 0 |
Split Toning Shadow Hue | 0 |
Split Toning Shadow Saturation | 0 |
Subject | 01 Jakob |
Subject Distance | 0.47 m |
Subject Distance Range | Unknown |
Tint | +6 |
Title | -> Kal-10-4x5h |
Tone Curve | 0, 0, 32, 22, 64, 56, 128, 128, 192, 196, 255, 255 |
Tone Curve Name | Medium Contrast |
Usage Terms | Nur zur Ansicht, keine Vervielfältigung ohne vorherige Genehmigung |
Version | 5.7 |
Vibrance | +5 |
Vignette Amount | 0 |
White Balance | Auto |