Shooting information for this photo
Camera: | Canon EOS 30D |
Exposure: | 0.00016 sec. (1/6400) |
Aperture: | f/4.0 |
Focal Length: | 300.0 mm (35 mm equivalent: 480.4 mm) |
Flash: | Off, Did not fire |
Exposure mode: | Aperture-priority AE |
Max Aperture: | 4.0 |
Resolution: | 333 x 333 dpi |
Dimension: | 1600 x 1067 pixels |
Original Date: | 2011:04:30 08:18:02 |
Created on: | 2011:04:30 08:18:02 |
Modified on: | 2014:10:23 11:14:25 |
Software: | Adobe Photoshop CS5 Windows |
Already Applied | True |
Artist | unknown |
Auto Lateral CA | 0 |
Blacks 2012 | 0 |
Blue Hue | 0 |
Blue Saturation | 0 |
Brightness | +35 |
Camera Profile | Adobe Standard |
Circle Of Confusion | 0.019 mm |
Clarity | +39 |
Clarity 2012 | 0 |
Color Mode | RGB |
Color Noise Reduction | 27 |
Color Noise Reduction Detail | 52 |
Color Space | sRGB |
Color Temperature | 4650 |
Contrast | +49 |
Contrast 2012 | 0 |
Convert To Grayscale | False |
Creator | unknown |
Custom Rendered | Normal |
Date Created | 2011:04:30 08:18:02 |
Defringe | 0 |
Exposure | +0.80 |
Exposure 2012 | 0.00 |
Exposure Compensation | -1/3 |
Exposure Mode | Auto |
Field Of View | 4.3 deg |
Fill Light | 0 |
Firmware | 1.0.5 |
Flash Compensation | -0.333333333333333 |
Format | image/jpeg |
Grain Amount | 0 |
Green Hue | 0 |
Green Saturation | 0 |
Has Crop | False |
Has Settings | True |
Highlight Recovery | 11 |
Highlights 2012 | 0 |
Hue Adjustment Aqua | 0 |
Hue Adjustment Blue | 0 |
Hue Adjustment Green | 0 |
Hue Adjustment Magenta | 0 |
Hue Adjustment Orange | 0 |
Hue Adjustment Purple | 0 |
Hue Adjustment Red | 0 |
Hue Adjustment Yellow | 0 |
Hyperfocal Distance | 1199.27 m |
ICC Profile Name | sRGB IEC61966-2.1 |
ISO | 400 |
Image Number | 192 |
Image Size | 1600x1067 |
Lens | EF300mm f/4L IS USM |
Lens Info | 300mm f/? |
Lens Manual Distortion Amount | 0 |
Lens Model | EF300mm f/4L IS USM |
Lens Profile Enable | 0 |
Lens Profile Setup | LensDefaults |
Light Value | 14.6 |
Luminance Adjustment Aqua | 0 |
Luminance Adjustment Blue | 0 |
Luminance Adjustment Green | 0 |
Luminance Adjustment Magenta | 0 |
Luminance Adjustment Orange | 0 |
Luminance Adjustment Purple | 0 |
Luminance Adjustment Red | 0 |
Luminance Adjustment Yellow | 0 |
Luminance Noise Reduction Contrast | 2 |
Luminance Noise Reduction Detail | 53 |
Luminance Smoothing | 20 |
Metering Mode | Multi-segment |
Owner Name | unknown |
Parametric Darks | 0 |
Parametric Highlight Split | 75 |
Parametric Highlights | 0 |
Parametric Lights | 0 |
Parametric Midtone Split | 50 |
Parametric Shadow Split | 25 |
Parametric Shadows | 0 |
Perspective Horizontal | 0 |
Perspective Rotate | 0.0 |
Perspective Scale | 100 |
Perspective Vertical | 0 |
Post Crop Vignette Amount | 0 |
Process Version | 5.7 |
Rating | 0 |
Raw File Name | 209.CR2 |
Red Hue | 0 |
Red Saturation | 0 |
Saturation | +1 |
Saturation Adjustment Aqua | 0 |
Saturation Adjustment Blue | 0 |
Saturation Adjustment Green | 0 |
Saturation Adjustment Magenta | 0 |
Saturation Adjustment Orange | 0 |
Saturation Adjustment Purple | 0 |
Saturation Adjustment Red | 0 |
Saturation Adjustment Yellow | 0 |
Scale Factor To 35 mm Equivalent | 1.6 |
Scene Capture Type | Standard |
Shadow Tint | 0 |
Shadows | 2 |
Shadows 2012 | 0 |
Sharpen Detail | 47 |
Sharpen Edge Masking | 83 |
Sharpen Radius | +1.0 |
Sharpness | 84 |
Split Toning Balance | 0 |
Split Toning Highlight Hue | 0 |
Split Toning Highlight Saturation | 0 |
Split Toning Shadow Hue | 0 |
Split Toning Shadow Saturation | 0 |
Tint | +6 |
Tone Curve | 0, 0, 32, 22, 64, 56, 128, 128, 192, 196, 255, 255 |
Tone Curve Blue | 0, 0, 255, 255 |
Tone Curve Green | 0, 0, 255, 255 |
Tone Curve Name | Medium Contrast |
Tone Curve Name 2012 | Linear |
Tone Curve PV2012 | 0, 0, 255, 255 |
Tone Curve PV2012 Blue | 0, 0, 255, 255 |
Tone Curve PV2012 Green | 0, 0, 255, 255 |
Tone Curve PV2012 Red | 0, 0, 255, 255 |
Tone Curve Red | 0, 0, 255, 255 |
Version | 6.7 |
Vibrance | +19 |
Vignette Amount | 0 |
White Balance | Auto |
Whites 2012 | 0 |