Shooting information for this photo
Camera: | NIKON CORPORATION NIKON D810 |
Exposure: | 0.00063 sec. (1/1600) |
Aperture: | f/2.8 |
Focal Length: | 50.0 mm (35 mm equivalent: 50.0 mm) |
Flash: | Off, Did not fire |
Exposure mode: | Aperture-priority AE |
Max Aperture: | 1.4 |
Resolution: | 240 x 240 dpi |
Original Date: | 2024:09:16 07:17:24.16 |
Created on: | 2024:09:16 07:17:24.16 |
Modified on: | 2024:09:16 07:58:27 |
Software: | Adobe Lightroom 7.5 (Macintosh) |
Already Applied | True |
Auto Lateral CA | 0 |
Blacks 2012 | -2 |
Blue Hue | 0 |
Blue Saturation | 0 |
CFA Pattern | [Red,Green][Green,Blue] |
Camera Profile | Adobe Standard |
Circle Of Confusion | 0.030 mm |
Clarity 2012 | -15 |
Color Grade Blending | 50 |
Color Grade Global Hue | 60 |
Color Grade Global Lum | +2 |
Color Grade Global Sat | 2 |
Color Grade Highlight Lum | -5 |
Color Grade Midtone Hue | 60 |
Color Grade Midtone Lum | -10 |
Color Grade Midtone Sat | 15 |
Color Grade Shadow Lum | -23 |
Color Noise Reduction | 20 |
Color Noise Reduction Detail | 50 |
Color Noise Reduction Smoothness | 50 |
Color Space | sRGB |
Color Temperature | 8000 |
Contrast | Normal |
Contrast 2012 | 0 |
Crop Angle | -1.85 |
Crop Bottom | 0.953837 |
Crop Constrain To Warp | 0 |
Crop Left | 0.012801 |
Crop Right | 0.987199 |
Crop Top | 0.046163 |
Curve Refine Saturation | 100 |
Custom Rendered | Normal |
Date Created | 2024:09:16 07:17:24.16 |
Defringe Green Amount | 0 |
Defringe Green Hue Hi | 60 |
Defringe Green Hue Lo | 40 |
Defringe Purple Amount | 0 |
Defringe Purple Hue Hi | 70 |
Defringe Purple Hue Lo | 30 |
Dehaze | +35 |
Digital Zoom Ratio | 1 |
Exposure 2012 | +0.23 |
Exposure Compensation | -2 |
Exposure Mode | Auto |
Field Of View | 39.6 deg |
Focal Length In 35mm Format | 50 mm |
Format | image/jpeg |
Gain Control | None |
Grain Amount | 10 |
Grain Frequency | 50 |
Grain Size | 25 |
Green Hue | 0 |
Green Saturation | 0 |
HDR Edit Mode | 0 |
Has Crop | True |
Has Settings | True |
Highlights 2012 | -43 |
Hue Adjustment Aqua | +10 |
Hue Adjustment Blue | -21 |
Hue Adjustment Green | -44 |
Hue Adjustment Magenta | 0 |
Hue Adjustment Orange | -5 |
Hue Adjustment Purple | 0 |
Hue Adjustment Red | -4 |
Hue Adjustment Yellow | -25 |
Hyperfocal Distance | 29.72 m |
ISO | 200 |
Image Number | 8296 |
Image Size | 2048x1367 |
Lens | Zeiss Planar T* 1.4/50 ZF.2 |
Lens Info | 50mm f/1.4 |
Lens Manual Distortion Amount | 0 |
Lens Model | Zeiss Planar T* 1.4/50 ZF.2 |
Lens Profile Enable | 0 |
Light Source | Unknown |
Light Value | 12.6 |
Look Amount | 1 |
Look Cluster | Adobe |
Look Group | Modern |
Look Name | Modern 02 |
Look Parameters Convert To Grayscale | False |
Look Parameters Look Table | E1095149FDB39D7A057BAB208837E2 E1 |
Look Parameters Process Version | 15.4 |
Look Parameters RGB Table | 01FE8C9326A018498B6E3DC8EB5535 B6 |
Look Parameters RGB Table Amount | 0.75 |
Look Parameters Version | 16.5 |
Look Supports Monochrome | false |
Luminance Adjustment Aqua | +15 |
Luminance Adjustment Blue | +41 |
Luminance Adjustment Green | +13 |
Luminance Adjustment Magenta | +8 |
Luminance Adjustment Orange | +3 |
Luminance Adjustment Purple | +8 |
Luminance Adjustment Red | -28 |
Luminance Adjustment Yellow | +25 |
Luminance Smoothing | 0 |
Metering Mode | Multi-segment |
Override Look Vignette | False |
Parametric Darks | 0 |
Parametric Highlight Split | 75 |
Parametric Highlights | 0 |
Parametric Lights | 0 |
Parametric Midtone Split | 50 |
Parametric Shadow Split | 25 |
Parametric Shadows | 0 |
Perspective Aspect | 0 |
Perspective Horizontal | 0 |
Perspective Rotate | 0.0 |
Perspective Scale | 100 |
Perspective Upright | 0 |
Perspective Vertical | 0 |
Perspective X | 0.00 |
Perspective Y | 0.00 |
Point Colors | -1.000000, -1.000000, -1.000000, -1.000000, -1.000000, -1.000000, -1.000000, -1.000000, -1.000000, -1.000000, -1.000000, -1.000000, -1.000000, -1.000000, -1.000000, -1.000000, -1.000000, -1.000000, -1.000000 |
Post Crop Vignette Amount | -20 |
Post Crop Vignette Feather | 50 |
Post Crop Vignette Highlight Contrast | 0 |
Post Crop Vignette Midpoint | 50 |
Post Crop Vignette Roundness | 0 |
Post Crop Vignette Style | 1 |
Process Version | 15.4 |
Raw File Name | DSC_8217.NEF |
Red Hue | 0 |
Red Saturation | 0 |
Saturation | Normal |
Saturation Adjustment Aqua | +29 |
Saturation Adjustment Blue | -11 |
Saturation Adjustment Green | -28 |
Saturation Adjustment Magenta | -78 |
Saturation Adjustment Orange | +17 |
Saturation Adjustment Purple | -78 |
Saturation Adjustment Red | -5 |
Saturation Adjustment Yellow | -14 |
Scale Factor To 35 mm Equivalent | 1.0 |
Scene Capture Type | Landscape |
Scene Type | Directly photographed |
Sensing Method | One-chip color area |
Sensitivity Type | Recommended Exposure Index |
Shadow Tint | 0 |
Shadows 2012 | -13 |
Sharpen Detail | 25 |
Sharpen Edge Masking | 0 |
Sharpen Radius | +1.0 |
Sharpness | Normal |
Split Toning Balance | 0 |
Split Toning Highlight Hue | 83 |
Split Toning Highlight Saturation | 14 |
Split Toning Shadow Hue | 235 |
Split Toning Shadow Saturation | 38 |
Subject Distance Range | Unknown |
Texture | +4 |
Tint | -11 |
Tone Curve Name 2012 | Custom |
Tone Curve PV2012 | 0, 13, 64, 67, 142, 127, 188, 170, 255, 240 |
Tone Curve PV2012 Blue | 0, 0, 67, 69, 127, 141, 255, 255 |
Tone Curve PV2012 Green | 0, 12, 255, 255 |
Tone Curve PV2012 Red | 0, 8, 65, 74, 128, 140, 214, 222, 255, 255 |
Version | 16.5 |
Vibrance | +18 |
Vignette Amount | 0 |
White Balance | Auto |
Whites 2012 | -33 |