Shooting information for this photo
Camera: | NIKON CORPORATION NIKON D810 |
Exposure: | 0.001 sec. (1/1000) |
Aperture: | f/4.0 |
Focal Length: | 50.0 mm (35 mm equivalent: 50.0 mm) |
Flash: | Off, Did not fire |
Exposure mode: | Aperture-priority AE |
Max Aperture: | 1.4 |
Resolution: | 240 x 240 dpi |
Original Date: | 2024:08:17 07:39:52.39 |
Created on: | 2024:08:17 07:39:52.39 |
Modified on: | 2024:08:17 07:24:01 |
Software: | Adobe Lightroom 7.4.1 (Macintosh) |
Already Applied | True |
Auto Lateral CA | 0 |
Blacks 2012 | +20 |
Blue Hue | 0 |
Blue Saturation | 0 |
CFA Pattern | [Red,Green][Green,Blue] |
Camera Profile | Adobe Standard |
Circle Of Confusion | 0.030 mm |
Clarity 2012 | +75 |
Color Grade Blending | 50 |
Color Grade Global Hue | 0 |
Color Grade Global Lum | 0 |
Color Grade Global Sat | 0 |
Color Grade Highlight Lum | 0 |
Color Grade Midtone Hue | 0 |
Color Grade Midtone Lum | 0 |
Color Grade Midtone Sat | 0 |
Color Grade Shadow Lum | 0 |
Color Noise Reduction | 7 |
Color Noise Reduction Detail | 50 |
Color Noise Reduction Smoothness | 50 |
Color Space | sRGB |
Color Temperature | 6100 |
Contrast | Normal |
Contrast 2012 | +16 |
Crop Angle | 0 |
Crop Bottom | 1 |
Crop Constrain To Warp | 0 |
Crop Left | 0.058273 |
Crop Right | 1 |
Crop Top | 0.059295 |
Custom Rendered | Normal |
Date Created | 2024:08:17 07:39:52.39 |
Defringe Green Amount | 0 |
Defringe Green Hue Hi | 60 |
Defringe Green Hue Lo | 40 |
Defringe Purple Amount | 0 |
Defringe Purple Hue Hi | 70 |
Defringe Purple Hue Lo | 30 |
Dehaze | +18 |
Digital Zoom Ratio | 1 |
Exposure 2012 | -1.44 |
Exposure Compensation | 0 |
Exposure Mode | Auto |
Field Of View | 39.6 deg |
Focal Length In 35mm Format | 50 mm |
Format | image/jpeg |
Gain Control | Low gain up |
Grain Amount | 0 |
Gray Mixer Aqua | 0 |
Gray Mixer Blue | 0 |
Gray Mixer Green | 0 |
Gray Mixer Magenta | 0 |
Gray Mixer Orange | 0 |
Gray Mixer Purple | 0 |
Gray Mixer Red | 0 |
Gray Mixer Yellow | 0 |
Green Hue | 0 |
Green Saturation | 0 |
HDR Edit Mode | 0 |
Has Crop | True |
Has Settings | True |
Highlights 2012 | -65 |
Hue Adjustment Aqua | 0 |
Hue Adjustment Blue | 0 |
Hue Adjustment Green | 0 |
Hue Adjustment Magenta | 0 |
Hue Adjustment Orange | 0 |
Hue Adjustment Purple | 0 |
Hue Adjustment Red | 0 |
Hue Adjustment Yellow | 0 |
Hyperfocal Distance | 20.80 m |
ISO | 400 |
Image Number | 8272 |
Image Size | 2048x1365 |
Lens | Zeiss Planar T* 1.4/50 ZF.2 |
Lens Info | 50mm f/1.4 |
Lens Manual Distortion Amount | 0 |
Lens Model | Zeiss Planar T* 1.4/50 ZF.2 |
Lens Profile Enable | 0 |
Light Source | Unknown |
Light Value | 12.0 |
Look Amount | 1 |
Look Group | Profiles |
Look Name | Adobe Monochrome |
Look Parameters Camera Profile | Adobe Standard |
Look Parameters Clarity 2012 | +8 |
Look Parameters Convert To Grayscale | True |
Look Parameters Look Table | 73ED6C18DDE909DD7EA2D771F5AC28 2D |
Look Parameters Process Version | 15.4 |
Look Parameters Tone Curve PV2012 | 0, 0, 64, 56, 128, 128, 192, 197, 255, 255 |
Look Parameters Tone Curve PV2012 Blue | 0, 0, 255, 255 |
Look Parameters Tone Curve PV2012 Green | 0, 0, 255, 255 |
Look Parameters Tone Curve PV2012 Red | 0, 0, 255, 255 |
Look Parameters Version | 16.4 |
Look Supports Amount | false |
Look Supports Monochrome | false |
Look Supports Output Referred | false |
Luminance Adjustment Aqua | 0 |
Luminance Adjustment Blue | 0 |
Luminance Adjustment Green | 0 |
Luminance Adjustment Magenta | 0 |
Luminance Adjustment Orange | 0 |
Luminance Adjustment Purple | 0 |
Luminance Adjustment Red | 0 |
Luminance Adjustment Yellow | 0 |
Luminance Noise Reduction Contrast | 0 |
Luminance Noise Reduction Detail | 75 |
Luminance Smoothing | 1 |
Metering Mode | Multi-segment |
Override Look Vignette | False |
Parametric Darks | 0 |
Parametric Highlight Split | 75 |
Parametric Highlights | 0 |
Parametric Lights | 0 |
Parametric Midtone Split | 50 |
Parametric Shadow Split | 25 |
Parametric Shadows | 0 |
Perspective Aspect | 0 |
Perspective Horizontal | 0 |
Perspective Rotate | 0.0 |
Perspective Scale | 100 |
Perspective Upright | 0 |
Perspective Vertical | 0 |
Perspective X | 0.00 |
Perspective Y | 0.00 |
Point Colors | -1.000000, -1.000000, -1.000000, -1.000000, -1.000000, -1.000000, -1.000000, -1.000000, -1.000000, -1.000000, -1.000000, -1.000000, -1.000000, -1.000000, -1.000000, -1.000000, -1.000000, -1.000000, -1.000000 |
Post Crop Vignette Amount | -13 |
Post Crop Vignette Feather | 50 |
Post Crop Vignette Highlight Contrast | 0 |
Post Crop Vignette Midpoint | 50 |
Post Crop Vignette Roundness | 0 |
Post Crop Vignette Style | 1 |
Process Version | 15.4 |
Raw File Name | DSC_8193.NEF |
Red Hue | 0 |
Red Saturation | 0 |
Saturation | Normal |
Saturation Adjustment Aqua | 0 |
Saturation Adjustment Blue | 0 |
Saturation Adjustment Green | 0 |
Saturation Adjustment Magenta | 0 |
Saturation Adjustment Orange | 0 |
Saturation Adjustment Purple | 0 |
Saturation Adjustment Red | 0 |
Saturation Adjustment Yellow | 0 |
Scale Factor To 35 mm Equivalent | 1.0 |
Scene Capture Type | Landscape |
Scene Type | Directly photographed |
Sensing Method | One-chip color area |
Sensitivity Type | Recommended Exposure Index |
Shadow Tint | 0 |
Shadows 2012 | +70 |
Sharpen Detail | 25 |
Sharpen Edge Masking | 0 |
Sharpen Radius | +2.0 |
Sharpness | Normal |
Split Toning Balance | 0 |
Split Toning Highlight Hue | 0 |
Split Toning Highlight Saturation | 0 |
Split Toning Shadow Hue | 0 |
Split Toning Shadow Saturation | 0 |
Subject Distance Range | Unknown |
Texture | +6 |
Tint | +7 |
Tone Curve Name 2012 | Linear |
Tone Curve PV2012 | 0, 0, 255, 255 |
Tone Curve PV2012 Blue | 0, 0, 255, 255 |
Tone Curve PV2012 Green | 0, 0, 255, 255 |
Tone Curve PV2012 Red | 0, 0, 255, 255 |
Version | 16.4 |
Vibrance | 0 |
Vignette Amount | 0 |
White Balance | Auto |
Whites 2012 | -35 |