Shooting information for this photo
Camera: | RICOH IMAGING COMPANY, LTD. GR II |
Exposure: | 0.0125 sec. (1/80) |
Aperture: | f/4.0 |
Focal Length: | 18.3 mm (35 mm equivalent: 28.0 mm) |
Flash: | Off, Did not fire |
Exposure mode: | Aperture-priority AE |
Max Aperture: | 2.8 |
Resolution: | 240 x 240 dpi |
Original Date: | 2020:08:02 15:40:35 |
Created on: | 2020:08:02 15:40:35 |
Modified on: | 2020:08:02 17:10:17 |
Software: | Adobe Lightroom 3.2 (Macintosh) |
Already Applied | True |
Auto Lateral CA | 0 |
Blacks 2012 | -30 |
Blue Hue | 0 |
Blue Saturation | 0 |
Brightness Value | 4.2 |
Camera Profile | Adobe Standard |
Circle Of Confusion | 0.020 mm |
Clarity 2012 | 0 |
Color Noise Reduction | 25 |
Color Noise Reduction Detail | 50 |
Color Noise Reduction Smoothness | 50 |
Color Space | sRGB |
Color Temperature | 5150 |
Contrast 2012 | 0 |
Convert To Grayscale | True |
Date Created | 2020:08:02 15:40:35 |
Dehaze | 0 |
Exposure 2012 | 0.00 |
Exposure Compensation | -0.3 |
Exposure Mode | Auto |
Field Of View | 65.5 deg |
Focal Length In 35mm Format | 28 mm |
Format | image/jpeg |
Grain Amount | 0 |
Gray Mixer Aqua | -16 |
Gray Mixer Blue | +15 |
Gray Mixer Green | -28 |
Gray Mixer Magenta | +4 |
Gray Mixer Orange | -21 |
Gray Mixer Purple | +19 |
Gray Mixer Red | -12 |
Gray Mixer Yellow | -25 |
Green Hue | 0 |
Green Saturation | 0 |
Has Crop | False |
Has Settings | True |
Highlights 2012 | 0 |
Hyperfocal Distance | 4.26 m |
ISO | 200 |
Image Size | 2048x1356 |
Lens | GR LENS |
Lens Info | 18.3mm f/2.8 |
Lens Make | RICOH IMAGING COMPANY, LTD. |
Lens Manual Distortion Amount | 0 |
Lens Model | GR LENS |
Lens Profile Enable | 0 |
Lens Profile Setup | LensDefaults |
Light Source | Fine Weather |
Light Value | 9.3 |
Look Amount | 1.000000 |
Look Cluster | Adobe |
Look Group | B&W |
Look Name | B&W 03 |
Look Parameters Clarity 2012 | +8 |
Look Parameters Contrast 2012 | +57 |
Look Parameters Convert To Grayscale | True |
Look Parameters Look Table | 62CE423BDCA099FE0B786CA01EB606 B0 |
Look Parameters Process Version | 11.0 |
Look Parameters Tone Curve PV2012 | 0, 0, 29, 25, 128, 128, 192, 196, 255, 255 |
Look Parameters Tone Curve PV2012 Blue | 0, 0, 255, 255 |
Look Parameters Tone Curve PV2012 Green | 0, 0, 255, 255 |
Look Parameters Tone Curve PV2012 Red | 0, 0, 255, 255 |
Look Parameters Version | 12.2 |
Look Sort Name | B&W 03 |
Look Supports Monochrome | false |
Luminance Smoothing | 0 |
Metering Mode | Spot |
Override Look Vignette | False |
Parametric Darks | 0 |
Parametric Highlight Split | 75 |
Parametric Highlights | 0 |
Parametric Lights | 0 |
Parametric Midtone Split | 50 |
Parametric Shadow Split | 25 |
Parametric Shadows | 0 |
Perspective Aspect | 0 |
Perspective Horizontal | 0 |
Perspective Rotate | 0.0 |
Perspective Scale | 100 |
Perspective Upright | 0 |
Perspective Vertical | 0 |
Perspective X | 0.00 |
Perspective Y | 0.00 |
Post Crop Vignette Amount | 0 |
Process Version | 11.0 |
Red Hue | 0 |
Red Saturation | 0 |
Scale Factor To 35 mm Equivalent | 1.5 |
Scene Capture Type | Standard |
Shadow Tint | 0 |
Shadows 2012 | 0 |
Sharpen Detail | 25 |
Sharpen Edge Masking | 0 |
Sharpen Radius | +1.0 |
Sharpness | Normal |
Split Toning Balance | 0 |
Split Toning Highlight Hue | 0 |
Split Toning Highlight Saturation | 0 |
Split Toning Shadow Hue | 0 |
Split Toning Shadow Saturation | 0 |
Texture | 0 |
Tint | +11 |
Tone Curve | 0, 0, 255, 255 |
Tone Curve Blue | 0, 0, 255, 255 |
Tone Curve Green | 0, 0, 255, 255 |
Tone Curve Name | Linear |
Tone Curve Name 2012 | Linear |
Tone Curve PV2012 | 0, 0, 255, 255 |
Tone Curve PV2012 Blue | 0, 0, 255, 255 |
Tone Curve PV2012 Green | 0, 0, 255, 255 |
Tone Curve PV2012 Red | 0, 0, 255, 255 |
Tone Curve Red | 0, 0, 255, 255 |
Tone Map Strength | 0 |
Version | 12.2 |
Vignette Amount | 0 |
White Balance | Manual |
Whites 2012 | +30 |