Shooting information for this photo
Camera: | FUJIFILM X-Pro1 |
Exposure: | 0.00333 sec. (1/300) |
Aperture: | f/1.0 |
Focal Length: | 35.0 mm (35 mm equivalent: 53.0 mm) |
Flash: | Off, Did not fire |
Exposure mode: | Aperture-priority AE |
Resolution: | 240 x 240 dpi |
Original Date: | 2019:07:15 14:20:24 |
Created on: | 2019:07:15 14:20:24 |
Modified on: | 2019:07:15 17:05:20 |
Software: | Adobe Lightroom 2.3 (Macintosh) |
Already Applied | True |
Auto Lateral CA | 1 |
Blacks 2012 | 0 |
Blue Hue | 0 |
Blue Saturation | 0 |
Brightness Value | 1.93 |
Camera Profile | Adobe Standard |
Circle Of Confusion | 0.020 mm |
Clarity 2012 | +10 |
Color Noise Reduction | 25 |
Color Noise Reduction Detail | 50 |
Color Noise Reduction Smoothness | 50 |
Color Space | sRGB |
Color Temperature | 6655 |
Contrast 2012 | +7 |
Convert To Grayscale | True |
Crop Angle | -1.84478 |
Crop Bottom | 0.955545 |
Crop Constrain To Warp | 0 |
Crop Left | 0.013528 |
Crop Right | 0.953425 |
Crop Top | 0.07986 |
Custom Rendered | Normal |
Date Created | 2019:07:15 14:20:24 |
Dehaze | 0 |
Exposure 2012 | 0.00 |
Exposure Compensation | 0 |
Exposure Mode | Auto |
Field Of View | 37.5 deg |
Focal Length In 35mm Format | 53 mm |
Format | image/jpeg |
Grain Amount | 0 |
Gray Mixer Aqua | -16 |
Gray Mixer Blue | +15 |
Gray Mixer Green | -28 |
Gray Mixer Magenta | +4 |
Gray Mixer Orange | -21 |
Gray Mixer Purple | +19 |
Gray Mixer Red | -12 |
Gray Mixer Yellow | -25 |
Green Hue | 0 |
Green Saturation | 0 |
Has Crop | True |
Has Settings | True |
Highlights 2012 | -47 |
Hyperfocal Distance | 61.74 m |
ISO | 400 |
Image Size | 4507x3005 |
Lateral Chromatic Aberration Correction Already Applied | True |
Lens | 35.0 mm |
Lens Info | 35mm f/? |
Lens Manual Distortion Amount | 0 |
Lens Model | 35.0 mm |
Lens Profile Enable | 0 |
Lens Profile Setup | LensDefaults |
Light Source | Daylight |
Light Value | 6.2 |
Look Amount | 1.000000 |
Look Cluster | Adobe |
Look Group | B&W |
Look Name | B&W 10 |
Look Parameters Clarity 2012 | +8 |
Look Parameters Contrast 2012 | +8 |
Look Parameters Convert To Grayscale | True |
Look Parameters Look Table | AC0E24EFC658D3BD29B430044AE2FB 7C |
Look Parameters Process Version | 11.0 |
Look Parameters Tone Curve PV2012 | 0, 0, 64, 75, 192, 175, 255, 255 |
Look Parameters Tone Curve PV2012 Blue | 0, 0, 255, 255 |
Look Parameters Tone Curve PV2012 Green | 0, 0, 255, 255 |
Look Parameters Tone Curve PV2012 Red | 0, 0, 255, 255 |
Look Parameters Version | 11.3 |
Look Sort Name | B&W 10 |
Look Supports Monochrome | false |
Luminance Smoothing | 0 |
Metering Mode | Multi-segment |
Override Look Vignette | False |
Parametric Darks | 0 |
Parametric Highlight Split | 75 |
Parametric Highlights | 0 |
Parametric Lights | 0 |
Parametric Midtone Split | 50 |
Parametric Shadow Split | 25 |
Parametric Shadows | 0 |
Perspective Aspect | 0 |
Perspective Horizontal | 0 |
Perspective Rotate | 0.0 |
Perspective Scale | 100 |
Perspective Upright | 0 |
Perspective Vertical | 0 |
Perspective X | 0.00 |
Perspective Y | 0.00 |
Post Crop Vignette Amount | 0 |
Process Version | 11.0 |
Raw File Name | DSCF5083.RAF |
Red Hue | 0 |
Red Saturation | 0 |
Scale Factor To 35 mm Equivalent | 1.5 |
Scene Capture Type | Standard |
Scene Type | Directly photographed |
Sensing Method | One-chip color area |
Sensitivity Type | Standard Output Sensitivity |
Shadow Tint | 0 |
Shadows 2012 | 0 |
Sharpen Detail | 25 |
Sharpen Edge Masking | 0 |
Sharpen Radius | +1.0 |
Sharpness | Normal |
Split Toning Balance | 0 |
Split Toning Highlight Hue | 0 |
Split Toning Highlight Saturation | 0 |
Split Toning Shadow Hue | 0 |
Split Toning Shadow Saturation | 0 |
Subject Distance Range | Unknown |
Texture | 0 |
Tint | +16 |
Tone Curve | 0, 0, 255, 255 |
Tone Curve Blue | 0, 0, 255, 255 |
Tone Curve Green | 0, 0, 255, 255 |
Tone Curve Name | Linear |
Tone Curve Name 2012 | Linear |
Tone Curve PV2012 | 0, 0, 255, 255 |
Tone Curve PV2012 Blue | 0, 0, 255, 255 |
Tone Curve PV2012 Green | 0, 0, 255, 255 |
Tone Curve PV2012 Red | 0, 0, 255, 255 |
Tone Curve Red | 0, 0, 255, 255 |
Tone Map Strength | 0 |
Version | 11.3 |
Vignette Amount | 0 |
White Balance | Manual |
Whites 2012 | +30 |