Shooting information for this photo
Camera: | RICOH IMAGING COMPANY, LTD. GR II |
Exposure: | 0.008 sec. (1/125) |
Aperture: | f/5.6 |
Focal Length: | 18.3 mm (35 mm equivalent: 28.0 mm) |
Flash: | Off, Did not fire |
Exposure mode: | Program AE |
Max Aperture: | 2.8 |
Resolution: | 400 x 400 dpi |
Original Date: | 2019:03:06 08:33:06 |
Created on: | 2019:03:06 08:33:06 |
Modified on: | 2019:03:06 10:16:08 |
Software: | Adobe Photoshop Lightroom 6.14 (Macintosh) |
Already Applied | True |
Auto Lateral CA | 0 |
Auto White Version | 134348800 |
Blacks 2012 | -27 |
Blue Hue | 0 |
Blue Saturation | 0 |
Brightness Value | 6.8 |
Camera Profile | Adobe Standard |
Circle Of Confusion | 0.020 mm |
Clarity 2012 | +14 |
Color Noise Reduction | 25 |
Color Noise Reduction Detail | 50 |
Color Noise Reduction Smoothness | 50 |
Color Space | sRGB |
Color Temperature | 5150 |
Contrast 2012 | -1 |
Convert To Grayscale | True |
Date Created | 2019:03:06 08:33:06 |
Dehaze | 0 |
Exposure 2012 | -0.10 |
Exposure Compensation | +0.7 |
Exposure Mode | Auto |
Field Of View | 65.5 deg |
Focal Length In 35mm Format | 28 mm |
Format | image/jpeg |
Grain Amount | 0 |
Gray Mixer Aqua | +25 |
Gray Mixer Blue | 0 |
Gray Mixer Green | -5 |
Gray Mixer Magenta | -40 |
Gray Mixer Orange | +38 |
Gray Mixer Purple | -30 |
Gray Mixer Red | +50 |
Gray Mixer Yellow | +36 |
Green Hue | 0 |
Green Saturation | 0 |
Has Crop | False |
Has Settings | True |
Highlights 2012 | -100 |
Hyperfocal Distance | 3.05 m |
ISO | 200 |
Image Size | 1000x1000 |
Lens | GR LENS |
Lens Info | 18.3mm f/2.8 |
Lens Make | RICOH IMAGING COMPANY, LTD. |
Lens Manual Distortion Amount | 0 |
Lens Model | GR LENS |
Lens Profile Enable | 0 |
Lens Profile Setup | LensDefaults |
Light Source | Fine Weather |
Light Value | 10.9 |
Luminance Smoothing | 0 |
Metering Mode | Spot |
Parametric Darks | +18 |
Parametric Highlight Split | 75 |
Parametric Highlights | +50 |
Parametric Lights | +40 |
Parametric Midtone Split | 50 |
Parametric Shadow Split | 25 |
Parametric Shadows | 0 |
Perspective Aspect | 0 |
Perspective Horizontal | 0 |
Perspective Rotate | 0.0 |
Perspective Scale | 100 |
Perspective Upright | 0 |
Perspective Vertical | 0 |
Perspective X | 0.00 |
Perspective Y | 0.00 |
Post Crop Vignette Amount | 0 |
Process Version | 6.7 |
Red Hue | 0 |
Red Saturation | 0 |
Scale Factor To 35 mm Equivalent | 1.5 |
Scene Capture Type | Standard |
Shadow Tint | 0 |
Shadows 2012 | 0 |
Sharpen Detail | 25 |
Sharpen Edge Masking | 0 |
Sharpen Radius | +1.0 |
Sharpness | Normal |
Split Toning Balance | 0 |
Split Toning Highlight Hue | 0 |
Split Toning Highlight Saturation | 0 |
Split Toning Shadow Hue | 0 |
Split Toning Shadow Saturation | 0 |
Tint | +11 |
Tone Curve | 0, 0, 255, 255 |
Tone Curve Blue | 0, 0, 255, 255 |
Tone Curve Green | 0, 0, 255, 255 |
Tone Curve Name | Linear |
Tone Curve Name 2012 | Strong Contrast |
Tone Curve PV2012 | 0, 0, 32, 16, 64, 50, 128, 128, 192, 202, 255, 255 |
Tone Curve PV2012 Blue | 0, 0, 255, 255 |
Tone Curve PV2012 Green | 0, 0, 255, 255 |
Tone Curve PV2012 Red | 0, 0, 255, 255 |
Tone Curve Red | 0, 0, 255, 255 |
Tone Map Strength | 0 |
Version | 10.1 |
Vignette Amount | 0 |
White Balance | Manual |
Whites 2012 | 0 |