Shooting information for this photo
Camera: | NIKON CORPORATION NIKON 1 V3 |
Exposure: | 0.01667 sec. (1/60) |
Aperture: | f/1.8 |
Focal Length: | 18.5 mm (35 mm equivalent: 49.0 mm) |
Flash: | No Flash |
Exposure mode: | Program AE |
Max Aperture: | 1.7 |
Resolution: | 240 x 240 dpi |
Original Date: | 2016:09:11 17:58:24.68 |
Created on: | 2016:09:11 17:58:24.68 |
Modified on: | 2016:09:11 19:32:06 |
Software: | Adobe Photoshop Lightroom 6.6.1 (Macintosh) |
Already Applied | True |
Auto Lateral CA | 0 |
Auto White Version | 134348800 |
Blacks 2012 | +29 |
Blue Hue | 0 |
Blue Saturation | 0 |
CFA Pattern | [Red,Green][Green,Blue] |
Camera Profile | Adobe Standard |
Circle Of Confusion | 0.011 mm |
Clarity 2012 | +15 |
Color Noise Reduction | 25 |
Color Noise Reduction Detail | 50 |
Color Noise Reduction Smoothness | 50 |
Color Space | sRGB |
Color Temperature | 5300 |
Contrast | Normal |
Contrast 2012 | +29 |
Convert To Grayscale | True |
Crop Angle | 0.912634 |
Crop Bottom | 1 |
Crop Constrain To Warp | 0 |
Crop Left | 0.016855 |
Crop Right | 0.983145 |
Crop Top | 0 |
Custom Rendered | Normal |
Date Created | 2016:09:11 17:58:24.68 |
Dehaze | 0 |
Digital Zoom Ratio | 1 |
Exposure 2012 | -0.95 |
Exposure Compensation | 0 |
Exposure Mode | Auto |
Field Of View | 40.3 deg |
Focal Length In 35mm Format | 49 mm |
Format | image/jpeg |
Gain Control | Low gain up |
Grain Amount | 0 |
Gray Mixer Aqua | -17 |
Gray Mixer Blue | +11 |
Gray Mixer Green | -27 |
Gray Mixer Magenta | +3 |
Gray Mixer Orange | -20 |
Gray Mixer Purple | +16 |
Gray Mixer Red | -11 |
Gray Mixer Yellow | -24 |
Green Hue | 0 |
Green Saturation | 0 |
Has Crop | True |
Has Settings | True |
Highlights 2012 | -22 |
Hyperfocal Distance | 16.76 m |
ISO | 800 |
Image Number | 1482 |
Image Size | 5110x3407 |
Lens | 1 NIKKOR 18.5mm f/1.8 |
Lens Info | 18.5mm f/1.8 |
Lens Manual Distortion Amount | 0 |
Lens Model | 1 NIKKOR 18.5mm f/1.8 |
Lens Profile Enable | 0 |
Lens Profile Setup | LensDefaults |
Light Source | Fine Weather |
Light Value | 4.6 |
Luminance Smoothing | 0 |
Metering Mode | Center-weighted average |
Parametric Darks | 0 |
Parametric Highlight Split | 75 |
Parametric Highlights | 0 |
Parametric Lights | 0 |
Parametric Midtone Split | 50 |
Parametric Shadow Split | 25 |
Parametric Shadows | 0 |
Perspective Aspect | 0 |
Perspective Horizontal | 0 |
Perspective Rotate | 0.0 |
Perspective Scale | 100 |
Perspective Upright | 0 |
Perspective Vertical | 0 |
Perspective X | 0.00 |
Perspective Y | 0.00 |
Post Crop Vignette Amount | 0 |
Process Version | 6.7 |
Red Hue | 0 |
Red Saturation | 0 |
Saturation | Normal |
Scale Factor To 35 mm Equivalent | 2.6 |
Scene Capture Type | Standard |
Scene Type | Directly photographed |
Sensing Method | One-chip color area |
Sensitivity Type | Recommended Exposure Index |
Shadow Tint | 0 |
Shadows 2012 | +11 |
Sharpen Detail | 25 |
Sharpen Edge Masking | 0 |
Sharpen Radius | +1.0 |
Sharpness | Normal |
Split Toning Balance | 0 |
Split Toning Highlight Hue | 0 |
Split Toning Highlight Saturation | 0 |
Split Toning Shadow Hue | 0 |
Split Toning Shadow Saturation | 0 |
Subject Distance Range | Unknown |
Tint | +2 |
Tone Curve | 0, 0, 255, 255 |
Tone Curve Blue | 0, 0, 255, 255 |
Tone Curve Green | 0, 0, 255, 255 |
Tone Curve Name | Linear |
Tone Curve Name 2012 | Linear |
Tone Curve PV2012 | 0, 0, 255, 255 |
Tone Curve PV2012 Blue | 0, 0, 255, 255 |
Tone Curve PV2012 Green | 0, 0, 255, 255 |
Tone Curve PV2012 Red | 0, 0, 255, 255 |
Tone Curve Red | 0, 0, 255, 255 |
Tone Map Strength | 0 |
Version | 9.6 |
Vignette Amount | 0 |
White Balance | Manual |
Whites 2012 | 0 |