Shooting information for this photo
Camera: | OLYMPUS IMAGING CORP. E-5 |
Exposure: | 0.008 sec. (1/125) |
Aperture: | f/13.0 |
Focal Length: | 50.0 mm (35 mm equivalent: 100.0 mm) |
Flash: | Auto, Did not fire |
Exposure mode: | Shutter speed priority AE |
Max Aperture: | 2.0 |
Resolution: | 240 x 240 dpi |
Original Date: | 2015:12:29 12:13:09 |
Created on: | 2015:12:29 12:13:09 |
Modified on: | 2015:12:29 17:48:26 |
Software: | Adobe Photoshop Lightroom 6.0 (Macintosh) |
Already Applied | True |
Approximate Focus Distance | 0.69 |
Auto Lateral CA | 0 |
Auto White Version | 134348800 |
Blacks 2012 | +16 |
Blue Hue | 0 |
Blue Saturation | 0 |
CFA Pattern | [Blue,Green][Green,Red] |
Camera Profile | Adobe Standard |
Circle Of Confusion | 0.015 mm |
Clarity 2012 | 0 |
Color Noise Reduction | 25 |
Color Noise Reduction Detail | 50 |
Color Noise Reduction Smoothness | 50 |
Color Space | sRGB |
Color Temperature | 4873 |
Contrast | Normal |
Contrast 2012 | -13 |
Convert To Grayscale | False |
Custom Rendered | Normal |
Defringe Green Amount | 0 |
Defringe Green Hue Hi | 60 |
Defringe Green Hue Lo | 40 |
Defringe Purple Amount | 0 |
Defringe Purple Hue Hi | 70 |
Defringe Purple Hue Lo | 30 |
Description | OLYMPUS DIGITAL CAMERA |
Digital Zoom Ratio | 1 |
Exposure 2012 | -0.85 |
Exposure Compensation | -0.3 |
Exposure Mode | Manual |
Field Of View | 20.4 deg |
Flash Compensation | 0 |
Focal Length In 35mm Format | 100 mm |
Format | image/jpeg |
Gain Control | None |
Grain Amount | 0 |
Green Hue | 0 |
Green Saturation | 0 |
Has Crop | False |
Has Settings | True |
Highlights 2012 | -15 |
Hue Adjustment Aqua | 0 |
Hue Adjustment Blue | 0 |
Hue Adjustment Green | 0 |
Hue Adjustment Magenta | 0 |
Hue Adjustment Orange | 0 |
Hue Adjustment Purple | 0 |
Hue Adjustment Red | 0 |
Hue Adjustment Yellow | 0 |
Hyperfocal Distance | 12.80 m |
ISO | 100 |
Image Description | OLYMPUS DIGITAL CAMERA |
Image Size | 4032x3024 |
Lens | OLYMPUS 50mm Lens |
Lens Info | 50mm f/2 |
Lens Manual Distortion Amount | 0 |
Lens Model | OLYMPUS 50mm Lens |
Lens Profile Enable | 0 |
Lens Profile Setup | LensDefaults |
Light Source | Fine Weather |
Light Value | 14.4 |
Luminance Adjustment Aqua | 0 |
Luminance Adjustment Blue | 0 |
Luminance Adjustment Green | 0 |
Luminance Adjustment Magenta | 0 |
Luminance Adjustment Orange | 0 |
Luminance Adjustment Purple | 0 |
Luminance Adjustment Red | 0 |
Luminance Adjustment Yellow | 0 |
Luminance Smoothing | 0 |
Metering Mode | Multi-segment |
Parametric Darks | 0 |
Parametric Highlight Split | 75 |
Parametric Highlights | 0 |
Parametric Lights | 0 |
Parametric Midtone Split | 50 |
Parametric Shadow Split | 25 |
Parametric Shadows | 0 |
Perspective Aspect | 0 |
Perspective Horizontal | 0 |
Perspective Rotate | 0.0 |
Perspective Scale | 100 |
Perspective Upright | 0 |
Perspective Vertical | 0 |
Post Crop Vignette Amount | 0 |
Process Version | 6.7 |
Raw File Name | PC295608.jpg |
Red Hue | 0 |
Red Saturation | 0 |
Saturation | Normal |
Saturation Adjustment Aqua | 0 |
Saturation Adjustment Blue | 0 |
Saturation Adjustment Green | 0 |
Saturation Adjustment Magenta | 0 |
Saturation Adjustment Orange | 0 |
Saturation Adjustment Purple | 0 |
Saturation Adjustment Red | 0 |
Saturation Adjustment Yellow | 0 |
Scale Factor To 35 mm Equivalent | 2.0 |
Scene Capture Type | Standard |
Shadow Tint | 0 |
Shadows 2012 | +11 |
Sharpen Detail | 25 |
Sharpen Edge Masking | 0 |
Sharpen Radius | +1.0 |
Sharpness | Normal |
Split Toning Balance | 0 |
Split Toning Highlight Hue | 0 |
Split Toning Highlight Saturation | 0 |
Split Toning Shadow Hue | 0 |
Split Toning Shadow Saturation | 0 |
Tint | +5 |
Tone Curve | 0, 0, 255, 255 |
Tone Curve Blue | 0, 0, 255, 255 |
Tone Curve Green | 0, 0, 255, 255 |
Tone Curve Name | Linear |
Tone Curve Name 2012 | Linear |
Tone Curve PV2012 | 0, 0, 255, 255 |
Tone Curve PV2012 Blue | 0, 0, 255, 255 |
Tone Curve PV2012 Green | 0, 0, 255, 255 |
Tone Curve PV2012 Red | 0, 0, 255, 255 |
Tone Curve Red | 0, 0, 255, 255 |
Version | 9.0 |
Vibrance | +8 |
Vignette Amount | 0 |
White Balance | Manual |
Whites 2012 | 0 |