Shooting information for this photo
Camera: | FUJIFILM FinePix S100FS |
Exposure: | 0.00294 sec. (1/340) |
Aperture: | f/5.0 |
Focal Length: | 17.1 mm (35 mm equivalent: 102.1 mm) |
Flash: | Off, Did not fire |
Exposure mode: | Aperture-priority AE |
Max Aperture: | 2.8 |
Resolution: | 140 x 140 dpi |
Original Date: | 2012:10:07 10:36:14 |
Created on: | 2012:10:07 10:36:14 |
Modified on: | 2013:08:28 18:25:49 |
Software: | Adobe Photoshop Lightroom 3.4.1 |
Already Applied | True |
Blue Hue | 0 |
Blue Saturation | 0 |
Brightness | 0 |
Brightness Value | 8.42 |
Camera Profile | Adobe Standard |
Chromatic Aberration B | 0 |
Chromatic Aberration R | 0 |
Circle Of Confusion | 0.005 mm |
Clarity | 0 |
Color Noise Reduction | 25 |
Color Noise Reduction Detail | 50 |
Color Temperature | 6112 |
Contrast | +44 |
Convert To Grayscale | False |
Crop Angle | -0.504351 |
Crop Bottom | 0.988472 |
Crop Constrain To Warp | 0 |
Crop Height | 800 |
Crop Left | 0.011363 |
Crop Right | 1 |
Crop Top | 0.017847 |
Crop Unit | pixels |
Crop Width | 1067 |
Custom Rendered | Normal |
Date Created | 2012:10:07 10:36:14 |
Defringe | 0 |
Exposure | -0.05 |
Exposure Compensation | +0.33 |
Exposure Mode | Auto |
Field Of View | 20.0 deg |
Fill Light | 0 |
Gradient Based Corr Active | true |
Gradient Based Corr Amount | 1.000000 |
Gradient Based Corr Brightness | 0.018000 |
Gradient Based Corr Clarity | 0.179000 |
Gradient Based Corr Contrast | 0.232000 |
Gradient Based Corr Exposure | -0.393000 |
Gradient Based Corr Hue | 240.000000 |
Gradient Based Corr Mask Full X | 0.516339 |
Gradient Based Corr Mask Full Y | 0.015476 |
Gradient Based Corr Mask Value | 1.000000 |
Gradient Based Corr Mask What | Mask/Gradient |
Gradient Based Corr Mask Zero X | 0.514589 |
Gradient Based Corr Mask Zero Y | 0.463411 |
Gradient Based Corr Saturation | 0.000000 |
Gradient Based Corr Sharpness | 0.000000 |
Gradient Based Corr What | Correction |
Grain Amount | 0 |
Green Hue | 0 |
Green Saturation | 0 |
Has Crop | True |
Has Settings | True |
Highlight Recovery | 14 |
Hue Adjustment Aqua | 0 |
Hue Adjustment Blue | 0 |
Hue Adjustment Green | 0 |
Hue Adjustment Magenta | 0 |
Hue Adjustment Orange | 0 |
Hue Adjustment Purple | 0 |
Hue Adjustment Red | 0 |
Hue Adjustment Yellow | 0 |
Hyperfocal Distance | 11.62 m |
ISO | 100 |
Image Size | 1067x800 |
Lens Manual Distortion Amount | 0 |
Lens Profile Enable | 0 |
Lens Profile Setup | LensDefaults |
Light Source | Unknown |
Light Value | 13.1 |
Luminance Adjustment Aqua | 0 |
Luminance Adjustment Blue | 0 |
Luminance Adjustment Green | 0 |
Luminance Adjustment Magenta | 0 |
Luminance Adjustment Orange | 0 |
Luminance Adjustment Purple | 0 |
Luminance Adjustment Red | 0 |
Luminance Adjustment Yellow | 0 |
Luminance Smoothing | 0 |
Metering Mode | Multi-segment |
Parametric Darks | 0 |
Parametric Highlight Split | 75 |
Parametric Highlights | 0 |
Parametric Lights | 0 |
Parametric Midtone Split | 50 |
Parametric Shadow Split | 25 |
Parametric Shadows | 0 |
Perspective Horizontal | 0 |
Perspective Rotate | 0.0 |
Perspective Scale | 100 |
Perspective Vertical | 0 |
Post Crop Vignette Amount | 0 |
Process Version | 5.7 |
Red Hue | 0 |
Red Saturation | 0 |
Saturation | 0 |
Saturation Adjustment Aqua | 0 |
Saturation Adjustment Blue | 0 |
Saturation Adjustment Green | 0 |
Saturation Adjustment Magenta | 0 |
Saturation Adjustment Orange | 0 |
Saturation Adjustment Purple | 0 |
Saturation Adjustment Red | 0 |
Saturation Adjustment Yellow | 0 |
Scale Factor To 35 mm Equivalent | 6.0 |
Scene Capture Type | Standard |
Scene Type | Directly photographed |
Sensing Method | One-chip color area |
Shadow Tint | 0 |
Shadows | 5 |
Sharpen Detail | 25 |
Sharpen Edge Masking | 0 |
Sharpen Radius | +1.0 |
Sharpness | Normal |
Split Toning Balance | 0 |
Split Toning Highlight Hue | 0 |
Split Toning Highlight Saturation | 0 |
Split Toning Shadow Hue | 0 |
Split Toning Shadow Saturation | 0 |
Subject | Bornholm, Dänemark, Felsen, Ostsee, Salene Bugt |
Subject Distance Range | Unknown |
Tint | +4 |
Tone Curve | 0, 0, 32, 22, 64, 56, 128, 128, 192, 196, 255, 255 |
Tone Curve Name | Medium Contrast |
Version | 6.4.1 |
Vibrance | 0 |
Vignette Amount | 0 |
White Balance | Auto |