Shooting information for this photo
Camera: | FUJIFILM X-E1 |
Exposure: | 0.00476 sec. (1/210) |
Aperture: | f/1.4 |
Focal Length: | 35.0 mm (35 mm equivalent: 53.0 mm) |
Flash: | Off, Did not fire |
Exposure mode: | Aperture-priority AE |
Max Aperture: | 1.4 |
Resolution: | 300 x 300 dpi |
Original Date: | 2024:12:19 10:11:56 |
Created on: | 2024:12:19 10:11:56 |
Modified on: | 2024:12:19 09:20:13 |
Software: | Adobe Photoshop Lightroom 6.10 (Macintosh) |
Already Applied | True |
Auto Lateral CA | 0 |
Auto White Version | 134348800 |
Blacks 2012 | -12 |
Blue Hue | 0 |
Blue Saturation | 0 |
Brightness Value | -0.7 |
Camera Profile | Embedded |
Circle Of Confusion | 0.020 mm |
Clarity 2012 | +14 |
Color Noise Reduction | 0 |
Color Space | sRGB |
Contrast 2012 | +1 |
Convert To Grayscale | True |
Custom Rendered | Custom |
Date Created | 2024:12:19 10:11:56 |
Dehaze | 0 |
Exposure 2012 | +0.30 |
Exposure Compensation | 0 |
Exposure Mode | Auto |
Field Of View | 37.5 deg |
Focal Length In 35mm Format | 53 mm |
Format | image/jpeg |
Grain Amount | 0 |
Gray Mixer Aqua | -18 |
Gray Mixer Blue | +9 |
Gray Mixer Green | -27 |
Gray Mixer Magenta | +4 |
Gray Mixer Orange | -19 |
Gray Mixer Purple | +15 |
Gray Mixer Red | -9 |
Gray Mixer Yellow | -22 |
Green Hue | 0 |
Green Saturation | 0 |
Has Crop | False |
Has Settings | True |
Highlights 2012 | -17 |
Hyperfocal Distance | 44.10 m |
ISO | 3200 |
Image Size | 6000x4000 |
Incremental Temperature | 0 |
Incremental Tint | 0 |
Lens | XF35mmF1.4 R |
Lens Info | 35mm f/1.4 |
Lens Make | FUJIFILM |
Lens Manual Distortion Amount | 0 |
Lens Model | XF35mmF1.4 R |
Lens Profile Enable | 0 |
Lens Profile Setup | LensDefaults |
Light Source | Unknown |
Light Value | 3.7 |
Luminance Smoothing | 0 |
Metering Mode | Multi-segment |
Parametric Darks | 0 |
Parametric Highlight Split | 75 |
Parametric Highlights | 0 |
Parametric Lights | +10 |
Parametric Midtone Split | 50 |
Parametric Shadow Split | 25 |
Parametric Shadows | 0 |
Perspective Aspect | 0 |
Perspective Horizontal | 0 |
Perspective Rotate | 0.0 |
Perspective Scale | 100 |
Perspective Upright | 4 |
Perspective Vertical | 0 |
Perspective X | 0.00 |
Perspective Y | 0.00 |
Post Crop Vignette Amount | 0 |
Process Version | 6.7 |
Red Hue | 0 |
Red Saturation | 0 |
Scale Factor To 35 mm Equivalent | 1.5 |
Scene Capture Type | Standard |
Scene Type | Directly photographed |
Sensing Method | One-chip color area |
Sensitivity Type | Standard Output Sensitivity |
Shadow Tint | 0 |
Shadows 2012 | +17 |
Sharpen Detail | 25 |
Sharpen Edge Masking | 0 |
Sharpen Radius | +1.0 |
Sharpness | Normal |
Split Toning Balance | 0 |
Split Toning Highlight Hue | 0 |
Split Toning Highlight Saturation | 0 |
Split Toning Shadow Hue | 0 |
Split Toning Shadow Saturation | 0 |
Subject | Fuji X-E1, Fujifilm X-E1, Fujinon 35mm f/1.4 XF R |
Subject Distance Range | Unknown |
Tone Curve | 0, 0, 255, 255 |
Tone Curve Blue | 0, 0, 255, 255 |
Tone Curve Green | 0, 0, 255, 255 |
Tone Curve Name | Linear |
Tone Curve Name 2012 | Medium Contrast |
Tone Curve PV2012 | 0, 0, 32, 22, 64, 56, 128, 128, 192, 196, 255, 255 |
Tone Curve PV2012 Blue | 0, 0, 255, 255 |
Tone Curve PV2012 Green | 0, 0, 255, 255 |
Tone Curve PV2012 Red | 0, 0, 255, 255 |
Tone Curve Red | 0, 0, 255, 255 |
Tone Map Strength | 0 |
Version | 9.10 |
Vignette Amount | 0 |
White Balance | Auto |
Whites 2012 | +48 |