Shooting information for this photo
Camera: | NIKON CORPORATION NIKON D700 |
Exposure: | 0.008 sec. (1/125) |
Aperture: | f/6.3 |
Focal Length: | 80.0 mm (35 mm equivalent: 80.0 mm) |
Flash: | No Flash |
Exposure mode: | Program AE |
Max Aperture: | 5.7 |
Resolution: | 600 x 600 dpi |
Original Date: | 2024:11:30 13:11:25.42 |
Created on: | 2024:11:30 13:11:25.42 |
Modified on: | 2024:11:30 14:43:29 |
Software: | Adobe Photoshop Lightroom 6.10 (Macintosh) |
Already Applied | True |
Approximate Focus Distance | 0.71 |
Auto Lateral CA | 0 |
Auto White Version | 134348800 |
Blacks 2012 | -16 |
Blue Hue | 0 |
Blue Saturation | 0 |
CFA Pattern | [Red,Green][Green,Blue] |
Camera Profile | Adobe Standard |
Circle Of Confusion | 0.030 mm |
Clarity 2012 | +22 |
Color Noise Reduction | 25 |
Color Noise Reduction Detail | 50 |
Color Noise Reduction Smoothness | 50 |
Color Space | sRGB |
Color Temperature | 5700 |
Contrast | Normal |
Contrast 2012 | +26 |
Convert To Grayscale | True |
Custom Rendered | Normal |
Date Created | 2024:11:30 13:11:25.42 |
Dehaze | 0 |
Digital Zoom Ratio | 1 |
Exposure 2012 | 0.00 |
Exposure Compensation | -1/3 |
Exposure Mode | Auto |
Field Of View | 25.4 deg |
Focal Length In 35mm Format | 80 mm |
Format | image/jpeg |
Gain Control | Low gain up |
Grain Amount | 0 |
Gray Mixer Aqua | -19 |
Gray Mixer Blue | +7 |
Gray Mixer Green | +48 |
Gray Mixer Magenta | +3 |
Gray Mixer Orange | -16 |
Gray Mixer Purple | +13 |
Gray Mixer Red | -8 |
Gray Mixer Yellow | -19 |
Green Hue | 0 |
Green Saturation | 0 |
Has Crop | False |
Has Settings | True |
Highlights 2012 | 0 |
Hyperfocal Distance | 33.81 m |
ISO | 800 |
Image Number | 50539 |
Image Size | 6000x3992 |
Lens | 28.0-80.0 mm f/3.3-5.6 |
Lens ID | AF Zoom-Nikkor 28-80mm f/3.3-5.6G |
Lens Info | 28-80mm f/3.3-5.6 |
Lens Manual Distortion Amount | 0 |
Lens Model | 28.0-80.0 mm f/3.3-5.6 |
Lens Profile Enable | 0 |
Lens Profile Setup | LensDefaults |
Light Source | Cloudy |
Light Value | 9.3 |
Luminance Smoothing | 0 |
Metering Mode | Multi-segment |
Parametric Darks | -37 |
Parametric Highlight Split | 75 |
Parametric Highlights | 0 |
Parametric Lights | +22 |
Parametric Midtone Split | 50 |
Parametric Shadow Split | 25 |
Parametric Shadows | 0 |
Perspective Aspect | 0 |
Perspective Horizontal | 0 |
Perspective Rotate | 0.0 |
Perspective Scale | 100 |
Perspective Upright | 2 |
Perspective Vertical | 0 |
Perspective X | 0.00 |
Perspective Y | 0.00 |
Post Crop Vignette Amount | 0 |
Process Version | 6.7 |
Red Hue | 0 |
Red Saturation | 0 |
Saturation | Normal |
Scale Factor To 35 mm Equivalent | 1.0 |
Scene Capture Type | Standard |
Scene Type | Directly photographed |
Sensing Method | One-chip color area |
Shadow Tint | 0 |
Shadows 2012 | 0 |
Sharpen Detail | 25 |
Sharpen Edge Masking | 0 |
Sharpen Radius | +1.0 |
Sharpness | Normal |
Split Toning Balance | 0 |
Split Toning Highlight Hue | 0 |
Split Toning Highlight Saturation | 0 |
Split Toning Shadow Hue | 0 |
Split Toning Shadow Saturation | 0 |
Subject | Lacock, Lacock Abbey, Nikkor 28-80mm f/3.3-5.6G, Nikon D700, gate, handle, iron, studs |
Subject Distance Range | Unknown |
Tint | -8 |
Tone Curve | 0, 0, 255, 255 |
Tone Curve Blue | 0, 0, 255, 255 |
Tone Curve Green | 0, 0, 255, 255 |
Tone Curve Name | Linear |
Tone Curve Name 2012 | Linear |
Tone Curve PV2012 | 0, 0, 255, 255 |
Tone Curve PV2012 Blue | 0, 0, 255, 255 |
Tone Curve PV2012 Green | 0, 0, 255, 255 |
Tone Curve PV2012 Red | 0, 0, 255, 255 |
Tone Curve Red | 0, 0, 255, 255 |
Tone Map Strength | 0 |
Version | 9.10 |
Vignette Amount | 0 |
White Balance | Manual |
Whites 2012 | 0 |