Shooting information for this photo
Camera: | FUJIFILM X-E1 |
Exposure: | 0.004 sec. (1/250) |
Aperture: | f/2.0 |
Focal Length: | 35.0 mm (35 mm equivalent: 53.0 mm) |
Flash: | Off, Did not fire |
Exposure mode: | Shutter speed priority AE |
Max Aperture: | 1.4 |
Resolution: | 600 x 600 dpi |
Original Date: | 2023:07:29 04:38:55 |
Created on: | 2023:07:29 04:38:55 |
Modified on: | 2023:07:29 04:25:11 |
Software: | Adobe Photoshop Lightroom 6.10 (Macintosh) |
Already Applied | True |
Auto Lateral CA | 0 |
Auto White Version | 134348800 |
Blacks 2012 | +28 |
Blue Hue | 0 |
Blue Saturation | 0 |
Brightness Value | 1.95 |
Camera Profile | Embedded |
Circle Of Confusion | 0.020 mm |
Clarity 2012 | +43 |
Color Noise Reduction | 0 |
Color Space | sRGB |
Contrast 2012 | +61 |
Convert To Grayscale | True |
Crop Angle | 0 |
Crop Bottom | 0.75 |
Crop Constrain To Warp | 0 |
Crop Left | 0 |
Crop Right | 1 |
Crop Top | 0 |
Custom Rendered | Custom |
Date Created | 2023:07:29 04:38:55 |
Dehaze | 0 |
Exposure 2012 | -0.60 |
Exposure Compensation | -0.67 |
Exposure Mode | Auto |
Field Of View | 37.5 deg |
Focal Length In 35mm Format | 53 mm |
Format | image/jpeg |
Gradient Based Corr Active | true |
Gradient Based Corr Amount | 1.000000 |
Gradient Based Corr Brightness | 0.000000 |
Gradient Based Corr Clarity 2012 | 0.312576 |
Gradient Based Corr Contrast 2012 | 0.028671 |
Gradient Based Corr Defringe | -0.617036 |
Gradient Based Corr Exposure 2012 | 0.834762 |
Gradient Based Corr Highlights 2012 | 0.059580 |
Gradient Based Corr Hue | 6.980470 |
Gradient Based Corr Local Blacks 2012 | 0.000000 |
Gradient Based Corr Local Dehaze | 0.000000 |
Gradient Based Corr Local Whites 2012 | 0.000000 |
Gradient Based Corr Luminance Noise | -0.683935 |
Gradient Based Corr Mask Full X | 0.987863 |
Gradient Based Corr Mask Full Y | 0.742374 |
Gradient Based Corr Mask Value | 1.000000 |
Gradient Based Corr Mask What | Mask/Gradient |
Gradient Based Corr Mask Zero X | 0.767975 |
Gradient Based Corr Mask Zero Y | 0.483842 |
Gradient Based Corr Moire | 0.865187 |
Gradient Based Corr Saturation | 0.032969 |
Gradient Based Corr Shadows 2012 | -0.649006 |
Gradient Based Corr Sharpness | -0.340299 |
Gradient Based Corr Temperature | -0.186438 |
Gradient Based Corr Tint | -0.228648 |
Gradient Based Corr What | Correction |
Grain Amount | 0 |
Gray Mixer Aqua | -18 |
Gray Mixer Blue | +9 |
Gray Mixer Green | -27 |
Gray Mixer Magenta | +4 |
Gray Mixer Orange | -19 |
Gray Mixer Purple | +15 |
Gray Mixer Red | -9 |
Gray Mixer Yellow | -22 |
Green Hue | 0 |
Green Saturation | 0 |
Has Crop | True |
Has Settings | True |
Highlights 2012 | +45 |
Hyperfocal Distance | 30.87 m |
ISO | 800 |
Image Size | 3200x2400 |
Incremental Temperature | 0 |
Incremental Tint | 0 |
Lens | XF35mmF1.4 R |
Lens Info | 35mm f/1.4 |
Lens Make | FUJIFILM |
Lens Manual Distortion Amount | 0 |
Lens Model | XF35mmF1.4 R |
Lens Profile Enable | 0 |
Lens Profile Setup | LensDefaults |
Light Source | Unknown |
Light Value | 7.0 |
Luminance Smoothing | 0 |
Metering Mode | Multi-segment |
Parametric Darks | -100 |
Parametric Highlight Split | 75 |
Parametric Highlights | +41 |
Parametric Lights | +35 |
Parametric Midtone Split | 50 |
Parametric Shadow Split | 25 |
Parametric Shadows | 0 |
Perspective Aspect | 0 |
Perspective Horizontal | 0 |
Perspective Rotate | 0.0 |
Perspective Scale | 100 |
Perspective Upright | 0 |
Perspective Vertical | 0 |
Perspective X | 0.00 |
Perspective Y | 0.00 |
Post Crop Vignette Amount | 0 |
Process Version | 6.7 |
Red Hue | 0 |
Red Saturation | 0 |
Scale Factor To 35 mm Equivalent | 1.5 |
Scene Capture Type | Standard |
Scene Type | Directly photographed |
Sensing Method | One-chip color area |
Sensitivity Type | Standard Output Sensitivity |
Shadow Tint | 0 |
Shadows 2012 | +9 |
Sharpen Detail | 25 |
Sharpen Edge Masking | 0 |
Sharpen Radius | +1.0 |
Sharpness | Hard |
Split Toning Balance | 0 |
Split Toning Highlight Hue | 0 |
Split Toning Highlight Saturation | 0 |
Split Toning Shadow Hue | 0 |
Split Toning Shadow Saturation | 0 |
Subject Distance Range | Unknown |
Tone Curve | 0, 0, 255, 255 |
Tone Curve Blue | 0, 0, 255, 255 |
Tone Curve Green | 0, 0, 255, 255 |
Tone Curve Name | Linear |
Tone Curve Name 2012 | Linear |
Tone Curve PV2012 | 0, 0, 255, 255 |
Tone Curve PV2012 Blue | 0, 0, 255, 255 |
Tone Curve PV2012 Green | 0, 0, 255, 255 |
Tone Curve PV2012 Red | 0, 0, 255, 255 |
Tone Curve Red | 0, 0, 255, 255 |
Tone Map Strength | 0 |
Version | 9.10 |
Vignette Amount | 0 |
White Balance | Auto |
Whites 2012 | +19 |