Shooting information for this photo
Camera: | NIKON CORPORATION NIKON D50 |
Exposure: | 0.00063 sec. (1/1600) |
Aperture: | f/5.6 |
Focal Length: | 300.0 mm (35 mm equivalent: 450.0 mm) |
Flash: | No Flash |
Exposure mode: | Program AE |
Max Aperture: | 5.7 |
Resolution: | 300 x 300 dpi |
Original Date: | 2013:07:13 12:38:38.70 |
Created on: | 2013:07:13 12:38:38.70 |
Modified on: | 2022:12:08 09:04:03 |
Software: | Adobe Photoshop Lightroom 6.10 (Macintosh) |
Already Applied | True |
Approximate Focus Distance | 20 |
Auto Lateral CA | 0 |
Auto White Version | 134348800 |
Blacks 2012 | -10 |
Blue Hue | 0 |
Blue Saturation | 0 |
Camera Profile | Embedded |
Circle Of Confusion | 0.020 mm |
Clarity 2012 | +21 |
Color Noise Reduction | 0 |
Color Space | sRGB |
Contrast | Normal |
Contrast 2012 | +34 |
Convert To Grayscale | True |
Crop Angle | 0 |
Crop Bottom | 1 |
Crop Constrain To Warp | 0 |
Crop Left | 0.233819 |
Crop Right | 0.982269 |
Crop Top | 0 |
Custom Rendered | Normal |
Date Created | 2013:07:13 12:38:38.70 |
Dehaze | 0 |
Digital Zoom Ratio | 1 |
Exposure 2012 | 0.00 |
Exposure Compensation | 0 |
Exposure Mode | Auto |
Field Of View | 4.6 deg |
Focal Length In 35mm Format | 450 mm |
Format | image/jpeg |
Gradient Based Corr Active | true |
Gradient Based Corr Amount | 1.000000 |
Gradient Based Corr Brightness | 0.000000 |
Gradient Based Corr Clarity 2012 | 0.698157 |
Gradient Based Corr Contrast 2012 | -0.433821 |
Gradient Based Corr Defringe | -0.477325 |
Gradient Based Corr Exposure 2012 | 0.490102 |
Gradient Based Corr Highlights 2012 | -1.000000 |
Gradient Based Corr Hue | 6.980470 |
Gradient Based Corr Local Blacks 2012 | 0.000000 |
Gradient Based Corr Local Dehaze | 0.000000 |
Gradient Based Corr Local Whites 2012 | 0.000000 |
Gradient Based Corr Luminance Noise | -0.683935 |
Gradient Based Corr Mask Full X | 0.877458 |
Gradient Based Corr Mask Full Y | 0.011590 |
Gradient Based Corr Mask Value | 1.000000 |
Gradient Based Corr Mask What | Mask/Gradient |
Gradient Based Corr Mask Zero X | 0.732115 |
Gradient Based Corr Mask Zero Y | 0.236455 |
Gradient Based Corr Moire | 0.865187 |
Gradient Based Corr Saturation | 0.032969 |
Gradient Based Corr Shadows 2012 | 1.000000 |
Gradient Based Corr Sharpness | 1.000000 |
Gradient Based Corr Temperature | 0.363281 |
Gradient Based Corr Tint | -0.228648 |
Gradient Based Corr What | Correction |
Grain Amount | 0 |
Gray Mixer Aqua | -20 |
Gray Mixer Blue | +7 |
Gray Mixer Green | -100 |
Gray Mixer Magenta | +7 |
Gray Mixer Orange | -11 |
Gray Mixer Purple | +15 |
Gray Mixer Red | +34 |
Gray Mixer Yellow | -56 |
Green Hue | 0 |
Green Saturation | 0 |
Has Crop | True |
Has Settings | True |
Highlights 2012 | +39 |
Hyperfocal Distance | 802.33 m |
ISO | 400 |
Image Number | 5000 |
Image Size | 1931x1931 |
Incremental Temperature | 0 |
Incremental Tint | 0 |
Lens | 70.0-300.0 mm f/4.0-5.6 |
Lens ID | Tamron AF 70-300mm f/4-5.6 LD Macro 1:2 (772D) or Tamron AF 70-300mm f/4-5.6 Di LD Macro 1:2 (A17N) or AF Zoom-Nikkor 70-300mm f/4-5.6G |
Lens Info | 70-300mm f/4-5.6 |
Lens Manual Distortion Amount | 0 |
Lens Model | 70.0-300.0 mm f/4.0-5.6 |
Lens Profile Enable | 0 |
Lens Profile Setup | LensDefaults |
Light Source | Unknown |
Light Value | 13.6 |
Luminance Smoothing | 0 |
Metering Mode | Multi-segment |
Parametric Darks | -16 |
Parametric Highlight Split | 75 |
Parametric Highlights | 0 |
Parametric Lights | +45 |
Parametric Midtone Split | 50 |
Parametric Shadow Split | 25 |
Parametric Shadows | 0 |
Perspective Aspect | 0 |
Perspective Horizontal | 0 |
Perspective Rotate | 0.0 |
Perspective Scale | 100 |
Perspective Upright | 0 |
Perspective Vertical | 0 |
Perspective X | 0.00 |
Perspective Y | 0.00 |
Post Crop Vignette Amount | -42 |
Post Crop Vignette Feather | 39 |
Post Crop Vignette Highlight Contrast | 0 |
Post Crop Vignette Midpoint | 66 |
Post Crop Vignette Roundness | +29 |
Post Crop Vignette Style | 1 |
Process Version | 6.7 |
Red Hue | 0 |
Red Saturation | 0 |
Saturation | Normal |
Scale Factor To 35 mm Equivalent | 1.5 |
Scene Capture Type | Standard |
Scene Type | Directly photographed |
Sensing Method | One-chip color area |
Shadow Tint | 0 |
Shadows 2012 | -66 |
Sharpen Detail | 25 |
Sharpen Edge Masking | 0 |
Sharpen Radius | +1.0 |
Sharpness | Normal |
Split Toning Balance | 0 |
Split Toning Highlight Hue | 0 |
Split Toning Highlight Saturation | 0 |
Split Toning Shadow Hue | 0 |
Split Toning Shadow Saturation | 0 |
Subject Distance Range | Unknown |
Tone Curve | 0, 0, 255, 255 |
Tone Curve Blue | 0, 0, 255, 255 |
Tone Curve Green | 0, 0, 255, 255 |
Tone Curve Name | Linear |
Tone Curve Name 2012 | Linear |
Tone Curve PV2012 | 0, 0, 255, 255 |
Tone Curve PV2012 Blue | 0, 0, 255, 255 |
Tone Curve PV2012 Green | 0, 0, 255, 255 |
Tone Curve PV2012 Red | 0, 0, 255, 255 |
Tone Curve Red | 0, 0, 255, 255 |
Tone Map Strength | 0 |
Version | 9.10 |
Vignette Amount | 0 |
White Balance | Auto |
Whites 2012 | 0 |