Shooting information for this photo
Camera: | Canon EOS 40D |
Exposure: | 0.00556 sec. (1/180) |
Aperture: | f/6.7 |
Focal Length: | 135.0 mm (35 mm equivalent: 218.5 mm) |
Flash: | Off, Did not fire |
Exposure mode: | Program AE |
Resolution: | 1000 x 1000 dpi |
Original Date: | 2015:08:03 16:28:59.01 |
Created on: | 2015:08:03 16:28:59.01 |
Modified on: | 2019:09:15 17:14:57 |
Software: | Adobe Photoshop Lightroom 6.10 (Macintosh) |
Already Applied | True |
Auto Lateral CA | 0 |
Auto White Version | 134348800 |
Blacks 2012 | 0 |
Blue Hue | 0 |
Blue Saturation | 0 |
Camera Profile | Embedded |
Circle Of Confusion | 0.019 mm |
Clarity 2012 | +16 |
Color Noise Reduction | 0 |
Color Space | sRGB |
Contrast 2012 | 0 |
Convert To Grayscale | True |
Crop Angle | -0.382324 |
Crop Bottom | 0.990081 |
Crop Constrain To Warp | 0 |
Crop Left | 0.251019 |
Crop Right | 0.993888 |
Crop Top | 0.014061 |
Custom Rendered | Normal |
Date Created | 2015:08:03 16:28:59.01 |
Dehaze | 0 |
Exposure 2012 | +0.15 |
Exposure Compensation | 0 |
Exposure Mode | Auto |
Field Of View | 9.4 deg |
Format | image/jpeg |
Grain Amount | 0 |
Gray Mixer Aqua | -17 |
Gray Mixer Blue | 0 |
Gray Mixer Green | -15 |
Gray Mixer Magenta | +1 |
Gray Mixer Orange | -6 |
Gray Mixer Purple | +5 |
Gray Mixer Red | -3 |
Gray Mixer Yellow | -70 |
Green Hue | 0 |
Green Saturation | 0 |
Has Crop | True |
Has Settings | True |
Hierarchical Subject | Winchester, advertising, candid, doors, girl, sale, shop, shop window, street, stripes, walking |
Highlights 2012 | 0 |
Hyperfocal Distance | 146.55 m |
ISO | 400 |
Image Size | 3000x2664 |
Incremental Temperature | 0 |
Incremental Tint | 0 |
Lens Manual Distortion Amount | 0 |
Lens Profile Enable | 0 |
Lens Profile Setup | LensDefaults |
Light Value | 11.0 |
Luminance Smoothing | 0 |
Metering Mode | Multi-segment |
Parametric Darks | 0 |
Parametric Highlight Split | 75 |
Parametric Highlights | 0 |
Parametric Lights | 0 |
Parametric Midtone Split | 50 |
Parametric Shadow Split | 25 |
Parametric Shadows | 0 |
Perspective Aspect | 0 |
Perspective Horizontal | 0 |
Perspective Rotate | 0.0 |
Perspective Scale | 100 |
Perspective Upright | 0 |
Perspective Vertical | 0 |
Perspective X | 0.00 |
Perspective Y | 0.00 |
Post Crop Vignette Amount | 0 |
Process Version | 6.7 |
Red Hue | 0 |
Red Saturation | 0 |
Scale Factor To 35 mm Equivalent | 1.6 |
Scene Capture Type | Standard |
Shadow Tint | 0 |
Shadows 2012 | +19 |
Sharpen Detail | 15 |
Sharpen Edge Masking | 60 |
Sharpen Radius | +1.4 |
Sharpness | 35 |
Split Toning Balance | 0 |
Split Toning Highlight Hue | 0 |
Split Toning Highlight Saturation | 0 |
Split Toning Shadow Hue | 0 |
Split Toning Shadow Saturation | 0 |
Subject | Winchester, advertising, candid, doors, girl, sale, shop, shop window, street, stripes, walking |
Tone Curve | 0, 0, 255, 255 |
Tone Curve Blue | 0, 0, 255, 255 |
Tone Curve Green | 0, 0, 255, 255 |
Tone Curve Name | Linear |
Tone Curve Name 2012 | Medium Contrast |
Tone Curve PV2012 | 0, 0, 32, 22, 64, 56, 128, 128, 192, 196, 255, 255 |
Tone Curve PV2012 Blue | 0, 0, 255, 255 |
Tone Curve PV2012 Green | 0, 0, 255, 255 |
Tone Curve PV2012 Red | 0, 0, 255, 255 |
Tone Curve Red | 0, 0, 255, 255 |
Tone Map Strength | 0 |
Version | 9.10 |
Vignette Amount | 0 |
White Balance | Auto |
Whites 2012 | 0 |