Shooting information for this photo
Camera: | NIKON CORPORATION NIKON D700 |
Exposure: | 0.004 sec. (1/250) |
Aperture: | f/11.0 |
Focal Length: | 102.0 mm (35 mm equivalent: 102.0 mm) |
Flash: | No Flash |
Exposure mode: | Aperture-priority AE |
Max Aperture: | 2.8 |
Resolution: | 1000 x 1000 dpi |
Original Date: | 2019:05:16 15:19:21.00 |
Created on: | 2019:05:16 15:19:21.00 |
Modified on: | 2019:05:20 04:36:23 |
Software: | Adobe Photoshop Lightroom 6.10 (Macintosh) |
Already Applied | True |
Approximate Focus Distance | 0.01 |
Auto Lateral CA | 0 |
Auto White Version | 134348800 |
Blacks 2012 | -6 |
Blue Hue | 0 |
Blue Saturation | 0 |
CFA Pattern | [Red,Green][Green,Blue] |
Camera Profile | Adobe Standard |
Circle Of Confusion | 0.030 mm |
Clarity 2012 | +23 |
Color Noise Reduction | 25 |
Color Noise Reduction Detail | 50 |
Color Noise Reduction Smoothness | 50 |
Color Space | sRGB |
Color Temperature | 4650 |
Contrast | Normal |
Contrast 2012 | +24 |
Convert To Grayscale | False |
Crop Angle | -1.83252 |
Crop Bottom | 0.954484 |
Crop Constrain To Warp | 0 |
Crop Left | 0.012853 |
Crop Right | 0.979736 |
Crop Top | 0.049202 |
Custom Rendered | Normal |
Date Created | 2019:05:16 15:19:21.00 |
Defringe Green Amount | 0 |
Defringe Green Hue Hi | 60 |
Defringe Green Hue Lo | 40 |
Defringe Purple Amount | 0 |
Defringe Purple Hue Hi | 70 |
Defringe Purple Hue Lo | 30 |
Dehaze | 0 |
Digital Zoom Ratio | 1 |
Exposure 2012 | +0.30 |
Exposure Compensation | 0 |
Exposure Mode | Auto |
Field Of View | 20.0 deg |
Focal Length In 35mm Format | 102 mm |
Format | image/jpeg |
Gain Control | Low gain up |
Grain Amount | 0 |
Green Hue | 0 |
Green Saturation | 0 |
Has Crop | True |
Has Settings | True |
Hierarchical Subject | Nikon D700, Reybridge, Reyview, Tamron, Tamron 70-210mm f/2.8, Tamron AF 70-210mm f/2.8 SP LD, Wiltshire, cottages, letter box, rural, thatched cottage |
Highlights 2012 | -49 |
Hue Adjustment Aqua | 0 |
Hue Adjustment Blue | 0 |
Hue Adjustment Green | 0 |
Hue Adjustment Magenta | 0 |
Hue Adjustment Orange | 0 |
Hue Adjustment Purple | 0 |
Hue Adjustment Red | 0 |
Hue Adjustment Yellow | 0 |
Hyperfocal Distance | 31.48 m |
ISO | 800 |
Image Number | 19137 |
Image Size | 3000x2005 |
Lens | 72.0-210.0 mm f/2.8 |
Lens ID | Unknown (10) 72-210mm |
Lens Info | 72-210mm f/2.8 |
Lens Manual Distortion Amount | 0 |
Lens Model | 72.0-210.0 mm f/2.8 |
Lens Profile Enable | 0 |
Lens Profile Setup | LensDefaults |
Light Source | Unknown |
Light Value | 11.9 |
Luminance Adjustment Aqua | 0 |
Luminance Adjustment Blue | 0 |
Luminance Adjustment Green | 0 |
Luminance Adjustment Magenta | 0 |
Luminance Adjustment Orange | 0 |
Luminance Adjustment Purple | 0 |
Luminance Adjustment Red | 0 |
Luminance Adjustment Yellow | 0 |
Luminance Smoothing | 0 |
Metering Mode | Multi-segment |
Parametric Darks | -22 |
Parametric Highlight Split | 75 |
Parametric Highlights | +23 |
Parametric Lights | 0 |
Parametric Midtone Split | 50 |
Parametric Shadow Split | 25 |
Parametric Shadows | 0 |
Perspective Aspect | 0 |
Perspective Horizontal | 0 |
Perspective Rotate | 0.0 |
Perspective Scale | 100 |
Perspective Upright | 0 |
Perspective Vertical | 0 |
Perspective X | 0.00 |
Perspective Y | 0.00 |
Post Crop Vignette Amount | 0 |
Process Version | 6.7 |
Red Hue | 0 |
Red Saturation | 0 |
Saturation | Normal |
Saturation Adjustment Aqua | 0 |
Saturation Adjustment Blue | 0 |
Saturation Adjustment Green | 0 |
Saturation Adjustment Magenta | +11 |
Saturation Adjustment Orange | 0 |
Saturation Adjustment Purple | 0 |
Saturation Adjustment Red | +31 |
Saturation Adjustment Yellow | 0 |
Scale Factor To 35 mm Equivalent | 1.0 |
Scene Capture Type | Standard |
Scene Type | Directly photographed |
Sensing Method | One-chip color area |
Shadow Tint | 0 |
Shadows 2012 | -2 |
Sharpen Detail | 25 |
Sharpen Edge Masking | 0 |
Sharpen Radius | +1.0 |
Sharpness | Normal |
Split Toning Balance | 0 |
Split Toning Highlight Hue | 0 |
Split Toning Highlight Saturation | 0 |
Split Toning Shadow Hue | 0 |
Split Toning Shadow Saturation | 0 |
Subject | Nikon D700, Reybridge, Reyview, Tamron, Tamron 70-210mm f/2.8, Tamron AF 70-210mm f/2.8 SP LD, Wiltshire, cottages, letter box, rural, thatched cottage |
Subject Distance Range | Unknown |
Tint | +3 |
Tone Curve | 0, 0, 255, 255 |
Tone Curve Blue | 0, 0, 255, 255 |
Tone Curve Green | 0, 0, 255, 255 |
Tone Curve Name | Linear |
Tone Curve Name 2012 | Linear |
Tone Curve PV2012 | 0, 0, 255, 255 |
Tone Curve PV2012 Blue | 0, 0, 255, 255 |
Tone Curve PV2012 Green | 0, 0, 255, 255 |
Tone Curve PV2012 Red | 0, 0, 255, 255 |
Tone Curve Red | 0, 0, 255, 255 |
Tone Map Strength | 0 |
Version | 9.10 |
Vibrance | -17 |
Vignette Amount | 0 |
White Balance | Auto |
Whites 2012 | -39 |