Shooting information for this photo
Camera: | NIKON CORPORATION NIKON D2Xs |
Exposure: | 0.004 sec. (1/250) |
Aperture: | f/7.6 |
Focal Length: | 135.0 mm (35 mm equivalent: 202.0 mm) |
Flash: | No Flash |
Exposure mode: | Program AE |
Max Aperture: | 2.8 |
Resolution: | 1000 x 1000 dpi |
Original Date: | 2014:08:18 16:30:35.57 |
Created on: | 2014:08:18 16:30:35.57 |
Modified on: | 2019:05:17 14:53:53 |
Software: | Adobe Photoshop Lightroom 6.10 (Macintosh) |
Already Applied | True |
Auto Lateral CA | 0 |
Auto White Version | 134348800 |
Blacks 2012 | -12 |
Blue Hue | 0 |
Blue Saturation | 0 |
Camera Profile | Embedded |
Circle Of Confusion | 0.020 mm |
Clarity 2012 | +18 |
Color Noise Reduction | 0 |
Color Space | sRGB |
Contrast | High |
Contrast 2012 | -100 |
Convert To Grayscale | True |
Crop Angle | 0 |
Crop Bottom | 0.962677 |
Crop Constrain To Warp | 0 |
Crop Left | 0.109491 |
Crop Right | 0.919216 |
Crop Top | 0.201299 |
Custom Rendered | Normal |
Date Created | 2014:08:18 16:30:35.57 |
Dehaze | 0 |
Digital Zoom Ratio | 1 |
Exposure 2012 | +1.45 |
Exposure Compensation | 0 |
Exposure Mode | Auto |
Field Of View | 10.2 deg |
Focal Length In 35mm Format | 202 mm |
Format | image/jpeg |
Grain Amount | 0 |
Gray Mixer Aqua | -20 |
Gray Mixer Blue | +1 |
Gray Mixer Green | -19 |
Gray Mixer Magenta | +4 |
Gray Mixer Orange | -8 |
Gray Mixer Purple | +9 |
Gray Mixer Red | -2 |
Gray Mixer Yellow | -11 |
Green Hue | 0 |
Green Saturation | 0 |
Has Crop | True |
Has Settings | True |
Hierarchical Subject | 2014, Lyme, Lyme Regis, Sea, beach, family, girls, holiday, holidaymakers, seaside |
Highlights 2012 | +58 |
Hyperfocal Distance | 119.42 m |
ISO | 200 |
Image Number | 57598 |
Image Size | 3000x2000 |
Incremental Temperature | +15 |
Incremental Tint | -46 |
Lens | Tokina AT-X 535 PRO DX 50-135mm F2.8(IF) |
Lens Info | 50-135mm f/2.8 |
Lens Manual Distortion Amount | 0 |
Lens Model | Tokina AT-X 535 PRO DX 50-135mm F2.8(IF) |
Lens Profile Enable | 0 |
Lens Profile Setup | LensDefaults |
Light Source | Unknown |
Light Value | 12.8 |
Luminance Smoothing | 0 |
Metering Mode | Multi-segment |
Parametric Darks | -100 |
Parametric Highlight Split | 90 |
Parametric Highlights | -43 |
Parametric Lights | -100 |
Parametric Midtone Split | 43 |
Parametric Shadow Split | 16 |
Parametric Shadows | 0 |
Perspective Aspect | 0 |
Perspective Horizontal | 0 |
Perspective Rotate | 0.0 |
Perspective Scale | 100 |
Perspective Upright | 0 |
Perspective Vertical | -28 |
Perspective X | 0.00 |
Perspective Y | 0.00 |
Post Crop Vignette Amount | +11 |
Post Crop Vignette Feather | 50 |
Post Crop Vignette Midpoint | 50 |
Post Crop Vignette Roundness | 0 |
Post Crop Vignette Style | 1 |
Process Version | 6.7 |
Red Hue | 0 |
Red Saturation | 0 |
Saturation | Normal |
Scale Factor To 35 mm Equivalent | 1.5 |
Scene Capture Type | Standard |
Scene Type | Directly photographed |
Sensing Method | One-chip color area |
Shadow Tint | 0 |
Shadows 2012 | -5 |
Sharpen Detail | 25 |
Sharpen Edge Masking | 31 |
Sharpen Radius | +1.7 |
Sharpness | Hard |
Split Toning Balance | +13 |
Split Toning Highlight Hue | 0 |
Split Toning Highlight Saturation | 0 |
Split Toning Shadow Hue | 0 |
Split Toning Shadow Saturation | 0 |
Subject | 2014, Lyme, Lyme Regis, Sea, beach, family, girls, holiday, holidaymakers, seaside |
Subject Distance Range | Unknown |
Tone Curve | 0, 0, 255, 255 |
Tone Curve Blue | 0, 0, 255, 255 |
Tone Curve Green | 0, 0, 255, 255 |
Tone Curve Name | Linear |
Tone Curve Name 2012 | Linear |
Tone Curve PV2012 | 0, 0, 255, 255 |
Tone Curve PV2012 Blue | 0, 0, 255, 255 |
Tone Curve PV2012 Green | 0, 0, 255, 255 |
Tone Curve PV2012 Red | 0, 0, 255, 255 |
Tone Curve Red | 0, 0, 255, 255 |
Tone Map Strength | 0 |
Version | 9.10 |
Vignette Amount | 0 |
White Balance | Auto |
Whites 2012 | -66 |