Shooting information for this photo
Camera: | Canon EOS 40D |
Exposure: | 0.00133 sec. (1/750) |
Aperture: | f/11.0 |
Focal Length: | 105.0 mm (35 mm equivalent: 170.0 mm) |
Flash: | Off, Did not fire |
Exposure mode: | Program AE |
Resolution: | 1000 x 1000 dpi |
Original Date: | 2015:05:05 13:12:58.01 |
Created on: | 2015:05:05 13:12:58.01 |
Modified on: | 2019:03:27 09:12:34 |
Software: | Adobe Photoshop Lightroom 6.10 (Macintosh) |
Already Applied | True |
Auto Lateral CA | 0 |
Auto White Version | 134348800 |
Blacks 2012 | +33 |
Blue Hue | 0 |
Blue Saturation | 0 |
Camera Profile | Embedded |
Circle Of Confusion | 0.019 mm |
Clarity 2012 | +50 |
Color Noise Reduction | 25 |
Color Noise Reduction Detail | 50 |
Color Noise Reduction Smoothness | 68 |
Color Space | sRGB |
Contrast 2012 | +50 |
Convert To Grayscale | False |
Crop Angle | 0 |
Crop Bottom | 1 |
Crop Constrain To Warp | 1 |
Crop Left | 0.176318 |
Crop Right | 0.775004 |
Crop Top | 0.023926 |
Custom Rendered | Normal |
Date Created | 2015:05:05 13:12:58.01 |
Defringe Green Amount | 0 |
Defringe Green Hue Hi | 60 |
Defringe Green Hue Lo | 40 |
Defringe Purple Amount | 0 |
Defringe Purple Hue Hi | 70 |
Defringe Purple Hue Lo | 30 |
Dehaze | 0 |
Exposure 2012 | +0.35 |
Exposure Compensation | 0 |
Exposure Mode | Auto |
Field Of View | 12.1 deg |
Format | image/jpeg |
Gradient Based Corr Active | true |
Gradient Based Corr Amount | 1.000000 |
Gradient Based Corr Brightness | 0.000000 |
Gradient Based Corr Clarity 2012 | 0.713986 |
Gradient Based Corr Contrast 2012 | 0.398914 |
Gradient Based Corr Defringe | 0.698933 |
Gradient Based Corr Exposure 2012 | 0.189024 |
Gradient Based Corr Highlights 2012 | 0.559546 |
Gradient Based Corr Hue | 186.003998 |
Gradient Based Corr Local Blacks 2012 | 0.000000 |
Gradient Based Corr Local Dehaze | 0.000000 |
Gradient Based Corr Local Whites 2012 | 0.000000 |
Gradient Based Corr Luminance Noise | -0.813072 |
Gradient Based Corr Mask Full X | 0.453242 |
Gradient Based Corr Mask Full Y | 0.876202 |
Gradient Based Corr Mask Value | 1.000000 |
Gradient Based Corr Mask What | Mask/Gradient |
Gradient Based Corr Mask Zero X | 0.452634 |
Gradient Based Corr Mask Zero Y | 0.675864 |
Gradient Based Corr Moire | -0.825934 |
Gradient Based Corr Saturation | 0.235039 |
Gradient Based Corr Shadows 2012 | 1.000000 |
Gradient Based Corr Sharpness | 0.272008 |
Gradient Based Corr Temperature | -0.279440 |
Gradient Based Corr Tint | -0.132527 |
Gradient Based Corr What | Correction |
Grain Amount | 0 |
Green Hue | 0 |
Green Saturation | 0 |
Has Crop | True |
Has Settings | True |
Hierarchical Subject | 1968, Canon EF 35-105mm f/3.5-4.5, Daily Express, news, newspaper, old |
Highlights 2012 | 0 |
Hue Adjustment Aqua | 0 |
Hue Adjustment Blue | 0 |
Hue Adjustment Green | 0 |
Hue Adjustment Magenta | 0 |
Hue Adjustment Orange | 0 |
Hue Adjustment Purple | 0 |
Hue Adjustment Red | 0 |
Hue Adjustment Yellow | 0 |
Hyperfocal Distance | 54.00 m |
ISO | 1600 |
Image Size | 3000x2000 |
Incremental Temperature | +9 |
Incremental Tint | +25 |
Lens Manual Distortion Amount | 0 |
Lens Profile Enable | 0 |
Lens Profile Setup | LensDefaults |
Light Value | 12.5 |
Luminance Adjustment Aqua | 0 |
Luminance Adjustment Blue | 0 |
Luminance Adjustment Green | 0 |
Luminance Adjustment Magenta | 0 |
Luminance Adjustment Orange | -40 |
Luminance Adjustment Purple | 0 |
Luminance Adjustment Red | +45 |
Luminance Adjustment Yellow | 0 |
Luminance Noise Reduction Contrast | 38 |
Luminance Noise Reduction Detail | 50 |
Luminance Smoothing | 83 |
Metering Mode | Multi-segment |
Parametric Darks | +35 |
Parametric Highlight Split | 75 |
Parametric Highlights | 0 |
Parametric Lights | +17 |
Parametric Midtone Split | 50 |
Parametric Shadow Split | 25 |
Parametric Shadows | 0 |
Perspective Aspect | 0 |
Perspective Horizontal | 0 |
Perspective Rotate | 0.0 |
Perspective Scale | 100 |
Perspective Upright | 0 |
Perspective Vertical | +55 |
Perspective X | 0.00 |
Perspective Y | 0.00 |
Post Crop Vignette Amount | 0 |
Process Version | 6.7 |
Red Hue | 0 |
Red Saturation | 0 |
Saturation | 0 |
Saturation Adjustment Aqua | 0 |
Saturation Adjustment Blue | -100 |
Saturation Adjustment Green | 0 |
Saturation Adjustment Magenta | -4 |
Saturation Adjustment Orange | -77 |
Saturation Adjustment Purple | -100 |
Saturation Adjustment Red | +38 |
Saturation Adjustment Yellow | -7 |
Scale Factor To 35 mm Equivalent | 1.6 |
Scene Capture Type | Standard |
Shadow Tint | 0 |
Shadows 2012 | +29 |
Sharpen Detail | 25 |
Sharpen Edge Masking | 0 |
Sharpen Radius | +1.0 |
Sharpness | 47 |
Split Toning Balance | 0 |
Split Toning Highlight Hue | 0 |
Split Toning Highlight Saturation | 0 |
Split Toning Shadow Hue | 0 |
Split Toning Shadow Saturation | 0 |
Subject | 1968, Canon EF 35-105mm f/3.5-4.5, Daily Express, news, newspaper, old |
Tone Curve | 0, 0, 255, 255 |
Tone Curve Blue | 0, 0, 255, 255 |
Tone Curve Green | 0, 0, 255, 255 |
Tone Curve Name | Linear |
Tone Curve Name 2012 | Linear |
Tone Curve PV2012 | 0, 0, 255, 255 |
Tone Curve PV2012 Blue | 0, 0, 255, 255 |
Tone Curve PV2012 Green | 0, 0, 255, 255 |
Tone Curve PV2012 Red | 0, 0, 255, 255 |
Tone Curve Red | 0, 0, 255, 255 |
Tone Map Strength | 0 |
Version | 9.10 |
Vibrance | +45 |
Vignette Amount | 0 |
White Balance | Auto |
Whites 2012 | 0 |