Shooting information for this photo
Camera: | NIKON CORPORATION NIKON D300S |
Exposure: | 0.0025 sec. (1/400) |
Aperture: | f/10.0 |
Focal Length: | 48.0 mm (35 mm equivalent: 72.0 mm) |
Flash: | No Flash |
Exposure mode: | Program AE |
Max Aperture: | 2.8 |
Resolution: | 1000 x 1000 dpi |
Original Date: | 2018:10:10 15:16:37.00 |
Created on: | 2018:10:10 15:16:37.00 |
Modified on: | 2018:10:11 07:34:30 |
Software: | Adobe Photoshop Lightroom 6.10 (Macintosh) |
Already Applied | True |
Auto Lateral CA | 0 |
Auto White Version | 134348800 |
Blacks 2012 | -77 |
Blue Hue | 0 |
Blue Saturation | 0 |
CFA Pattern | [Red,Green][Green,Blue] |
Camera Profile | Adobe Standard |
Circle Of Confusion | 0.020 mm |
Clarity 2012 | +37 |
Color Noise Reduction | 25 |
Color Noise Reduction Detail | 50 |
Color Noise Reduction Smoothness | 50 |
Color Space | sRGB |
Color Temperature | 6930 |
Contrast | Normal |
Contrast 2012 | +61 |
Convert To Grayscale | True |
Crop Angle | -0.087635 |
Crop Bottom | 0.997702 |
Crop Constrain To Warp | 0 |
Crop Left | 0.000642 |
Crop Right | 0.999358 |
Crop Top | 0.002298 |
Custom Rendered | Normal |
Date Created | 2018:10:10 15:16:37.00 |
Dehaze | 0 |
Digital Zoom Ratio | 1 |
Exposure 2012 | +0.25 |
Exposure Compensation | 0 |
Exposure Mode | Auto |
Field Of View | 28.1 deg |
Focal Length In 35mm Format | 72 mm |
Format | image/jpeg |
Gain Control | Low gain up |
Gradient Based Corr Active | true |
Gradient Based Corr Amount | 1.000000 |
Gradient Based Corr Brightness | 0.000000 |
Gradient Based Corr Clarity 2012 | 0.088224 |
Gradient Based Corr Contrast 2012 | 0.811166 |
Gradient Based Corr Defringe | 0.698933 |
Gradient Based Corr Exposure 2012 | -1.000000 |
Gradient Based Corr Highlights 2012 | -1.000000 |
Gradient Based Corr Hue | 186.003998 |
Gradient Based Corr Local Blacks 2012 | 0.000000 |
Gradient Based Corr Local Dehaze | 0.000000 |
Gradient Based Corr Local Whites 2012 | 0.000000 |
Gradient Based Corr Luminance Noise | 0.000000 |
Gradient Based Corr Mask Full X | 0.476218 |
Gradient Based Corr Mask Full Y | 0.998232 |
Gradient Based Corr Mask Value | 1.000000 |
Gradient Based Corr Mask What | Mask/Gradient |
Gradient Based Corr Mask Zero X | 0.475730 |
Gradient Based Corr Mask Zero Y | 0.518546 |
Gradient Based Corr Moire | 0.000000 |
Gradient Based Corr Saturation | 0.235039 |
Gradient Based Corr Shadows 2012 | 0.517626 |
Gradient Based Corr Sharpness | 0.279535 |
Gradient Based Corr Temperature | -1.000000 |
Gradient Based Corr Tint | 0.254383 |
Gradient Based Corr What | Correction |
Grain Amount | 0 |
Gray Mixer Aqua | -18 |
Gray Mixer Blue | +9 |
Gray Mixer Green | -27 |
Gray Mixer Magenta | +3 |
Gray Mixer Orange | -19 |
Gray Mixer Purple | +15 |
Gray Mixer Red | -10 |
Gray Mixer Yellow | -23 |
Green Hue | 0 |
Green Saturation | 0 |
Has Crop | True |
Has Settings | True |
Hierarchical Subject | County Way, Nikon D300S, Tamron, Tamron 17-50mm f/2.8, Tamron Di II SP AF 17-50mm f/2.8 XR LD Aspherical (IF), Trowbridge, flag, red flag |
Highlights 2012 | 0 |
Hyperfocal Distance | 11.50 m |
ISO | 400 |
Image Number | 10658 |
Image Size | 3000x1993 |
Lens | TAMRON SP AF 17-50mm F2.8 XR Di II LD Aspherical IF A16N |
Lens Info | 17-50mm f/2.8 |
Lens Manual Distortion Amount | 0 |
Lens Model | TAMRON SP AF 17-50mm F2.8 XR Di II LD Aspherical IF A16N |
Lens Profile Enable | 0 |
Lens Profile Setup | LensDefaults |
Light Source | Unknown |
Light Value | 13.3 |
Luminance Smoothing | 0 |
Metering Mode | Multi-segment |
Parametric Darks | 0 |
Parametric Highlight Split | 75 |
Parametric Highlights | 0 |
Parametric Lights | 0 |
Parametric Midtone Split | 50 |
Parametric Shadow Split | 25 |
Parametric Shadows | 0 |
Perspective Aspect | 0 |
Perspective Horizontal | 0 |
Perspective Rotate | 0.0 |
Perspective Scale | 100 |
Perspective Upright | 0 |
Perspective Vertical | 0 |
Perspective X | 0.00 |
Perspective Y | 0.00 |
Post Crop Vignette Amount | 0 |
Process Version | 6.7 |
Red Hue | 0 |
Red Saturation | 0 |
Saturation | Normal |
Scale Factor To 35 mm Equivalent | 1.5 |
Scene Capture Type | Standard |
Scene Type | Directly photographed |
Sensing Method | One-chip color area |
Shadow Tint | 0 |
Shadows 2012 | 0 |
Sharpen Detail | 25 |
Sharpen Edge Masking | 0 |
Sharpen Radius | +1.0 |
Sharpness | Normal |
Split Toning Balance | 0 |
Split Toning Highlight Hue | 0 |
Split Toning Highlight Saturation | 0 |
Split Toning Shadow Hue | 0 |
Split Toning Shadow Saturation | 0 |
Subject | County Way, Nikon D300S, Tamron, Tamron 17-50mm f/2.8, Tamron Di II SP AF 17-50mm f/2.8 XR LD Aspherical (IF), Trowbridge, flag, red flag |
Subject Distance Range | Unknown |
Tint | +6 |
Tone Curve | 0, 0, 255, 255 |
Tone Curve Blue | 0, 0, 255, 255 |
Tone Curve Green | 0, 0, 255, 255 |
Tone Curve Name | Linear |
Tone Curve Name 2012 | Linear |
Tone Curve PV2012 | 0, 0, 255, 255 |
Tone Curve PV2012 Blue | 0, 0, 255, 255 |
Tone Curve PV2012 Green | 0, 0, 255, 255 |
Tone Curve PV2012 Red | 0, 0, 255, 255 |
Tone Curve Red | 0, 0, 255, 255 |
Tone Map Strength | 0 |
Version | 9.10 |
Vignette Amount | 0 |
White Balance | Auto |
Whites 2012 | 0 |