Shooting information for this photo
Camera: | NIKON CORPORATION NIKON D300S |
Exposure: | 0.0025 sec. (1/400) |
Aperture: | f/2.8 |
Focal Length: | 160.0 mm (35 mm equivalent: 240.0 mm) |
Flash: | No Flash |
Exposure mode: | Aperture-priority AE |
Max Aperture: | 2.8 |
Resolution: | 1000 x 1000 dpi |
Original Date: | 2018:09:27 20:01:54.22 |
Created on: | 2018:09:27 20:01:54.22 |
Modified on: | 2018:10:07 14:42:57 |
Software: | Adobe Photoshop Lightroom 6.10 (Macintosh) |
Already Applied | True |
Approximate Focus Distance | 0.01 |
Auto Lateral CA | 0 |
Auto White Version | 134348800 |
Blacks 2012 | -52 |
Blue Hue | 0 |
Blue Saturation | 0 |
CFA Pattern | [Red,Green][Green,Blue] |
Camera Profile | Adobe Standard |
Circle Of Confusion | 0.020 mm |
Clarity 2012 | +100 |
Color Noise Reduction | 25 |
Color Noise Reduction Detail | 50 |
Color Noise Reduction Smoothness | 50 |
Color Space | sRGB |
Color Temperature | 3200 |
Contrast | Normal |
Contrast 2012 | +88 |
Convert To Grayscale | False |
Crop Angle | 0.782227 |
Crop Bottom | 1 |
Crop Constrain To Warp | 0 |
Crop Left | 0.014514 |
Crop Right | 0.985486 |
Crop Top | 0 |
Custom Rendered | Normal |
Date Created | 2018:09:27 20:01:54.22 |
Defringe Green Amount | 0 |
Defringe Green Hue Hi | 60 |
Defringe Green Hue Lo | 40 |
Defringe Purple Amount | 0 |
Defringe Purple Hue Hi | 70 |
Defringe Purple Hue Lo | 30 |
Dehaze | 0 |
Digital Zoom Ratio | 1 |
Exposure 2012 | 0.00 |
Exposure Compensation | 0 |
Exposure Mode | Auto |
Field Of View | 8.6 deg |
Focal Length In 35mm Format | 240 mm |
Format | image/jpeg |
Gain Control | Low gain up |
Gradient Based Corr Active | true |
Gradient Based Corr Amount | 1.000000 |
Gradient Based Corr Brightness | 0.000000 |
Gradient Based Corr Clarity 2012 | -0.497999 |
Gradient Based Corr Contrast 2012 | -0.653773 |
Gradient Based Corr Defringe | 0.698933 |
Gradient Based Corr Exposure 2012 | 0.145770 |
Gradient Based Corr Highlights 2012 | -1.000000 |
Gradient Based Corr Hue | 186.003998 |
Gradient Based Corr Local Blacks 2012 | 0.000000 |
Gradient Based Corr Local Dehaze | 0.000000 |
Gradient Based Corr Local Whites 2012 | 0.000000 |
Gradient Based Corr Luminance Noise | 0.000000 |
Gradient Based Corr Mask Full X | 0.508036 |
Gradient Based Corr Mask Full Y | 0.818455 |
Gradient Based Corr Mask Value | 1.000000 |
Gradient Based Corr Mask What | Mask/Gradient |
Gradient Based Corr Mask Zero X | 0.509983 |
Gradient Based Corr Mask Zero Y | 0.347694 |
Gradient Based Corr Moire | 0.000000 |
Gradient Based Corr Saturation | 0.235039 |
Gradient Based Corr Shadows 2012 | 0.517626 |
Gradient Based Corr Sharpness | 0.279535 |
Gradient Based Corr Temperature | 0.420160 |
Gradient Based Corr Tint | 0.254383 |
Gradient Based Corr What | Correction |
Grain Amount | 0 |
Green Hue | 0 |
Green Saturation | 0 |
Has Crop | True |
Has Settings | True |
Hierarchical Subject | Nikon D300S, Tamron AF 70-210mm f/2.8 SP LD, lamp |
Highlights 2012 | -100 |
Hue Adjustment Aqua | 0 |
Hue Adjustment Blue | 0 |
Hue Adjustment Green | 0 |
Hue Adjustment Magenta | 0 |
Hue Adjustment Orange | 0 |
Hue Adjustment Purple | 0 |
Hue Adjustment Red | 0 |
Hue Adjustment Yellow | 0 |
Hyperfocal Distance | 456.44 m |
ISO | 400 |
Image Number | 10291 |
Image Size | 3000x1993 |
Lens | 72.0-210.0 mm f/2.8 |
Lens ID | Unknown (10) 72-210mm |
Lens Info | 72-210mm f/2.8 |
Lens Manual Distortion Amount | 0 |
Lens Model | 72.0-210.0 mm f/2.8 |
Lens Profile Enable | 0 |
Lens Profile Setup | LensDefaults |
Light Source | Unknown |
Light Value | 9.6 |
Luminance Adjustment Aqua | 0 |
Luminance Adjustment Blue | 0 |
Luminance Adjustment Green | 0 |
Luminance Adjustment Magenta | 0 |
Luminance Adjustment Orange | 0 |
Luminance Adjustment Purple | 0 |
Luminance Adjustment Red | 0 |
Luminance Adjustment Yellow | 0 |
Luminance Smoothing | 0 |
Metering Mode | Spot |
Parametric Darks | 0 |
Parametric Highlight Split | 75 |
Parametric Highlights | 0 |
Parametric Lights | 0 |
Parametric Midtone Split | 50 |
Parametric Shadow Split | 25 |
Parametric Shadows | 0 |
Perspective Aspect | 0 |
Perspective Horizontal | 0 |
Perspective Rotate | 0.0 |
Perspective Scale | 100 |
Perspective Upright | 0 |
Perspective Vertical | 0 |
Perspective X | 0.00 |
Perspective Y | 0.00 |
Post Crop Vignette Amount | 0 |
Process Version | 6.7 |
Red Hue | 0 |
Red Saturation | 0 |
Saturation | High |
Saturation Adjustment Aqua | 0 |
Saturation Adjustment Blue | 0 |
Saturation Adjustment Green | 0 |
Saturation Adjustment Magenta | 0 |
Saturation Adjustment Orange | 0 |
Saturation Adjustment Purple | 0 |
Saturation Adjustment Red | 0 |
Saturation Adjustment Yellow | 0 |
Scale Factor To 35 mm Equivalent | 1.5 |
Scene Capture Type | Standard |
Scene Type | Directly photographed |
Sensing Method | One-chip color area |
Shadow Tint | 0 |
Shadows 2012 | -100 |
Sharpen Detail | 53 |
Sharpen Edge Masking | 0 |
Sharpen Radius | +1.9 |
Sharpness | Normal |
Split Toning Balance | 0 |
Split Toning Highlight Hue | 0 |
Split Toning Highlight Saturation | 0 |
Split Toning Shadow Hue | 0 |
Split Toning Shadow Saturation | 0 |
Subject | Nikon D300S, Tamron AF 70-210mm f/2.8 SP LD, lamp |
Subject Distance Range | Unknown |
Tint | -12 |
Tone Curve | 0, 0, 255, 255 |
Tone Curve Blue | 0, 0, 255, 255 |
Tone Curve Green | 0, 0, 255, 255 |
Tone Curve Name | Linear |
Tone Curve Name 2012 | Medium Contrast |
Tone Curve PV2012 | 0, 0, 32, 22, 64, 56, 128, 128, 192, 196, 255, 255 |
Tone Curve PV2012 Blue | 0, 0, 255, 255 |
Tone Curve PV2012 Green | 0, 0, 255, 255 |
Tone Curve PV2012 Red | 0, 0, 255, 255 |
Tone Curve Red | 0, 0, 255, 255 |
Tone Map Strength | 0 |
Version | 9.10 |
Vibrance | -34 |
Vignette Amount | 0 |
White Balance | Auto |
Whites 2012 | +11 |