Shooting information for this photo
Camera: | NIKON CORPORATION NIKON D2Xs |
Exposure: | 0.008 sec. (1/125) |
Aperture: | f/6.0 |
Focal Length: | 50.0 mm (35 mm equivalent: 75.0 mm) |
Flash: | No Flash |
Exposure mode: | Program AE |
Max Aperture: | 1.4 |
Resolution: | 1000 x 1000 dpi |
Original Date: | 2012:11:05 12:25:14.15 |
Created on: | 2012:11:05 12:25:14.15 |
Modified on: | 2018:09:12 11:30:20 |
Software: | Adobe Photoshop Lightroom 6.10 (Macintosh) |
Already Applied | True |
Approximate Focus Distance | 4294967295 |
Auto Lateral CA | 0 |
Auto White Version | 134348800 |
Blacks 2012 | +90 |
Blue Hue | 0 |
Blue Saturation | 0 |
CFA Pattern | [Red,Green][Green,Blue] |
Camera Profile | Embedded |
Circle Of Confusion | 0.020 mm |
Clarity 2012 | +69 |
Color Noise Reduction | 0 |
Color Space | sRGB |
Contrast | Low |
Contrast 2012 | +57 |
Convert To Grayscale | True |
Crop Angle | 1.7106 |
Crop Bottom | 1 |
Crop Constrain To Warp | 0 |
Crop Left | 0.022151 |
Crop Right | 0.618234 |
Crop Top | 0 |
Custom Rendered | Normal |
Date Created | 2012:11:05 12:25:14.15 |
Dehaze | 0 |
Digital Zoom Ratio | 1 |
Exposure 2012 | +1.15 |
Exposure Compensation | -1 |
Exposure Mode | Auto |
Field Of View | 27.0 deg |
Focal Length In 35mm Format | 75 mm |
Format | image/jpeg |
Gain Control | None |
Gradient Based Corr Active | true |
Gradient Based Corr Amount | 1.000000 |
Gradient Based Corr Brightness | 0.000000 |
Gradient Based Corr Clarity 2012 | -0.497999 |
Gradient Based Corr Contrast 2012 | 1.000000 |
Gradient Based Corr Defringe | 0.698933 |
Gradient Based Corr Exposure 2012 | -1.000000 |
Gradient Based Corr Highlights 2012 | 0.859280 |
Gradient Based Corr Hue | 186.003998 |
Gradient Based Corr Local Blacks 2012 | 0.000000 |
Gradient Based Corr Local Dehaze | 0.000000 |
Gradient Based Corr Local Whites 2012 | 0.000000 |
Gradient Based Corr Luminance Noise | 0.000000 |
Gradient Based Corr Mask Full X | 0.566249 |
Gradient Based Corr Mask Full Y | 0.882968 |
Gradient Based Corr Mask Value | 1.000000 |
Gradient Based Corr Mask What | Mask/Gradient |
Gradient Based Corr Mask Zero X | 0.224020 |
Gradient Based Corr Mask Zero Y | 0.596570 |
Gradient Based Corr Moire | 0.000000 |
Gradient Based Corr Saturation | 0.235039 |
Gradient Based Corr Shadows 2012 | 1.000000 |
Gradient Based Corr Sharpness | -0.159299 |
Gradient Based Corr Temperature | -1.000000 |
Gradient Based Corr Tint | -1.000000 |
Gradient Based Corr What | Correction |
Grain Amount | 0 |
Gray Mixer Aqua | -19 |
Gray Mixer Blue | +7 |
Gray Mixer Green | -25 |
Gray Mixer Magenta | +4 |
Gray Mixer Orange | -16 |
Gray Mixer Purple | +13 |
Gray Mixer Red | -8 |
Gray Mixer Yellow | -20 |
Green Hue | 0 |
Green Saturation | 0 |
Has Crop | True |
Has Settings | True |
Hierarchical Subject | A Board, Corsham, La Brasiliana, advertisement, people |
Highlights 2012 | +4 |
Hyperfocal Distance | 20.80 m |
ISO | 100 |
Image Number | 49742 |
Image Size | 2859x3000 |
Incremental Temperature | +7 |
Incremental Tint | -15 |
Lens | 50.0 mm f/1.4 |
Lens ID | AF Nikkor 50mm f/1.4D |
Lens Info | 50mm f/1.4 |
Lens Manual Distortion Amount | 0 |
Lens Model | 50.0 mm f/1.4 |
Lens Profile Enable | 0 |
Lens Profile Setup | LensDefaults |
Light Source | Unknown |
Light Value | 12.1 |
Luminance Smoothing | 0 |
Metering Mode | Multi-segment |
Parametric Darks | 0 |
Parametric Highlight Split | 75 |
Parametric Highlights | 0 |
Parametric Lights | 0 |
Parametric Midtone Split | 50 |
Parametric Shadow Split | 25 |
Parametric Shadows | 0 |
Perspective Aspect | 0 |
Perspective Horizontal | 0 |
Perspective Rotate | 0.0 |
Perspective Scale | 100 |
Perspective Upright | 0 |
Perspective Vertical | 0 |
Perspective X | 0.00 |
Perspective Y | 0.00 |
Post Crop Vignette Amount | -15 |
Post Crop Vignette Feather | 50 |
Post Crop Vignette Highlight Contrast | 0 |
Post Crop Vignette Midpoint | 50 |
Post Crop Vignette Roundness | 0 |
Post Crop Vignette Style | 1 |
Process Version | 6.7 |
Red Hue | 0 |
Red Saturation | 0 |
Saturation | Normal |
Scale Factor To 35 mm Equivalent | 1.5 |
Scene Capture Type | Standard |
Scene Type | Directly photographed |
Sensing Method | One-chip color area |
Shadow Tint | 0 |
Shadows 2012 | +100 |
Sharpen Detail | 25 |
Sharpen Edge Masking | 0 |
Sharpen Radius | +1.0 |
Sharpness | Normal |
Split Toning Balance | 0 |
Split Toning Highlight Hue | 0 |
Split Toning Highlight Saturation | 0 |
Split Toning Shadow Hue | 0 |
Split Toning Shadow Saturation | 0 |
Subject | A Board, Corsham, La Brasiliana, advertisement, people |
Subject Distance Range | Unknown |
Tone Curve | 0, 0, 255, 255 |
Tone Curve Blue | 0, 0, 255, 255 |
Tone Curve Green | 0, 0, 255, 255 |
Tone Curve Name | Linear |
Tone Curve Name 2012 | Medium Contrast |
Tone Curve PV2012 | 0, 0, 32, 22, 64, 56, 128, 128, 192, 196, 255, 255 |
Tone Curve PV2012 Blue | 0, 0, 255, 255 |
Tone Curve PV2012 Green | 0, 0, 255, 255 |
Tone Curve PV2012 Red | 0, 0, 255, 255 |
Tone Curve Red | 0, 0, 255, 255 |
Tone Map Strength | 0 |
Version | 9.10 |
Vignette Amount | 0 |
White Balance | Auto |
Whites 2012 | -28 |