Shooting information for this photo
Camera: | PENTAX Corporation PENTAX Optio S30 |
Exposure: | 0.005 sec. (1/200) |
Aperture: | f/7.7 |
Focal Length: | 17.4 mm (35 mm equivalent: 114.0 mm) |
Flash: | Auto, Did not fire |
Max Aperture: | 2.6 |
Resolution: | 1000 x 1000 dpi |
Original Date: | 2007:09:22 11:29:33 |
Created on: | 2007:09:22 11:29:33 |
Modified on: | 2018:08:19 15:50:10 |
Software: | Adobe Photoshop Lightroom 6.10 (Macintosh) |
Already Applied | True |
Auto Lateral CA | 0 |
Auto White Version | 134348800 |
Blacks 2012 | 0 |
Blue Hue | 0 |
Blue Saturation | 0 |
Camera Profile | Embedded |
Circle Of Confusion | 0.005 mm |
Clarity 2012 | -46 |
Color Noise Reduction | 0 |
Color Space | sRGB |
Contrast | Normal |
Contrast 2012 | +24 |
Convert To Grayscale | False |
Crop Angle | 0.098613 |
Crop Bottom | 1 |
Crop Constrain To Warp | 0 |
Crop Left | 0.00194 |
Crop Right | 0.99806 |
Crop Top | 0 |
Custom Rendered | Normal |
Date Created | 2007:09:22 11:29:33 |
Defringe Green Amount | 0 |
Defringe Green Hue Hi | 60 |
Defringe Green Hue Lo | 40 |
Defringe Purple Amount | 0 |
Defringe Purple Hue Hi | 70 |
Defringe Purple Hue Lo | 30 |
Dehaze | 0 |
Digital Zoom Ratio | 0 |
Exposure 2012 | 0.00 |
Exposure Compensation | 0 |
Exposure Mode | Auto |
Field Of View | 17.9 deg |
Focal Length In 35mm Format | 114 mm |
Format | image/jpeg |
Gradient Based Corr Active | true |
Gradient Based Corr Amount | 1.000000 |
Gradient Based Corr Brightness | 0.000000 |
Gradient Based Corr Clarity 2012 | -1.000000 |
Gradient Based Corr Contrast 2012 | -0.484375 |
Gradient Based Corr Defringe | 0.698933 |
Gradient Based Corr Exposure 2012 | 0.339082 |
Gradient Based Corr Highlights 2012 | 0.473609 |
Gradient Based Corr Hue | 186.003998 |
Gradient Based Corr Local Blacks 2012 | 0.000000 |
Gradient Based Corr Local Dehaze | 0.000000 |
Gradient Based Corr Local Whites 2012 | 0.000000 |
Gradient Based Corr Luminance Noise | 0.000000 |
Gradient Based Corr Mask Full X | 0.489594 |
Gradient Based Corr Mask Full Y | 0.993144 |
Gradient Based Corr Mask Value | 1.000000 |
Gradient Based Corr Mask What | Mask/Gradient |
Gradient Based Corr Mask Zero X | 0.490007 |
Gradient Based Corr Mask Zero Y | 0.595035 |
Gradient Based Corr Moire | 0.000000 |
Gradient Based Corr Saturation | 0.235039 |
Gradient Based Corr Shadows 2012 | 0.271056 |
Gradient Based Corr Sharpness | -0.265339 |
Gradient Based Corr Temperature | -0.149962 |
Gradient Based Corr Tint | 0.254383 |
Gradient Based Corr What | Correction |
Grain Amount | 0 |
Green Hue | 0 |
Green Saturation | 0 |
Has Crop | True |
Has Settings | True |
Hierarchical Subject | Cancale 3 Île des Rimains, Sea, boats |
Highlights 2012 | -26 |
Hue Adjustment Aqua | 0 |
Hue Adjustment Blue | 0 |
Hue Adjustment Green | 0 |
Hue Adjustment Magenta | 0 |
Hue Adjustment Orange | 0 |
Hue Adjustment Purple | 0 |
Hue Adjustment Red | 0 |
Hue Adjustment Yellow | 0 |
Hyperfocal Distance | 8.57 m |
ISO | 50 |
Image Size | 3000x1810 |
Incremental Temperature | 0 |
Incremental Tint | 0 |
Lens Manual Distortion Amount | 0 |
Lens Profile Enable | 0 |
Lens Profile Setup | LensDefaults |
Light Value | 14.5 |
Luminance Adjustment Aqua | 0 |
Luminance Adjustment Blue | 0 |
Luminance Adjustment Green | 0 |
Luminance Adjustment Magenta | 0 |
Luminance Adjustment Orange | 0 |
Luminance Adjustment Purple | 0 |
Luminance Adjustment Red | 0 |
Luminance Adjustment Yellow | 0 |
Luminance Smoothing | 0 |
Metering Mode | Multi-segment |
Parametric Darks | -25 |
Parametric Highlight Split | 75 |
Parametric Highlights | 0 |
Parametric Lights | +38 |
Parametric Midtone Split | 50 |
Parametric Shadow Split | 25 |
Parametric Shadows | 0 |
Perspective Aspect | 0 |
Perspective Horizontal | 0 |
Perspective Rotate | 0.0 |
Perspective Scale | 100 |
Perspective Upright | 0 |
Perspective Vertical | 0 |
Perspective X | 0.00 |
Perspective Y | 0.00 |
Post Crop Vignette Amount | 0 |
Process Version | 6.7 |
Red Hue | 0 |
Red Saturation | 0 |
Saturation | Normal |
Saturation Adjustment Aqua | 0 |
Saturation Adjustment Blue | 0 |
Saturation Adjustment Green | 0 |
Saturation Adjustment Magenta | 0 |
Saturation Adjustment Orange | 0 |
Saturation Adjustment Purple | 0 |
Saturation Adjustment Red | 0 |
Saturation Adjustment Yellow | 0 |
Scale Factor To 35 mm Equivalent | 6.6 |
Scene Capture Type | Landscape |
Shadow Tint | 0 |
Shadows 2012 | 0 |
Sharpen Detail | 35 |
Sharpen Edge Masking | 0 |
Sharpen Radius | +0.8 |
Sharpness | Normal |
Split Toning Balance | 0 |
Split Toning Highlight Hue | 0 |
Split Toning Highlight Saturation | 0 |
Split Toning Shadow Hue | 0 |
Split Toning Shadow Saturation | 0 |
Subject | Cancale 3 Île des Rimains, Sea, boats |
Subject Distance Range | Distant |
Title | Cancale 3 Île des Rimains |
Tone Curve | 0, 0, 255, 255 |
Tone Curve Blue | 0, 0, 255, 255 |
Tone Curve Green | 0, 0, 255, 255 |
Tone Curve Name | Linear |
Tone Curve Name 2012 | Linear |
Tone Curve PV2012 | 0, 0, 255, 255 |
Tone Curve PV2012 Blue | 0, 0, 255, 255 |
Tone Curve PV2012 Green | 0, 0, 255, 255 |
Tone Curve PV2012 Red | 0, 0, 255, 255 |
Tone Curve Red | 0, 0, 255, 255 |
Tone Map Strength | 0 |
Version | 9.10 |
Vibrance | 0 |
Vignette Amount | 0 |
White Balance | Auto |
Whites 2012 | +7 |