Shooting information for this photo
Camera: | NIKON CORPORATION NIKON D2Xs |
Exposure: | 0.0025 sec. (1/400) |
Aperture: | f/3.5 |
Focal Length: | 95.0 mm (35 mm equivalent: 142.0 mm) |
Flash: | No Flash |
Exposure mode: | Shutter speed priority AE |
Max Aperture: | 2.8 |
Resolution: | 1000 x 1000 dpi |
Original Date: | 2017:02:18 16:20:24.3 |
Created on: | 2017:02:18 16:20:24.3 |
Modified on: | 2017:02:19 05:14:35 |
Software: | Adobe Photoshop Lightroom 6.0 (Macintosh) |
Already Applied | True |
Approximate Focus Distance | 0.02 |
Auto Lateral CA | 0 |
Auto White Version | 134348800 |
Blacks 2012 | -15 |
Blue Hue | 0 |
Blue Saturation | 0 |
CFA Pattern | [Red,Green][Green,Blue] |
Camera Profile | Adobe Standard |
Circle Of Confusion | 0.020 mm |
Clarity 2012 | +70 |
Color Noise Reduction | 25 |
Color Noise Reduction Detail | 50 |
Color Noise Reduction Smoothness | 50 |
Color Temperature | 4350 |
Contrast | High |
Contrast 2012 | +51 |
Convert To Grayscale | True |
Custom Rendered | Normal |
Digital Zoom Ratio | 1 |
Exposure 2012 | +0.25 |
Exposure Compensation | 0 |
Exposure Mode | Auto |
Field Of View | 14.4 deg |
Focal Length In 35mm Format | 142 mm |
Format | image/jpeg |
Gain Control | Low gain up |
Grain Amount | 0 |
Gray Mixer Aqua | -18 |
Gray Mixer Blue | +8 |
Gray Mixer Green | -26 |
Gray Mixer Magenta | +4 |
Gray Mixer Orange | -18 |
Gray Mixer Purple | +15 |
Gray Mixer Red | -9 |
Gray Mixer Yellow | -22 |
Green Hue | 0 |
Green Saturation | 0 |
Has Crop | False |
Has Settings | True |
Hierarchical Subject | Nikon D2Xs, Tamron AF 70-210mm f/2.8 SP LD, Westbury, candid, passengers, people, platform, railway, railway station, waiting |
Highlights 2012 | -100 |
Hyperfocal Distance | 128.28 m |
ISO | 400 |
Image Number | 65202 |
Image Size | 3000x1993 |
Lens | 72.0-210.0 mm f/2.8 |
Lens ID | Unknown (10) 72-210mm |
Lens Info | 72-210mm f/2.8 |
Lens Manual Distortion Amount | 0 |
Lens Model | 72.0-210.0 mm f/2.8 |
Lens Profile Enable | 0 |
Lens Profile Setup | LensDefaults |
Light Source | Unknown |
Light Value | 10.3 |
Luminance Smoothing | 0 |
Metering Mode | Multi-segment |
Parametric Darks | -22 |
Parametric Highlight Split | 75 |
Parametric Highlights | 0 |
Parametric Lights | +18 |
Parametric Midtone Split | 50 |
Parametric Shadow Split | 25 |
Parametric Shadows | 0 |
Perspective Aspect | 0 |
Perspective Horizontal | 0 |
Perspective Rotate | 0.0 |
Perspective Scale | 100 |
Perspective Upright | 0 |
Perspective Vertical | 0 |
Post Crop Vignette Amount | 0 |
Process Version | 6.7 |
Raw File Name | Passengers.jpg |
Red Hue | 0 |
Red Saturation | 0 |
Saturation | Normal |
Scale Factor To 35 mm Equivalent | 1.5 |
Scene Capture Type | Standard |
Scene Type | Directly photographed |
Sensing Method | One-chip color area |
Shadow Tint | 0 |
Shadows 2012 | 0 |
Sharpen Detail | 25 |
Sharpen Edge Masking | 0 |
Sharpen Radius | +1.0 |
Sharpness | Hard |
Split Toning Balance | 0 |
Split Toning Highlight Hue | 0 |
Split Toning Highlight Saturation | 0 |
Split Toning Shadow Hue | 0 |
Split Toning Shadow Saturation | 0 |
Subject | Nikon D2Xs, Tamron AF 70-210mm f/2.8 SP LD, Westbury, candid, passengers, people, platform, railway, railway station, waiting |
Subject Distance Range | Unknown |
Tint | -3 |
Tone Curve | 0, 0, 255, 255 |
Tone Curve Blue | 0, 0, 255, 255 |
Tone Curve Green | 0, 0, 255, 255 |
Tone Curve Name | Linear |
Tone Curve Name 2012 | Linear |
Tone Curve PV2012 | 0, 0, 255, 255 |
Tone Curve PV2012 Blue | 0, 0, 255, 255 |
Tone Curve PV2012 Green | 0, 0, 255, 255 |
Tone Curve PV2012 Red | 0, 0, 255, 255 |
Tone Curve Red | 0, 0, 255, 255 |
Version | 9.0 |
Vignette Amount | 0 |
White Balance | Auto |
Whites 2012 | -50 |