Shooting information for this photo
Camera: | NIKON CORPORATION NIKON D90 |
Exposure: | 0.00313 sec. (1/320) |
Aperture: | f/9.0 |
Focal Length: | 10.0 mm (35 mm equivalent: 15.0 mm) |
Flash: | No Flash |
Exposure mode: | Program AE |
Max Aperture: | 3.5 |
Resolution: | 240 x 240 dpi |
Dimension: | 2844 x 2024 pixels |
Original Date: | 2014:09:16 10:16:08.00 |
Created on: | 2014:09:16 10:16:08.00 |
Modified on: | 2014:09:23 09:43:17.00 |
Software: | Adobe Photoshop CS5 Windows |
Copyright: | François |
Already Applied | True |
Approximate Focus Distance | 4294967295 |
Artist | François |
Auto Lateral CA | 1 |
Blacks 2012 | 0 |
Blue Hue | 0 |
Blue Saturation | 0 |
Brightness | +50 |
CFA Pattern | [Green,Blue][Red,Green] |
Camera Profile | Adobe Standard |
Circle Of Confusion | 0.020 mm |
Clarity | 0 |
Clarity 2012 | 0 |
Color Mode | RGB |
Color Noise Reduction | 25 |
Color Noise Reduction Detail | 50 |
Color Space | Uncalibrated |
Color Temperature | 4700 |
Contrast | Normal |
Contrast 2012 | 0 |
Convert To Grayscale | False |
Creator | François |
Custom Rendered | Normal |
Date Created | 2014:09:16 10:16:08 |
Defringe | 0 |
Depth Of Field | inf (0.55 m - inf) |
Description | Eusebius- of Grote kerk..Kerkplein, Arnhem..16/09/2014 |
Digital Zoom Ratio | 1 |
Exposure | 0.00 |
Exposure 2012 | 0.00 |
Exposure Compensation | 0 |
Exposure Mode | Auto |
Field Of View | 100.4 deg |
Fill Light | 0 |
Focal Length In 35mm Format | 15 mm |
Format | image/jpeg |
Gain Control | None |
Grain Amount | 0 |
Green Hue | 0 |
Green Saturation | 0 |
Has Crop | False |
Has Settings | True |
Highlight Recovery | 0 |
Highlights 2012 | 0 |
Hue Adjustment Aqua | 0 |
Hue Adjustment Blue | 0 |
Hue Adjustment Green | 0 |
Hue Adjustment Magenta | 0 |
Hue Adjustment Orange | 0 |
Hue Adjustment Purple | 0 |
Hue Adjustment Red | 0 |
Hue Adjustment Yellow | 0 |
Hyperfocal Distance | 0.55 m |
ICC Profile Name | Adobe RGB (1998) |
ISO | 200 |
Image Description | Eusebius- of Grote kerk..Kerkplein, Arnhem..16/09/2014 |
Image Number | 6889 |
Image Size | 2844x2024 |
Lens | 10.0-24.0 mm f/3.5-4.5 |
Lens ID | AF-S DX Nikkor 10-24mm f/3.5-4.5G ED |
Lens Info | 10-24mm f/3.5-4.5 |
Lens Manual Distortion Amount | 0 |
Lens Model | 10.0-24.0 mm f/3.5-4.5 |
Lens Profile Chromatic Aberration Scale | 100 |
Lens Profile Distortion Scale | 100 |
Lens Profile Enable | 1 |
Lens Profile Filename | NIKON D90 (Nikon AF-S DX NIKKOR 10-24mm f3.5-4.5G ED) - RAW.lcp |
Lens Profile Name | Adobe (Nikon AF-S DX NIKKOR 10-24mm f/3.5-4.5G ED) |
Lens Profile Setup | LensDefaults |
Lens Profile Vignetting Scale | 100 |
Light Source | Unknown |
Light Value | 13.7 |
Luminance Adjustment Aqua | 0 |
Luminance Adjustment Blue | 0 |
Luminance Adjustment Green | 0 |
Luminance Adjustment Magenta | 0 |
Luminance Adjustment Orange | 0 |
Luminance Adjustment Purple | 0 |
Luminance Adjustment Red | 0 |
Luminance Adjustment Yellow | 0 |
Luminance Smoothing | 0 |
Marked | True |
Metering Mode | Multi-segment |
Parametric Darks | +4 |
Parametric Highlight Split | 75 |
Parametric Highlights | 0 |
Parametric Lights | +9 |
Parametric Midtone Split | 50 |
Parametric Shadow Split | 25 |
Parametric Shadows | -36 |
Perspective Horizontal | 0 |
Perspective Rotate | 0.0 |
Perspective Scale | 100 |
Perspective Vertical | 0 |
Photometric Interpretation | RGB |
Post Crop Vignette Amount | 0 |
Process Version | 5.7 |
Rating | 0 |
Raw File Name | DSC_0017.NEF |
Red Hue | 0 |
Red Saturation | 0 |
Rights | François |
Samples Per Pixel | 3 |
Saturation | Normal |
Saturation Adjustment Aqua | 0 |
Saturation Adjustment Blue | 0 |
Saturation Adjustment Green | 0 |
Saturation Adjustment Magenta | 0 |
Saturation Adjustment Orange | 0 |
Saturation Adjustment Purple | 0 |
Saturation Adjustment Red | 0 |
Saturation Adjustment Yellow | 0 |
Scale Factor To 35 mm Equivalent | 1.5 |
Scene Capture Type | Standard |
Scene Type | Directly photographed |
Sensing Method | One-chip color area |
Shadow Tint | 0 |
Shadows | 5 |
Shadows 2012 | 0 |
Sharpen Detail | 25 |
Sharpen Edge Masking | 0 |
Sharpen Radius | +1.0 |
Sharpness | Normal |
Split Toning Balance | 0 |
Split Toning Highlight Hue | 0 |
Split Toning Highlight Saturation | 0 |
Split Toning Shadow Hue | 0 |
Split Toning Shadow Saturation | 0 |
Subject | Nikon, Nikon D90, Nikkor 10-24, Arnhem, Arnhem Kerkplein, Eusebiuskerk Arnhem, Grote Kerk Arnhem, Groothoek |
Subject Distance | 4294967295 m |
Subject Distance Range | Unknown |
Tint | -5 |
Title | A quarter past eleven |
Tone Curve | 0, 0, 32, 22, 64, 56, 128, 128, 192, 196, 255, 255 |
Tone Curve Blue | 0, 0, 255, 255 |
Tone Curve Green | 0, 0, 255, 255 |
Tone Curve Name | Medium Contrast |
Tone Curve Name 2012 | Linear |
Tone Curve PV2012 | 0, 0, 255, 255 |
Tone Curve PV2012 Blue | 0, 0, 255, 255 |
Tone Curve PV2012 Green | 0, 0, 255, 255 |
Tone Curve PV2012 Red | 0, 0, 255, 255 |
Tone Curve Red | 0, 0, 255, 255 |
Version | 6.7 |
Vibrance | 0 |
Vignette Amount | 0 |
Web Statement | https://www.test.ipernity.com/home/3 37117 |
White Balance | Auto |
Whites 2012 | 0 |