Shooting information for this photo
Camera: | Canon EOS 50D |
Exposure: | 0.005 sec. (1/200) |
Aperture: | f/5.6 |
Focal Length: | 130.0 mm (35 mm equivalent: 206.0 mm) |
Flash: | Off, Did not fire |
Exposure mode: | Program AE |
Max Aperture: | 5.7 |
Resolution: | 240 x 240 dpi |
Dimension: | 1600 x 1067 pixels |
Original Date: | 2015:05:29 14:39:13.85 |
Created on: | 2015:05:29 14:39:13.85 |
Modified on: | 2015:05:31 15:42:57.85 |
Software: | Adobe Photoshop CS5 Windows |
Already Applied | True |
Approximate Focus Distance | 3.5 |
Artist | Picasa |
Auto Lateral CA | 0 |
Blacks 2012 | 0 |
Blue Hue | 0 |
Blue Saturation | 0 |
Brightness | +35 |
Camera Profile | Adobe Standard |
Circle Of Confusion | 0.019 mm |
Clarity | 0 |
Clarity 2012 | 0 |
Color Mode | RGB |
Color Noise Reduction | 25 |
Color Noise Reduction Detail | 50 |
Color Space | Uncalibrated |
Color Temperature | 4450 |
Contrast | +32 |
Contrast 2012 | 0 |
Convert To Grayscale | False |
Creator | Picasa |
Custom Rendered | Normal |
Defringe | 0 |
Depth Of Field | 0.15 m (3.43 - 3.58) |
Exposure | +1.25 |
Exposure 2012 | 0.00 |
Exposure Compensation | -1/3 |
Exposure Mode | Auto |
Field Of View | 10.0 deg |
Fill Light | 13 |
Firmware | 1.0.8 |
Flash Compensation | 0 |
Format | image/jpeg |
Grain Amount | 0 |
Green Hue | 0 |
Green Saturation | 0 |
Has Crop | False |
Has Settings | True |
Highlight Recovery | 37 |
Highlights 2012 | 0 |
Hue Adjustment Aqua | 0 |
Hue Adjustment Blue | 0 |
Hue Adjustment Green | 0 |
Hue Adjustment Magenta | 0 |
Hue Adjustment Orange | 0 |
Hue Adjustment Purple | 0 |
Hue Adjustment Red | 0 |
Hue Adjustment Yellow | 0 |
Hyperfocal Distance | 159.15 m |
ICC Profile Name | Adobe RGB (1998) |
ISO | 320 |
Image Number | 0 |
Image Size | 1600x1067 |
Lens | EF-S18-200mm f/3.5-5.6 IS |
Lens ID | Canon EF-S 18-200mm f/3.5-5.6 IS |
Lens Info | 18-200mm f/? |
Lens Manual Distortion Amount | 0 |
Lens Model | EF-S18-200mm f/3.5-5.6 IS |
Lens Profile Enable | 0 |
Lens Profile Setup | LensDefaults |
Light Value | 10.9 |
Luminance Adjustment Aqua | 0 |
Luminance Adjustment Blue | 0 |
Luminance Adjustment Green | 0 |
Luminance Adjustment Magenta | 0 |
Luminance Adjustment Orange | 0 |
Luminance Adjustment Purple | 0 |
Luminance Adjustment Red | 0 |
Luminance Adjustment Yellow | 0 |
Luminance Smoothing | 0 |
Metering Mode | Multi-segment |
Parametric Darks | 0 |
Parametric Highlight Split | 75 |
Parametric Highlights | 0 |
Parametric Lights | 0 |
Parametric Midtone Split | 50 |
Parametric Shadow Split | 25 |
Parametric Shadows | 0 |
Perspective Horizontal | 0 |
Perspective Rotate | 0.0 |
Perspective Scale | 100 |
Perspective Vertical | 0 |
Post Crop Vignette Amount | 0 |
Process Version | 5.7 |
Rating | 0 |
Raw File Name | IMG_9281.CR2 |
Red Hue | 0 |
Red Saturation | 0 |
Related Image Height | 3168 |
Related Image Width | 4752 |
Saturation | 0 |
Saturation Adjustment Aqua | 0 |
Saturation Adjustment Blue | 0 |
Saturation Adjustment Green | 0 |
Saturation Adjustment Magenta | 0 |
Saturation Adjustment Orange | 0 |
Saturation Adjustment Purple | 0 |
Saturation Adjustment Red | 0 |
Saturation Adjustment Yellow | 0 |
Scale Factor To 35 mm Equivalent | 1.6 |
Scene Capture Type | Standard |
Shadow Tint | 0 |
Shadows | 10 |
Shadows 2012 | 0 |
Sharpen Detail | 25 |
Sharpen Edge Masking | 0 |
Sharpen Radius | +1.0 |
Sharpness | 25 |
Split Toning Balance | 0 |
Split Toning Highlight Hue | 0 |
Split Toning Highlight Saturation | 0 |
Split Toning Shadow Hue | 0 |
Split Toning Shadow Saturation | 0 |
Subject Distance | 3.5 m |
Tint | +33 |
Tone Curve | 0, 0, 32, 22, 64, 56, 128, 128, 192, 196, 255, 255 |
Tone Curve Blue | 0, 0, 255, 255 |
Tone Curve Green | 0, 0, 255, 255 |
Tone Curve Name | Medium Contrast |
Tone Curve Name 2012 | Linear |
Tone Curve PV2012 | 0, 0, 255, 255 |
Tone Curve PV2012 Blue | 0, 0, 255, 255 |
Tone Curve PV2012 Green | 0, 0, 255, 255 |
Tone Curve PV2012 Red | 0, 0, 255, 255 |
Tone Curve Red | 0, 0, 255, 255 |
Version | 6.7 |
Vibrance | -7 |
Vignette Amount | 0 |
White Balance | Auto |
Whites 2012 | 0 |