Shooting information for this photo
Camera: | NIKON CORPORATION NIKON D800 |
Exposure: | 0.00156 sec. (1/640) |
Aperture: | f/16.0 |
Focal Length: | 400.0 mm |
Flash: | Off, Did not fire |
Exposure mode: | Shutter speed priority AE |
Max Aperture: | 5.7 |
Resolution: | 300 x 300 dpi |
Original Date: | 2013:09:20 14:21:49 |
Created on: | 2013:09:20 14:21:49 |
Modified on: | 2013:10:04 22:03:20 |
Software: | Adobe Photoshop Lightroom 5.0 (Macintosh) |
Already Applied | True |
Auto Lateral CA | 0 |
Auto White Version | 134348800 |
Blacks 2012 | -29 |
Blue Hue | 0 |
Blue Saturation | 0 |
Camera Profile | Embedded |
Circular Gradient Based Corrections Correction Active | true |
Circular Gradient Based Corrections Correction Amount | 1.000000 |
Circular Gradient Based Corrections Correction Masks Angle | 0.000000 |
Circular Gradient Based Corrections Correction Masks Bottom | 1.074480 |
Circular Gradient Based Corrections Correction Masks Feather | +100 |
Circular Gradient Based Corrections Correction Masks Flipped | false |
Circular Gradient Based Corrections Correction Masks Left | -0.035635 |
Circular Gradient Based Corrections Correction Masks Mask Value | 1.000000 |
Circular Gradient Based Corrections Correction Masks Midpoint | +50 |
Circular Gradient Based Corrections Correction Masks Right | 0.943923 |
Circular Gradient Based Corrections Correction Masks Roundness | 0 |
Circular Gradient Based Corrections Correction Masks Top | -0.040318 |
Circular Gradient Based Corrections Correction Masks Version | +2 |
Circular Gradient Based Corrections Correction Masks What | Mask/CircularGradient |
Circular Gradient Based Corrections Local Brightness | 0.000000 |
Circular Gradient Based Corrections Local Clarity 2012 | -1.000000 |
Circular Gradient Based Corrections Local Contrast 2012 | -1.000000 |
Circular Gradient Based Corrections Local Defringe | 0.002548 |
Circular Gradient Based Corrections Local Exposure 2012 | 0.169582 |
Circular Gradient Based Corrections Local Highlights 2012 | 1.000000 |
Circular Gradient Based Corrections Local Luminance Noise | 0.000000 |
Circular Gradient Based Corrections Local Moire | 0.000000 |
Circular Gradient Based Corrections Local Saturation | -0.394446 |
Circular Gradient Based Corrections Local Shadows 2012 | -1.000000 |
Circular Gradient Based Corrections Local Sharpness | 0.701512 |
Circular Gradient Based Corrections Local Temperature | 0.000000 |
Circular Gradient Based Corrections Local Tint | 0.000000 |
Circular Gradient Based Corrections Local Toning Hue | 48.000000 |
Circular Gradient Based Corrections Local Toning Saturation | 0.000000 |
Circular Gradient Based Corrections What | Correction |
Clarity 2012 | -50 |
Color Noise Reduction | 0 |
Contrast 2012 | +57 |
Convert To Grayscale | False |
Crop Angle | 0 |
Crop Bottom | 1 |
Crop Constrain To Warp | 0 |
Crop Left | 0 |
Crop Right | 0.927349 |
Crop Top | 0.072652 |
Date Created | 2013:09:20 14:21:49 |
Defringe Green Amount | 0 |
Defringe Green Hue Hi | 60 |
Defringe Green Hue Lo | 40 |
Defringe Purple Amount | 0 |
Defringe Purple Hue Hi | 70 |
Defringe Purple Hue Lo | 30 |
Exposure 2012 | 0.00 |
Exposure Compensation | 0 |
Format | image/jpeg |
Grain Amount | 0 |
Green Hue | 0 |
Green Saturation | 0 |
Has Crop | True |
Has Settings | True |
Highlights 2012 | -100 |
Hue Adjustment Aqua | 0 |
Hue Adjustment Blue | 0 |
Hue Adjustment Green | 0 |
Hue Adjustment Magenta | 0 |
Hue Adjustment Orange | 0 |
Hue Adjustment Purple | 0 |
Hue Adjustment Red | 0 |
Hue Adjustment Yellow | 0 |
ISO | 320 |
Image Size | 3539x2362 |
Incremental Temperature | +8 |
Incremental Tint | 0 |
Lens Manual Distortion Amount | 0 |
Lens Profile Chromatic Aberration Scale | 100 |
Lens Profile Distortion Scale | 100 |
Lens Profile Enable | 1 |
Lens Profile Filename | NIKON D3X (Nikon FX 70-200mm f2.8 G IF ED).lcp |
Lens Profile Name | Adobe (Nikon AF-S VR Zoom-Nikkor 70-200mm f/2.8G IF-ED) |
Lens Profile Setup | Custom |
Lens Profile Vignetting Scale | 100 |
Light Source | Unknown |
Light Value | 15.6 |
Luminance Adjustment Aqua | 0 |
Luminance Adjustment Blue | +11 |
Luminance Adjustment Green | +79 |
Luminance Adjustment Magenta | 0 |
Luminance Adjustment Orange | -100 |
Luminance Adjustment Purple | 0 |
Luminance Adjustment Red | -100 |
Luminance Adjustment Yellow | +16 |
Luminance Smoothing | 0 |
Metering Mode | Center-weighted average |
Parametric Darks | -59 |
Parametric Highlight Split | 75 |
Parametric Highlights | -14 |
Parametric Lights | +33 |
Parametric Midtone Split | 50 |
Parametric Shadow Split | 25 |
Parametric Shadows | -100 |
Perspective Aspect | 0 |
Perspective Horizontal | 0 |
Perspective Rotate | 0.0 |
Perspective Scale | 100 |
Perspective Upright | 0 |
Perspective Vertical | 0 |
Post Crop Vignette Amount | -4 |
Post Crop Vignette Feather | 50 |
Post Crop Vignette Highlight Contrast | 0 |
Post Crop Vignette Midpoint | 50 |
Post Crop Vignette Roundness | 0 |
Post Crop Vignette Style | 1 |
Process Version | 6.7 |
Red Hue | 0 |
Red Saturation | 0 |
Saturation | -52 |
Saturation Adjustment Aqua | 0 |
Saturation Adjustment Blue | -100 |
Saturation Adjustment Green | -100 |
Saturation Adjustment Magenta | 0 |
Saturation Adjustment Orange | -10 |
Saturation Adjustment Purple | 0 |
Saturation Adjustment Red | -100 |
Saturation Adjustment Yellow | -82 |
Sensing Method | One-chip color area |
Shadow Tint | 0 |
Shadows 2012 | +54 |
Sharpen Detail | 25 |
Sharpen Edge Masking | 0 |
Sharpen Radius | +1.0 |
Sharpness | 112 |
Split Toning Balance | 0 |
Split Toning Highlight Hue | 0 |
Split Toning Highlight Saturation | 0 |
Split Toning Shadow Hue | 0 |
Split Toning Shadow Saturation | 0 |
Tone Curve Name 2012 | Linear |
Tone Curve PV2012 | 0, 0, 255, 255 |
Tone Curve PV2012 Blue | 0, 0, 255, 255 |
Tone Curve PV2012 Green | 0, 0, 255, 255 |
Tone Curve PV2012 Red | 0, 0, 255, 255 |
Version | 8.2 |
Vibrance | -47 |
Vignette Amount | 0 |
White Balance | Custom |
Whites 2012 | +5 |