Shooting information for this photo
Camera: | SONY NEX-5 |
Exposure: | 0.01667 sec. (1/60) |
Aperture: | f/2.8 |
Focal Length: | 16.0 mm |
Flash: | Off, Did not fire |
Exposure mode: | Shutter speed priority AE |
Max Aperture: | 2.8 |
Resolution: | 300 x 300 dpi |
Original Date: | 2013:03:27 21:49:16 |
Created on: | 2013:03:27 21:49:16 |
Modified on: | 2013:04:08 21:05:47 |
Software: | Adobe Photoshop Lightroom 4.3 (Macintosh) |
Already Applied | True |
Auto Lateral CA | 1 |
Blacks 2012 | +2 |
Blue Hue | +3 |
Blue Saturation | -21 |
Brightness Value | -2.130000115 |
Camera Profile | X100 Weide Portrait |
Clarity 2012 | +20 |
Color Noise Reduction | 25 |
Color Noise Reduction Detail | 50 |
Contrast 2012 | -36 |
Convert To Grayscale | True |
Date Created | 2013:03:27 21:49:16 |
Exposure 2012 | +0.55 |
Exposure Compensation | 0 |
Format | image/jpeg |
Grain Amount | 0 |
Gray Mixer Aqua | -14 |
Gray Mixer Blue | +13 |
Gray Mixer Green | +5 |
Gray Mixer Magenta | +11 |
Gray Mixer Orange | +14 |
Gray Mixer Purple | +5 |
Gray Mixer Red | +14 |
Gray Mixer Yellow | -13 |
Green Hue | +3 |
Green Saturation | +10 |
Has Crop | False |
Has Settings | True |
Highlights 2012 | -27 |
ISO | 1600 |
Image Size | 4592x3056 |
Incremental Temperature | +26 |
Incremental Tint | -22 |
Lens Manual Distortion Amount | 0 |
Lens Profile Enable | 1 |
Lens Profile Setup | LensDefaults |
Light Source | Unknown |
Light Value | 4.9 |
Luminance Noise Reduction Contrast | 10 |
Luminance Noise Reduction Detail | 50 |
Luminance Smoothing | 11 |
Metering Mode | Center-weighted average |
Paint Correction Active | true |
Paint Correction Amount | 1.000000 |
Paint Correction Brightness | 0.001450 |
Paint Correction Clarity 2012 | 0.000000 |
Paint Correction Contrast 2012 | -0.709239 |
Paint Correction Defringe | 0.000000 |
Paint Correction Exposure 2012 | 0.549932 |
Paint Correction Highlights 2012 | 0.097741 |
Paint Correction Hue | 48.000000 |
Paint Correction Luminance Noise | 0.000000 |
Paint Correction Mask Center Weight | 0.000000 |
Paint Correction Mask Flow | 0.736826 |
Paint Correction Mask Radius | 0.027710 |
Paint Correction Mask Value | 0.503823 |
Paint Correction Mask What | Mask/Paint |
Paint Correction Moire | 0.000000 |
Paint Correction Saturation | 0.010000 |
Paint Correction Shadows 2012 | 0.399626 |
Paint Correction Sharpness | 0.123792 |
Paint Correction Temperature | 0.000000 |
Paint Correction Tint | 0.000000 |
Paint Correction What | Correction |
Parametric Darks | 0 |
Parametric Highlight Split | 75 |
Parametric Highlights | 0 |
Parametric Lights | +9 |
Parametric Midtone Split | 50 |
Parametric Shadow Split | 25 |
Parametric Shadows | -20 |
Perspective Horizontal | 0 |
Perspective Rotate | 0.0 |
Perspective Scale | 100 |
Perspective Vertical | 0 |
Post Crop Vignette Amount | 0 |
Process Version | 6.7 |
Red Hue | +3 |
Red Saturation | -10 |
Shadow Tint | 0 |
Shadows 2012 | +18 |
Sharpen Detail | 20 |
Sharpen Edge Masking | 25 |
Sharpen Radius | +1.0 |
Sharpness | 25 |
Split Toning Balance | 0 |
Split Toning Highlight Hue | 55 |
Split Toning Highlight Saturation | 3 |
Split Toning Shadow Hue | 79 |
Split Toning Shadow Saturation | 4 |
Tone Curve Name 2012 | Custom |
Tone Curve PV2012 | 0, 0, 17, 17, 34, 34, 51, 51, 68, 68, 85, 85, 102, 102, 119, 119, 136, 136, 153, 153, 170, 171, 187, 187, 204, 203, 221, 218, 238, 233, 255, 247 |
Tone Curve PV2012 Blue | 0, 0, 255, 255 |
Tone Curve PV2012 Green | 0, 0, 255, 255 |
Tone Curve PV2012 Red | 0, 0, 255, 255 |
Version | 7.3 |
Vignette Amount | -29 |
Vignette Midpoint | 17 |
White Balance | Custom |
Whites 2012 | -4 |