Shooting information for this photo
Camera: | SONY NEX-5 |
Exposure: | 0.008 sec. (1/125) |
Aperture: | f/2.8 |
Focal Length: | 16.0 mm |
Flash: | Off, Did not fire |
Exposure mode: | Shutter speed priority AE |
Max Aperture: | 2.8 |
Resolution: | 300 x 300 dpi |
Original Date: | 2013:03:26 21:03:51 |
Created on: | 2013:03:26 21:03:51 |
Modified on: | 2013:04:09 15:53:42 |
Software: | Adobe Photoshop Lightroom 4.3 (Macintosh) |
Already Applied | True |
Auto Lateral CA | 1 |
Blacks 2012 | +31 |
Blue Hue | +14 |
Blue Saturation | -14 |
Brightness Value | -0.75 |
Camera Profile | Adobe Standard |
Clarity 2012 | +29 |
Color Noise Reduction | 25 |
Color Noise Reduction Detail | 60 |
Contrast 2012 | -51 |
Convert To Grayscale | True |
Date Created | 2013:03:26 21:03:51 |
Exposure 2012 | +1.65 |
Exposure Compensation | 0 |
Format | image/jpeg |
Grain Amount | 0 |
Gray Mixer Aqua | 0 |
Gray Mixer Blue | 0 |
Gray Mixer Green | -70 |
Gray Mixer Magenta | 0 |
Gray Mixer Orange | +7 |
Gray Mixer Purple | 0 |
Gray Mixer Red | +13 |
Gray Mixer Yellow | -13 |
Green Hue | +3 |
Green Saturation | 0 |
Has Crop | False |
Has Settings | True |
Highlights 2012 | -57 |
ISO | 1600 |
Image Size | 3543x2358 |
Incremental Temperature | 0 |
Incremental Tint | 0 |
Lens Manual Distortion Amount | 0 |
Lens Profile Chromatic Aberration Scale | 100 |
Lens Profile Distortion Scale | 100 |
Lens Profile Enable | 1 |
Lens Profile Filename | DSLR-A700 (Sony DT 18-200mm f3.5-6.3).lcp |
Lens Profile Name | Adobe (Sony DT 18-200mm f/3.5-6.3) |
Lens Profile Setup | Custom |
Lens Profile Vignetting Scale | 100 |
Light Source | Unknown |
Light Value | 5.9 |
Luminance Noise Reduction Contrast | 11 |
Luminance Noise Reduction Detail | 50 |
Luminance Smoothing | 13 |
Metering Mode | Center-weighted average |
Paint Correction Active | true |
Paint Correction Amount | 1.000000 |
Paint Correction Brightness | 0.001450 |
Paint Correction Clarity 2012 | 0.370075 |
Paint Correction Contrast 2012 | -0.258577 |
Paint Correction Defringe | 0.000000 |
Paint Correction Exposure 2012 | 0.550187 |
Paint Correction Highlights 2012 | 0.284307 |
Paint Correction Hue | 48.000000 |
Paint Correction Luminance Noise | 0.000000 |
Paint Correction Mask Center Weight | 0.000000 |
Paint Correction Mask Flow | 0.736826 |
Paint Correction Mask Radius | 0.029225 |
Paint Correction Mask Value | 0.503823 |
Paint Correction Mask What | Mask/Paint |
Paint Correction Moire | 0.000000 |
Paint Correction Saturation | 0.010000 |
Paint Correction Shadows 2012 | 0.373811 |
Paint Correction Sharpness | 0.123792 |
Paint Correction Temperature | 0.000000 |
Paint Correction Tint | 0.000000 |
Paint Correction What | Correction |
Parametric Darks | 0 |
Parametric Highlight Split | 75 |
Parametric Highlights | 0 |
Parametric Lights | +18 |
Parametric Midtone Split | 50 |
Parametric Shadow Split | 25 |
Parametric Shadows | 0 |
Perspective Horizontal | 0 |
Perspective Rotate | 0.0 |
Perspective Scale | 100 |
Perspective Vertical | 0 |
Post Crop Vignette Amount | -13 |
Post Crop Vignette Feather | 50 |
Post Crop Vignette Highlight Contrast | 0 |
Post Crop Vignette Midpoint | 49 |
Post Crop Vignette Roundness | 0 |
Post Crop Vignette Style | 1 |
Process Version | 6.7 |
Red Hue | +21 |
Red Saturation | 0 |
Shadow Tint | 0 |
Shadows 2012 | +27 |
Sharpen Detail | 33 |
Sharpen Edge Masking | 0 |
Sharpen Radius | +1.0 |
Sharpness | 70 |
Split Toning Balance | 0 |
Split Toning Highlight Hue | 55 |
Split Toning Highlight Saturation | 3 |
Split Toning Shadow Hue | 79 |
Split Toning Shadow Saturation | 4 |
Tone Curve Name 2012 | Linear |
Tone Curve PV2012 | 0, 0, 255, 255 |
Tone Curve PV2012 Blue | 0, 0, 255, 255 |
Tone Curve PV2012 Green | 0, 0, 255, 255 |
Tone Curve PV2012 Red | 0, 0, 255, 255 |
Version | 7.3 |
Vignette Amount | 0 |
White Balance | As Shot |
Whites 2012 | -17 |