Shooting information for this photo
Camera: | SONY NEX-5 |
Exposure: | 0.008 sec. (1/125) |
Aperture: | f/6.3 |
Focal Length: | 16.0 mm |
Flash: | Off, Did not fire |
Exposure mode: | Shutter speed priority AE |
Max Aperture: | 2.8 |
Resolution: | 300 x 300 dpi |
Original Date: | 2013:03:24 11:36:39 |
Created on: | 2013:03:24 11:36:39 |
Modified on: | 2013:04:10 17:47:24 |
Software: | Adobe Photoshop Lightroom 4.4 (Macintosh) |
Already Applied | True |
Auto Lateral CA | 1 |
Blacks 2012 | +15 |
Blue Hue | +14 |
Blue Saturation | -14 |
Brightness Value | 7 |
Camera Profile | Adobe Standard |
Clarity 2012 | +24 |
Color Noise Reduction | 25 |
Color Noise Reduction Detail | 60 |
Contrast 2012 | -18 |
Convert To Grayscale | True |
Date Created | 2013:03:24 11:36:39 |
Exposure 2012 | -0.10 |
Exposure Compensation | 0 |
Format | image/jpeg |
Gradient Based Corr Active | true |
Gradient Based Corr Amount | 1.000000 |
Gradient Based Corr Brightness | 0.001450 |
Gradient Based Corr Clarity 2012 | 0.556556 |
Gradient Based Corr Contrast 2012 | 0.340353 |
Gradient Based Corr Defringe | 0.000000 |
Gradient Based Corr Exposure 2012 | -0.133067 |
Gradient Based Corr Highlights 2012 | -0.438010 |
Gradient Based Corr Hue | 48.000000 |
Gradient Based Corr Luminance Noise | 0.000000 |
Gradient Based Corr Mask Full X | 0.286873 |
Gradient Based Corr Mask Full Y | 0.264417 |
Gradient Based Corr Mask Value | 1.000000 |
Gradient Based Corr Mask What | Mask/Gradient |
Gradient Based Corr Mask Zero X | 0.299462 |
Gradient Based Corr Mask Zero Y | 0.366389 |
Gradient Based Corr Moire | 0.000000 |
Gradient Based Corr Saturation | 0.010000 |
Gradient Based Corr Shadows 2012 | -0.572860 |
Gradient Based Corr Sharpness | 0.123792 |
Gradient Based Corr Temperature | 0.000000 |
Gradient Based Corr Tint | 0.000000 |
Gradient Based Corr What | Correction |
Grain Amount | 0 |
Gray Mixer Aqua | -40 |
Gray Mixer Blue | -40 |
Gray Mixer Green | +10 |
Gray Mixer Magenta | +14 |
Gray Mixer Orange | +12 |
Gray Mixer Purple | +9 |
Gray Mixer Red | -20 |
Gray Mixer Yellow | +10 |
Green Hue | +3 |
Green Saturation | 0 |
Has Crop | False |
Has Settings | True |
Highlights 2012 | -73 |
ISO | 200 |
Image Size | 3543x2358 |
Incremental Temperature | 0 |
Incremental Tint | 0 |
Lens Manual Distortion Amount | 0 |
Lens Profile Chromatic Aberration Scale | 100 |
Lens Profile Distortion Scale | 100 |
Lens Profile Enable | 1 |
Lens Profile Filename | DSLR-A700 (Sony DT 18-200mm f3.5-6.3).lcp |
Lens Profile Name | Adobe (Sony DT 18-200mm f/3.5-6.3) |
Lens Profile Setup | Custom |
Lens Profile Vignetting Scale | 100 |
Light Source | Unknown |
Light Value | 11.3 |
Luminance Noise Reduction Contrast | 11 |
Luminance Noise Reduction Detail | 50 |
Luminance Smoothing | 13 |
Metering Mode | Center-weighted average |
Parametric Darks | 0 |
Parametric Highlight Split | 75 |
Parametric Highlights | 0 |
Parametric Lights | +29 |
Parametric Midtone Split | 50 |
Parametric Shadow Split | 25 |
Parametric Shadows | 0 |
Perspective Horizontal | 0 |
Perspective Rotate | 0.0 |
Perspective Scale | 100 |
Perspective Vertical | 0 |
Post Crop Vignette Amount | -15 |
Post Crop Vignette Feather | 50 |
Post Crop Vignette Highlight Contrast | 0 |
Post Crop Vignette Midpoint | 49 |
Post Crop Vignette Roundness | 0 |
Post Crop Vignette Style | 1 |
Process Version | 6.7 |
Red Hue | +21 |
Red Saturation | 0 |
Shadow Tint | 0 |
Shadows 2012 | +21 |
Sharpen Detail | 33 |
Sharpen Edge Masking | 0 |
Sharpen Radius | +1.0 |
Sharpness | 83 |
Split Toning Balance | 0 |
Split Toning Highlight Hue | 55 |
Split Toning Highlight Saturation | 3 |
Split Toning Shadow Hue | 79 |
Split Toning Shadow Saturation | 4 |
Tone Curve Name 2012 | Linear |
Tone Curve PV2012 | 0, 0, 255, 255 |
Tone Curve PV2012 Blue | 0, 0, 255, 255 |
Tone Curve PV2012 Green | 0, 0, 255, 255 |
Tone Curve PV2012 Red | 0, 0, 255, 255 |
Version | 7.4 |
Vignette Amount | 0 |
White Balance | As Shot |
Whites 2012 | -77 |