Shooting information for this photo
Resolution: | 300 x 300 dpi |
Modified on: | 2013:02:17 18:58:23 |
Software: | Adobe Photoshop Lightroom 4.3 (Macintosh) |
Already Applied | True |
Auto Lateral CA | 0 |
Blacks 2012 | -26 |
Blue Hue | 0 |
Blue Saturation | 0 |
Camera Profile | Embedded |
Clarity 2012 | -32 |
Color Noise Reduction | 0 |
Contrast 2012 | -33 |
Convert To Grayscale | True |
Exposure 2012 | +0.70 |
Format | image/jpeg |
Grain Amount | 0 |
Gray Mixer Aqua | 0 |
Gray Mixer Blue | 0 |
Gray Mixer Green | -3 |
Gray Mixer Magenta | -26 |
Gray Mixer Orange | -11 |
Gray Mixer Purple | +3 |
Gray Mixer Red | +17 |
Gray Mixer Yellow | -8 |
Green Hue | 0 |
Green Saturation | 0 |
Has Crop | False |
Has Settings | True |
Highlights 2012 | -21 |
Image Size | 2292x3543 |
Incremental Temperature | 0 |
Incremental Tint | -5 |
Lens Manual Distortion Amount | 0 |
Lens Profile Enable | 0 |
Lens Profile Setup | LensDefaults |
Luminance Smoothing | 0 |
Parametric Darks | 0 |
Parametric Highlight Split | 75 |
Parametric Highlights | 0 |
Parametric Lights | +11 |
Parametric Midtone Split | 50 |
Parametric Shadow Split | 25 |
Parametric Shadows | 0 |
Perspective Horizontal | 0 |
Perspective Rotate | 0.0 |
Perspective Scale | 100 |
Perspective Vertical | 0 |
Post Crop Vignette Amount | -8 |
Post Crop Vignette Feather | 50 |
Post Crop Vignette Highlight Contrast | 0 |
Post Crop Vignette Midpoint | 50 |
Post Crop Vignette Roundness | 0 |
Post Crop Vignette Style | 1 |
Process Version | 6.7 |
Red Hue | 0 |
Red Saturation | 0 |
Shadow Tint | 0 |
Shadows 2012 | +22 |
Sharpen Detail | 47 |
Sharpen Edge Masking | 0 |
Sharpen Radius | +2.2 |
Sharpness | 78 |
Split Toning Balance | 0 |
Split Toning Highlight Hue | 0 |
Split Toning Highlight Saturation | 0 |
Split Toning Shadow Hue | 0 |
Split Toning Shadow Saturation | 0 |
Tone Curve Name 2012 | Linear |
Tone Curve PV2012 | 0, 0, 255, 255 |
Tone Curve PV2012 Blue | 0, 0, 255, 255 |
Tone Curve PV2012 Green | 0, 0, 255, 255 |
Tone Curve PV2012 Red | 0, 0, 255, 255 |
Version | 7.3 |
Vignette Amount | 0 |
White Balance | Custom |
Whites 2012 | +6 |