Shooting information for this photo
Camera: | NIKON CORPORATION NIKON D700 |
Exposure: | 0.008 sec. (1/125) |
Aperture: | f/14.0 |
Focal Length: | 70.0 mm |
Flash: | No Flash |
Exposure mode: | Shutter speed priority AE |
Max Aperture: | 2.8 |
Resolution: | 300 x 300 dpi |
Original Date: | 2011:05:12 12:18:03 |
Created on: | 2011:05:12 12:18:03 |
Modified on: | 2012:05:11 14:03:59 |
Software: | Adobe Photoshop Lightroom 3.4.1 |
Already Applied | True |
Blue Hue | 0 |
Blue Saturation | 0 |
Brightness | 0 |
Camera Profile | Embedded |
Chromatic Aberration B | 0 |
Chromatic Aberration R | 0 |
Clarity | 0 |
Color Noise Reduction | 0 |
Contrast | +46 |
Convert To Grayscale | True |
Crop Angle | 0 |
Crop Bottom | 0.930214 |
Crop Constrain To Warp | 0 |
Crop Height | 2150 |
Crop Left | 0.129588 |
Crop Right | 0.820922 |
Crop Top | 0.170981 |
Crop Unit | pixels |
Crop Width | 2942 |
Date Created | 2011:05:12 12:18:03 |
Defringe | 0 |
Exposure | 0.00 |
Exposure Compensation | 0 |
Fill Light | 0 |
Grain Amount | 0 |
Gray Mixer Aqua | -23 |
Gray Mixer Blue | +9 |
Gray Mixer Green | -55 |
Gray Mixer Magenta | +2 |
Gray Mixer Orange | +64 |
Gray Mixer Purple | +5 |
Gray Mixer Red | -9 |
Gray Mixer Yellow | +49 |
Green Hue | 0 |
Green Saturation | 0 |
Has Crop | True |
Has Settings | True |
Highlight Recovery | 51 |
ISO | 200 |
Image Size | 800x585 |
Incremental Temperature | -8 |
Incremental Tint | -18 |
Lens Manual Distortion Amount | 0 |
Lens Profile Enable | 0 |
Lens Profile Setup | LensDefaults |
Light Source | Unknown |
Light Value | 13.6 |
Luminance Smoothing | 0 |
Metering Mode | Spot |
Parametric Darks | -29 |
Parametric Highlight Split | 75 |
Parametric Highlights | 0 |
Parametric Lights | -1 |
Parametric Midtone Split | 50 |
Parametric Shadow Split | 25 |
Parametric Shadows | -17 |
Perspective Horizontal | 0 |
Perspective Rotate | 0.0 |
Perspective Scale | 100 |
Perspective Vertical | 0 |
Post Crop Vignette Amount | 0 |
Process Version | 5.7 |
Red Hue | 0 |
Red Saturation | 0 |
Related Image Height | 585 |
Related Image Width | 800 |
Sensing Method | One-chip color area |
Shadow Tint | 0 |
Shadows | 0 |
Sharpen Detail | 57 |
Sharpen Edge Masking | 0 |
Sharpen Radius | +2.0 |
Sharpness | 99 |
Split Toning Balance | 0 |
Split Toning Highlight Hue | 0 |
Split Toning Highlight Saturation | 0 |
Split Toning Shadow Hue | 0 |
Split Toning Shadow Saturation | 0 |
Tone Curve | 0, 0, 255, 255 |
Tone Curve Name | Linear |
Version | 6.4.1 |
Vignette Amount | 0 |
White Balance | Custom |