Shooting information for this photo
Camera: | SONY NEX-5 |
Exposure: | 0.0125 sec. (1/80) |
Aperture: | f/2.8 |
Focal Length: | 16.0 mm |
Flash: | Off, Did not fire |
Exposure mode: | Shutter speed priority AE |
Max Aperture: | 2.8 |
Resolution: | 300 x 300 dpi |
Original Date: | 2012:04:16 11:21:35 |
Created on: | 2012:04:16 11:21:35 |
Modified on: | 2012:04:16 11:49:57 |
Software: | Adobe Photoshop Lightroom 3.4.1 |
Already Applied | True |
Blue Hue | 0 |
Blue Saturation | 0 |
Brightness | 0 |
Brightness Value | 2.869999885 |
Camera Profile | Embedded |
Chromatic Aberration B | 0 |
Chromatic Aberration R | 0 |
Clarity | 0 |
Color Noise Reduction | 0 |
Contrast | 0 |
Convert To Grayscale | False |
Date Created | 2012:04:16 11:21:35 |
Defringe | 0 |
Exposure | 0.00 |
Exposure Compensation | 0 |
Fill Light | 0 |
Grain Amount | 0 |
Green Hue | 0 |
Green Saturation | 0 |
Has Crop | False |
Has Settings | True |
Highlight Recovery | 0 |
Hue Adjustment Aqua | 0 |
Hue Adjustment Blue | 0 |
Hue Adjustment Green | 0 |
Hue Adjustment Magenta | 0 |
Hue Adjustment Orange | -10 |
Hue Adjustment Purple | 0 |
Hue Adjustment Red | -15 |
Hue Adjustment Yellow | 0 |
ISO | 320 |
Image Size | 799x532 |
Incremental Temperature | 0 |
Incremental Tint | 0 |
Lens Manual Distortion Amount | 0 |
Lens Profile Enable | 0 |
Lens Profile Setup | LensDefaults |
Light Source | Unknown |
Light Value | 7.6 |
Luminance Adjustment Aqua | 0 |
Luminance Adjustment Blue | 0 |
Luminance Adjustment Green | 0 |
Luminance Adjustment Magenta | 0 |
Luminance Adjustment Orange | +49 |
Luminance Adjustment Purple | 0 |
Luminance Adjustment Red | +64 |
Luminance Adjustment Yellow | +75 |
Luminance Smoothing | 0 |
Metering Mode | Multi-segment |
Paint Correction Active | true |
Paint Correction Amount | 1.000000 |
Paint Correction Brightness | 0.078206 |
Paint Correction Clarity | 0.000000 |
Paint Correction Contrast | 0.000000 |
Paint Correction Exposure | 0.081749 |
Paint Correction Hue | 341.000000 |
Paint Correction Mask Center Weight | 0.000000 |
Paint Correction Mask Flow | 0.645234 |
Paint Correction Mask Radius | 0.026318 |
Paint Correction Mask Value | 0.579033 |
Paint Correction Mask What | Mask/Paint |
Paint Correction Saturation | 0.910000 |
Paint Correction Sharpness | 0.435809 |
Paint Correction What | Correction |
Parametric Darks | +32 |
Parametric Highlight Split | 75 |
Parametric Highlights | +31 |
Parametric Lights | +80 |
Parametric Midtone Split | 50 |
Parametric Shadow Split | 25 |
Parametric Shadows | +46 |
Perspective Horizontal | 0 |
Perspective Rotate | 0.0 |
Perspective Scale | 100 |
Perspective Vertical | 0 |
Post Crop Vignette Amount | 0 |
Process Version | 5.7 |
Red Hue | 0 |
Red Saturation | 0 |
Related Image Height | 532 |
Related Image Width | 800 |
Saturation | +61 |
Saturation Adjustment Aqua | 0 |
Saturation Adjustment Blue | 0 |
Saturation Adjustment Green | 0 |
Saturation Adjustment Magenta | 0 |
Saturation Adjustment Orange | -100 |
Saturation Adjustment Purple | 0 |
Saturation Adjustment Red | +53 |
Saturation Adjustment Yellow | -100 |
Shadow Tint | 0 |
Shadows | 8 |
Sharpen Detail | 53 |
Sharpen Edge Masking | 0 |
Sharpen Radius | +1.8 |
Sharpness | 70 |
Split Toning Balance | 0 |
Split Toning Highlight Hue | 0 |
Split Toning Highlight Saturation | 0 |
Split Toning Shadow Hue | 0 |
Split Toning Shadow Saturation | 0 |
Tone Curve | 0, 0, 255, 255 |
Tone Curve Name | Linear |
Version | 6.4.1 |
Vibrance | -100 |
Vignette Amount | 0 |
White Balance | Custom |