Shooting information for this photo
Camera: | NIKON CORPORATION NIKON D700 |
Exposure: | 0.01667 sec. (1/60) |
Aperture: | f/18.0 |
Focal Length: | 60.0 mm (35 mm equivalent: 60.0 mm) |
Flash: | No Flash |
Exposure mode: | Shutter speed priority AE |
Max Aperture: | 2.8 |
Resolution: | 240 x 240 dpi |
Original Date: | 2011:05:15 15:05:36.38 |
Created on: | 2011:05:15 15:05:36.38 |
Modified on: | 2012:03:18 21:39:23 |
Software: | Adobe Photoshop Lightroom 3.4.1 |
Already Applied | True |
Approximate Focus Distance | 4294967295 |
Blue Hue | 0 |
Blue Saturation | 0 |
Brightness | +8 |
CFA Pattern | [Red,Green][Green,Blue] |
Camera Profile | Adobe Standard |
Chromatic Aberration B | 0 |
Chromatic Aberration R | 0 |
Circle Of Confusion | 0.030 mm |
Clarity | +12 |
Color Noise Reduction | 25 |
Color Noise Reduction Detail | 50 |
Color Temperature | 4833 |
Contrast | Normal |
Convert To Grayscale | True |
Custom Rendered | Normal |
Date Created | 2011:05:15 15:05:36.38 |
Defringe | 0 |
Depth Of Field | inf (6.66 m - inf) |
Digital Zoom Ratio | 1 |
Exposure | 0.00 |
Exposure Compensation | +1/3 |
Exposure Mode | Auto |
Field Of View | 33.4 deg |
Fill Light | 14 |
Focal Length In 35mm Format | 60 mm |
Gain Control | None |
Grain Amount | 0 |
Gray Mixer Aqua | -21 |
Gray Mixer Blue | +3 |
Gray Mixer Green | -22 |
Gray Mixer Magenta | +7 |
Gray Mixer Orange | -44 |
Gray Mixer Purple | +12 |
Gray Mixer Red | -2 |
Gray Mixer Yellow | +73 |
Green Hue | 0 |
Green Saturation | 0 |
Has Crop | False |
Has Settings | True |
Highlight Recovery | 0 |
Hyperfocal Distance | 6.66 m |
ISO | 250 |
Image Number | 11832 |
Image Size | 532x800 |
Lens | 24.0-70.0 mm f/2.8 |
Lens ID | AF-S Zoom-Nikkor 24-70mm f/2.8G ED |
Lens Info | 24-70mm f/2.8 |
Lens Manual Distortion Amount | 0 |
Lens Model | 24.0-70.0 mm f/2.8 |
Lens Profile Enable | 0 |
Lens Profile Setup | LensDefaults |
Light Source | Unknown |
Light Value | 12.9 |
Luminance Smoothing | 0 |
Metering Mode | Spot |
Parametric Darks | +2 |
Parametric Highlight Split | 75 |
Parametric Highlights | +13 |
Parametric Lights | +55 |
Parametric Midtone Split | 50 |
Parametric Shadow Split | 25 |
Parametric Shadows | -20 |
Perspective Horizontal | 0 |
Perspective Rotate | 0.0 |
Perspective Scale | 100 |
Perspective Vertical | 0 |
Post Crop Vignette Amount | 0 |
Process Version | 5.7 |
Red Hue | 0 |
Red Saturation | 0 |
Related Image Height | 800 |
Related Image Width | 532 |
Saturation | High |
Scale Factor To 35 mm Equivalent | 1.0 |
Scene Capture Type | Standard |
Scene Type | Directly photographed |
Sensing Method | One-chip color area |
Shadow Tint | 0 |
Shadows | 23 |
Sharpen Detail | 43 |
Sharpen Edge Masking | 0 |
Sharpen Radius | +2.1 |
Sharpness | Normal |
Split Toning Balance | 0 |
Split Toning Highlight Hue | 0 |
Split Toning Highlight Saturation | 0 |
Split Toning Shadow Hue | 0 |
Split Toning Shadow Saturation | 0 |
Subject Distance | 4294967295 m |
Subject Distance Range | Unknown |
Tint | -35 |
Tone Curve | 0, 0, 32, 22, 64, 56, 128, 128, 192, 196, 255, 255 |
Tone Curve Name | Medium Contrast |
Version | 6.4.1 |
Vignette Amount | 0 |
White Balance | Auto |