Shooting information for this photo
Camera: | NIKON CORPORATION NIKON Z 9 |
Exposure: | 0.00063 sec. (1/1600) |
Aperture: | f/6.3 |
Focal Length: | 600.0 mm (35 mm equivalent: 600.0 mm) |
Flash: | No Flash |
Exposure mode: | Aperture-priority AE |
Resolution: | 300 x 300 dpi |
Dimension: | 1600 x 1165 pixels |
Original Date: | 2024:11:09 10:24:48.13 |
Created on: | 2024:11:09 10:24:48.13 |
Modified on: | 2024:11:09 14:50:06.13 |
Software: | Adobe Photoshop 26.0 (Windows) |
Already Applied | True |
Auto Lateral CA | 0 |
Blacks 2012 | -50 |
Blue Hue | 0 |
Blue Saturation | 0 |
CFA Pattern | [Red,Green][Green,Blue] |
Camera Profile | Adobe Standard |
Camera Profiles Aperture Value | 5.310704 |
Camera Profiles Author | Adobe |
Camera Profiles Auto Scale | False |
Camera Profiles Camera Pretty Name | Nikon Z 9 |
Camera Profiles Camera Raw Profile | True |
Camera Profiles Focal Length | 600 |
Camera Profiles Focus Distance | 10000 |
Camera Profiles Lens | NIKKOR Z 600mm f/6.3 VR S |
Camera Profiles Lens Pretty Name | NIKKOR Z 600mm f/6.3 VR S |
Camera Profiles Make | NIKON CORPORATION |
Camera Profiles Model | NIKON Z 9 |
Camera Profiles Perspective Model Image X Center | 0.50941 |
Camera Profiles Perspective Model Image Y Center | 0.49733 |
Camera Profiles Perspective Model Radial Distort Param 1 | 9.736229 |
Camera Profiles Perspective Model Radial Distort Param 2 | -1073.368822 |
Camera Profiles Perspective Model Radial Distort Param 3 | -227094.266494 |
Camera Profiles Perspective Model Scale Factor | 0.989012 |
Camera Profiles Perspective Model Version | 2 |
Camera Profiles Perspective Model Vignette Model Image X Center | 0.50941 |
Camera Profiles Perspective Model Vignette Model Image Y Center | 0.49733 |
Camera Profiles Perspective Model Vignette Model Vignette Model Param 1 | 1 |
Camera Profiles Profile Name | Camera Settings |
Camera Profiles Sensor Format Factor | 1.003485 |
Camera Profiles Unique Camera Model | Nikon Z 9 |
Circle Of Confusion | 0.030 mm |
Clarity 2012 | 0 |
Color Grade Blending | 50 |
Color Grade Global Hue | 0 |
Color Grade Global Lum | 0 |
Color Grade Global Sat | 0 |
Color Grade Highlight Lum | 0 |
Color Grade Midtone Hue | 0 |
Color Grade Midtone Lum | 0 |
Color Grade Midtone Sat | 0 |
Color Grade Shadow Lum | 0 |
Color Mode | RGB |
Color Noise Reduction | 25 |
Color Noise Reduction Detail | 50 |
Color Noise Reduction Smoothness | 50 |
Color Space | sRGB |
Color Temperature | 5550 |
Contrast | Normal |
Contrast 2012 | +32 |
Crop Angle | 0 |
Crop Bottom | 0.510796 |
Crop Constrain To Warp | 0 |
Crop Left | 0.301428 |
Crop Right | 0.483518 |
Crop Top | 0.312033 |
Custom Rendered | Custom |
Date Created | 2024:11:09 10:24:48.013+01:00 |
Defringe Green Amount | 0 |
Defringe Green Hue Hi | 60 |
Defringe Green Hue Lo | 40 |
Defringe Purple Amount | 0 |
Defringe Purple Hue Hi | 70 |
Defringe Purple Hue Lo | 30 |
Dehaze | 0 |
Distortion Correction Already Applied | True |
Exposure 2012 | 0.00 |
Exposure Compensation | +1/3 |
Exposure Mode | Auto |
Field Of View | 3.4 deg |
Focal Length In 35mm Format | 600 mm |
Format | image/jpeg |
Gain Control | High gain up |
Grain Amount | 0 |
Green Hue | 0 |
Green Saturation | 0 |
HDR Edit Mode | 0 |
Has Crop | True |
Has Settings | True |
Highlights 2012 | -83 |
Hue Adjustment Aqua | 0 |
Hue Adjustment Blue | 0 |
Hue Adjustment Green | 0 |
Hue Adjustment Magenta | 0 |
Hue Adjustment Orange | 0 |
Hue Adjustment Purple | 0 |
Hue Adjustment Red | 0 |
Hue Adjustment Yellow | 0 |
Hyperfocal Distance | 1901.83 m |
ICC Profile Name | sRGB IEC61966-2.1 |
ISO | 3200 |
Image Number | 42018 |
Image Size | 1600x1165 |
Lens | NIKKOR Z 600mm f/6.3 VR S |
Lens Info | 600mm f/6.3 |
Lens Make | NIKON |
Lens Manual Distortion Amount | 0 |
Lens Model | NIKKOR Z 600mm f/6.3 VR S |
Lens Profile Distortion Scale | 100 |
Lens Profile Enable | 1 |
Lens Profile Is Embedded | True |
Lens Profile Name | Camera Settings |
Lens Profile Setup | LensDefaults |
Lens Profile Vignetting Scale | 100 |
Light Source | Unknown |
Light Value | 11.0 |
Look Amount | 1 |
Look Copyright | © 2018 Adobe Systems, Inc. |
Look Group | Profiles |
Look Name | Adobe Color |
Look Parameters Camera Profile | Adobe Standard |
Look Parameters Convert To Grayscale | False |
Look Parameters Look Table | E1095149FDB39D7A057BAB208837E2 E1 |
Look Parameters Process Version | 15.4 |
Look Parameters Tone Curve PV2012 | 0, 0, 22, 16, 40, 35, 127, 127, 224, 230, 240, 246, 255, 255 |
Look Parameters Tone Curve PV2012 Blue | 0, 0, 255, 255 |
Look Parameters Tone Curve PV2012 Green | 0, 0, 255, 255 |
Look Parameters Tone Curve PV2012 Red | 0, 0, 255, 255 |
Look Parameters Version | 17.0 |
Look Supports Amount | false |
Look Supports Monochrome | false |
Look Supports Output Referred | false |
Luminance Adjustment Aqua | 0 |
Luminance Adjustment Blue | 0 |
Luminance Adjustment Green | 0 |
Luminance Adjustment Magenta | 0 |
Luminance Adjustment Orange | 0 |
Luminance Adjustment Purple | 0 |
Luminance Adjustment Red | 0 |
Luminance Adjustment Yellow | 0 |
Luminance Noise Reduction Contrast | 0 |
Luminance Noise Reduction Detail | 50 |
Luminance Smoothing | 51 |
Metering Mode | Multi-segment |
Override Look Vignette | False |
Parametric Darks | 0 |
Parametric Highlight Split | 75 |
Parametric Highlights | 0 |
Parametric Lights | 0 |
Parametric Midtone Split | 50 |
Parametric Shadow Split | 25 |
Parametric Shadows | 0 |
Perspective Aspect | 0 |
Perspective Horizontal | 0 |
Perspective Rotate | 0.0 |
Perspective Scale | 100 |
Perspective Upright | 0 |
Perspective Vertical | 0 |
Perspective X | 0.00 |
Perspective Y | 0.00 |
Point Colors | -1.000000, -1.000000, -1.000000, -1.000000, -1.000000, -1.000000, -1.000000, -1.000000, -1.000000, -1.000000, -1.000000, -1.000000, -1.000000, -1.000000, -1.000000, -1.000000, -1.000000, -1.000000, -1.000000 |
Post Crop Vignette Amount | 0 |
Process Version | 15.4 |
Rating | 0 |
Recommended Exposure Index | 3200 |
Red Hue | 0 |
Red Saturation | 0 |
Saturation | Normal |
Saturation Adjustment Aqua | 0 |
Saturation Adjustment Blue | 0 |
Saturation Adjustment Green | 0 |
Saturation Adjustment Magenta | 0 |
Saturation Adjustment Orange | 0 |
Saturation Adjustment Purple | 0 |
Saturation Adjustment Red | 0 |
Saturation Adjustment Yellow | 0 |
Scale Factor To 35 mm Equivalent | 1.0 |
Scene Capture Type | Standard |
Scene Type | Directly photographed |
Sensing Method | One-chip color area |
Sensitivity Type | Recommended Exposure Index |
Shadow Tint | 0 |
Shadows 2012 | +83 |
Sharpen Detail | 25 |
Sharpen Edge Masking | 0 |
Sharpen Radius | +1.0 |
Sharpness | Normal |
Split Toning Balance | 0 |
Split Toning Highlight Hue | 0 |
Split Toning Highlight Saturation | 0 |
Split Toning Shadow Hue | 0 |
Split Toning Shadow Saturation | 0 |
Subject Distance Range | Unknown |
Texture | 0 |
Tint | +14 |
Tone Curve Name 2012 | Linear |
Tone Curve PV2012 | 0, 0, 255, 255 |
Tone Curve PV2012 Blue | 0, 0, 255, 255 |
Tone Curve PV2012 Green | 0, 0, 255, 255 |
Tone Curve PV2012 Red | 0, 0, 255, 255 |
Version | 17.0 |
Vibrance | 0 |
Vignette Amount | 0 |
Vignette Correction Already Applied | True |
White Balance | Auto |
Whites 2012 | +51 |