Shooting information for this photo
Camera: | NIKON CORPORATION NIKON D850 |
Exposure: | 0.00025 sec. (1/4000) |
Aperture: | f/5.6 |
Focal Length: | 500.0 mm (35 mm equivalent: 500.0 mm) |
Flash: | No Flash |
Exposure mode: | Aperture-priority AE |
Max Aperture: | 5.7 |
Resolution: | 300 x 300 dpi |
Dimension: | 1600 x 790 pixels |
Original Date: | 2023:07:14 09:26:40.43 |
Created on: | 2023:07:14 09:26:40.43 |
Modified on: | 2023:07:14 16:14:20.43 |
Software: | Adobe Photoshop 24.6 (Windows) |
Already Applied | True |
Approximate Focus Distance | 4294967295 |
Auto Lateral CA | 0 |
Blacks 2012 | -47 |
Blue Hue | 0 |
Blue Saturation | 0 |
CFA Pattern | [Red,Green][Green,Blue] |
Camera Profile | Adobe Standard |
Circle Of Confusion | 0.030 mm |
Clarity 2012 | 0 |
Color Grade Blending | 50 |
Color Grade Global Hue | 0 |
Color Grade Global Lum | 0 |
Color Grade Global Sat | 0 |
Color Grade Highlight Lum | 0 |
Color Grade Midtone Hue | 0 |
Color Grade Midtone Lum | 0 |
Color Grade Midtone Sat | 0 |
Color Grade Shadow Lum | 0 |
Color Mode | RGB |
Color Noise Reduction | 25 |
Color Noise Reduction Detail | 50 |
Color Noise Reduction Smoothness | 50 |
Color Space | sRGB |
Color Temperature | 5800 |
Contrast | Normal |
Contrast 2012 | +34 |
Crop Angle | 2.300339 |
Crop Bottom | 0.61117 |
Crop Constrain To Warp | 0 |
Crop Left | 0.320273 |
Crop Right | 0.761409 |
Crop Top | 0.25078 |
Custom Rendered | Normal |
Date Created | 2023:07:14 09:26:40.043+01:00 |
Defringe Green Amount | 0 |
Defringe Green Hue Hi | 60 |
Defringe Green Hue Lo | 40 |
Defringe Purple Amount | 0 |
Defringe Purple Hue Hi | 70 |
Defringe Purple Hue Lo | 30 |
Dehaze | +17 |
Exposure 2012 | 0.00 |
Exposure Compensation | +2/3 |
Exposure Mode | Auto |
Field Of View | 4.1 deg |
Focal Length In 35mm Format | 500 mm |
Format | image/jpeg |
Gain Control | Low gain up |
Grain Amount | 0 |
Green Hue | 0 |
Green Saturation | 0 |
Has Crop | True |
Has Settings | True |
Highlights 2012 | -100 |
Hue Adjustment Aqua | 0 |
Hue Adjustment Blue | 0 |
Hue Adjustment Green | 0 |
Hue Adjustment Magenta | 0 |
Hue Adjustment Orange | 0 |
Hue Adjustment Purple | 0 |
Hue Adjustment Red | 0 |
Hue Adjustment Yellow | 0 |
Hyperfocal Distance | 1485.80 m |
ICC Profile Name | sRGB IEC61966-2.1 |
ISO | 1250 |
Image Number | 136256 |
Image Size | 1600x790 |
Lens | 500.0 mm f/5.6 |
Lens ID | AF-S DX Nikkor 18-300mm 3.5-5.6G ED VR |
Lens Info | 500mm f/5.6 |
Lens Manual Distortion Amount | 0 |
Lens Model | 500.0 mm f/5.6 |
Lens Profile Enable | 0 |
Light Source | Unknown |
Light Value | 13.3 |
Look Amount | 1 |
Look Copyright | © 2018 Adobe Systems, Inc. |
Look Group | Profiles |
Look Name | Adobe Color |
Look Parameters Camera Profile | Adobe Standard |
Look Parameters Convert To Grayscale | False |
Look Parameters Look Table | E1095149FDB39D7A057BAB208837E2 E1 |
Look Parameters Process Version | 15.4 |
Look Parameters Tone Curve PV2012 | 0, 0, 22, 16, 40, 35, 127, 127, 224, 230, 240, 246, 255, 255 |
Look Parameters Tone Curve PV2012 Blue | 0, 0, 255, 255 |
Look Parameters Tone Curve PV2012 Green | 0, 0, 255, 255 |
Look Parameters Tone Curve PV2012 Red | 0, 0, 255, 255 |
Look Parameters Version | 15.4.1 |
Look Supports Amount | false |
Look Supports Monochrome | false |
Look Supports Output Referred | false |
Luminance Adjustment Aqua | 0 |
Luminance Adjustment Blue | 0 |
Luminance Adjustment Green | 0 |
Luminance Adjustment Magenta | 0 |
Luminance Adjustment Orange | 0 |
Luminance Adjustment Purple | 0 |
Luminance Adjustment Red | 0 |
Luminance Adjustment Yellow | 0 |
Luminance Noise Reduction Contrast | 0 |
Luminance Noise Reduction Detail | 50 |
Luminance Smoothing | 32 |
Metering Mode | Multi-segment |
Override Look Vignette | False |
Parametric Darks | 0 |
Parametric Highlight Split | 75 |
Parametric Highlights | 0 |
Parametric Lights | 0 |
Parametric Midtone Split | 50 |
Parametric Shadow Split | 25 |
Parametric Shadows | 0 |
Perspective Aspect | 0 |
Perspective Horizontal | 0 |
Perspective Rotate | 0.0 |
Perspective Scale | 100 |
Perspective Upright | 0 |
Perspective Vertical | 0 |
Perspective X | 0.00 |
Perspective Y | 0.00 |
Post Crop Vignette Amount | 0 |
Process Version | 15.4 |
Rating | 0 |
Recommended Exposure Index | 1250 |
Red Hue | 0 |
Red Saturation | 0 |
Saturation | Normal |
Saturation Adjustment Aqua | 0 |
Saturation Adjustment Blue | 0 |
Saturation Adjustment Green | 0 |
Saturation Adjustment Magenta | 0 |
Saturation Adjustment Orange | 0 |
Saturation Adjustment Purple | 0 |
Saturation Adjustment Red | 0 |
Saturation Adjustment Yellow | 0 |
Scale Factor To 35 mm Equivalent | 1.0 |
Scene Capture Type | Standard |
Scene Type | Directly photographed |
Sensing Method | One-chip color area |
Sensitivity Type | Recommended Exposure Index |
Shadow Tint | 0 |
Shadows 2012 | +100 |
Sharpen Detail | 25 |
Sharpen Edge Masking | 0 |
Sharpen Radius | +1.0 |
Sharpness | Normal |
Split Toning Balance | 0 |
Split Toning Highlight Hue | 0 |
Split Toning Highlight Saturation | 0 |
Split Toning Shadow Hue | 0 |
Split Toning Shadow Saturation | 0 |
Subject Distance Range | Unknown |
Texture | 0 |
Tint | +12 |
Tone Curve Name 2012 | Linear |
Tone Curve PV2012 | 0, 0, 255, 255 |
Tone Curve PV2012 Blue | 0, 0, 255, 255 |
Tone Curve PV2012 Green | 0, 0, 255, 255 |
Tone Curve PV2012 Red | 0, 0, 255, 255 |
Version | 15.4.1 |
Vibrance | +20 |
Vignette Amount | 0 |
White Balance | Auto |
Whites 2012 | +27 |