Shooting information for this photo
Camera: | NIKON CORPORATION NIKON D500 |
Exposure: | 0.00025 sec. (1/4000) |
Aperture: | f/5.6 |
Focal Length: | 420.0 mm (35 mm equivalent: 630.0 mm) |
Flash: | No Flash |
Exposure mode: | Aperture-priority AE |
Max Aperture: | 5.6 |
Resolution: | 300 x 300 dpi |
Dimension: | 2048 x 1365 pixels |
Original Date: | 2023:04:30 09:40:04.24 |
Created on: | 2023:04:30 09:40:04.24 |
Software: | DxO PhotoLab 4.3.6 |
AF Aperture | 6.3 |
AF Area Mode | Unknown (13) |
AF Fine Tune | Off |
AF Fine Tune Adj | 0 |
AF Fine Tune Index | n/a |
AF Info 2 Version | 0101 |
AF Points Used | Unknown (00 00 00 00 10 00 00) |
Active D-Lighting | Auto |
Already Applied | True |
Approximate Focus Distance | 15 |
Auto Distortion Control | Off |
Auto Focus | On |
Auto Lateral CA | 0 |
Blacks 2012 | -39 |
Blue Balance | 1.384766 |
Blue Hue | 0 |
Blue Saturation | 0 |
Brightness | -124 |
CFA Pattern | [Red,Green][Green,Blue] |
Camera Profile | Adobe Standard |
Circle Of Confusion | 0.020 mm |
Clarity 2012 | +14 |
Color Balance Unknown | 02256Q¸2©.g.WîIp6´.jÓj½. _&/¦áê¬,ki&Ûé.?&êýÑKà ‹1,[...] |
Color Grade Blending | 50 |
Color Grade Global Hue | 0 |
Color Grade Global Lum | 0 |
Color Grade Global Sat | 0 |
Color Grade Highlight Lum | 0 |
Color Grade Midtone Hue | 0 |
Color Grade Midtone Lum | 0 |
Color Grade Midtone Sat | 0 |
Color Grade Shadow Lum | 0 |
Color Noise Reduction | 25 |
Color Noise Reduction Detail | 50 |
Color Noise Reduction Smoothness | 50 |
Color Space | Uncalibrated |
Color Temperature | 6150 |
Contrast | Normal |
Contrast 2012 | +28 |
Contrast Detect AF | Off |
Contrast Detect AF In Focus | Unknown (68) |
Crop Angle | 4.423221 |
Crop Bottom | 0.775385 |
Crop Constrain To Warp | 0 |
Crop Hi Speed | On (5600x3728 cropped to 5600x3728 at pixel 0,0) |
Crop Left | 0.129274 |
Crop Right | 0.83393 |
Crop Top | 0 |
Custom Rendered | Normal |
Date Created | 2023:04:30 09:40:04.24 |
Defringe Green Amount | 0 |
Defringe Green Hue Hi | 60 |
Defringe Green Hue Lo | 40 |
Defringe Purple Amount | 0 |
Defringe Purple Hue Hi | 70 |
Defringe Purple Hue Lo | 30 |
Dehaze | 0 |
Depth Of Field | 0.28 m (14.83 - 15.10) |
Effective Max Aperture | 5.7 |
Exit Pupil Position | 102.4 mm |
Exposure 2012 | 0.00 |
Exposure Bracket Value | 0 |
Exposure Compensation | +1/3 |
Exposure Difference | 0 |
Exposure Mode | Auto |
Exposure Tuning | 0 |
External Flash Exposure Comp | 0 |
Field Of View | 3.2 deg (0.83 m) |
Filter Effect | Off |
Firmware Version | 1.12 |
Flash Exposure Bracket Value | 0.0 |
Flash Fired | False |
Flash Function | False |
Flash Info Version | 0108 |
Flash Mode | Did Not Fire |
Flash Red Eye Mode | False |
Flash Return | No return detection |
Flash Setting | Normal |
Focal Length In 35mm Format | 630 mm |
Focus Distance | 14.96 m |
Focus Mode | AF-C |
Focus Position | 0x33 |
Format | image/x-nikon-nef |
Gain Control | High gain up |
Grain Amount | 0 |
Green Hue | 0 |
Green Saturation | 0 |
Has Crop | True |
Has Settings | True |
High ISO Noise Reduction | Normal |
Highlights 2012 | -100 |
Hue Adjustment | -124 |
Hue Adjustment Aqua | 0 |
Hue Adjustment Blue | 0 |
Hue Adjustment Green | 0 |
Hue Adjustment Magenta | 0 |
Hue Adjustment Orange | 0 |
Hue Adjustment Purple | 0 |
Hue Adjustment Red | 0 |
Hue Adjustment Yellow | 0 |
Hyperfocal Distance | 1572.58 m |
ISO | 7200 |
ISO2 | 100 |
ISO Expansion | Off |
ISO Expansion 2 | Off |
Image Number | 228161 |
Image Size | 2048x1365 |
Lens | 300mm f/4 G VR [6] |
Lens Data Version | 0204 |
Lens F Stops | 6.00 |
Lens ID | Unknown (A8 48 8E 8E 30 30 C3 4E) |
Lens ID Number | 168 |
Lens Info | 300mm f/4 |
Lens Manual Distortion Amount | 0 |
Lens Profile Enable | 0 |
Lens Type | G VR [6] |
Light Source | Cloudy |
Light Value | 10.8 |
Look Amount | 1 |
Look Copyright | © 2018 Adobe Systems, Inc. |
Look Group | Profiles |
Look Name | Adobe Color |
Look Parameters Camera Profile | Adobe Standard |
Look Parameters Convert To Grayscale | False |
Look Parameters Look Table | E1095149FDB39D7A057BAB208837E2 E1 |
Look Parameters Process Version | 11.0 |
Look Parameters Tone Curve PV2012 | 0, 0, 22, 16, 40, 35, 127, 127, 224, 230, 240, 246, 255, 255 |
Look Parameters Tone Curve PV2012 Blue | 0, 0, 255, 255 |
Look Parameters Tone Curve PV2012 Green | 0, 0, 255, 255 |
Look Parameters Tone Curve PV2012 Red | 0, 0, 255, 255 |
Look Parameters Version | 15.3 |
Look Supports Amount | false |
Look Supports Monochrome | false |
Look Supports Output Referred | false |
Luminance Adjustment Aqua | 0 |
Luminance Adjustment Blue | 0 |
Luminance Adjustment Green | 0 |
Luminance Adjustment Magenta | 0 |
Luminance Adjustment Orange | 0 |
Luminance Adjustment Purple | 0 |
Luminance Adjustment Red | 0 |
Luminance Adjustment Yellow | 0 |
Luminance Noise Reduction Contrast | 0 |
Luminance Noise Reduction Detail | 50 |
Luminance Smoothing | 52 |
MCU Version | 195 |
Maker Note Version | 2.11 |
Max Aperture At Max Focal | 4.0 |
Max Aperture At Min Focal | 4.0 |
Max Focal Length | 302.0 mm |
Metering Mode | Multi-segment |
Min Focal Length | 302.0 mm |
Noise Reduction | Off |
Override Look Vignette | False |
Parametric Darks | 0 |
Parametric Highlight Split | 75 |
Parametric Highlights | 0 |
Parametric Lights | 0 |
Parametric Midtone Split | 50 |
Parametric Shadow Split | 25 |
Parametric Shadows | 0 |
Perspective Aspect | 0 |
Perspective Horizontal | 0 |
Perspective Rotate | 0.0 |
Perspective Scale | 100 |
Perspective Upright | 0 |
Perspective Vertical | 0 |
Perspective X | 0.00 |
Perspective Y | 0.00 |
Phase Detect AF | Unknown (7) |
Picture Control Adjust | Default Settings |
Picture Control Base | Neutral |
Picture Control Name | Neutral |
Picture Control Quick Adjust | n/a |
Picture Control Version | 0200 |
Post Crop Vignette Amount | 0 |
Primary AF Point | Unknown (37) |
Process Version | 11.0 |
Program Shift | 0 |
Quality | Fine |
Rating | 0 |
Red Balance | 2.452637 |
Red Hue | 0 |
Red Saturation | 0 |
Saturation | Normal |
Saturation Adjustment Aqua | 0 |
Saturation Adjustment Blue | 0 |
Saturation Adjustment Green | 0 |
Saturation Adjustment Magenta | 0 |
Saturation Adjustment Orange | 0 |
Saturation Adjustment Purple | 0 |
Saturation Adjustment Red | 0 |
Saturation Adjustment Yellow | 0 |
Scale Factor To 35 mm Equivalent | 1.5 |
Scene Capture Type | Standard |
Scene Type | Directly photographed |
Sensing Method | One-chip color area |
Sensitivity Type | Recommended Exposure Index |
Shadow Tint | 0 |
Shadows 2012 | +100 |
Sharpen Detail | 25 |
Sharpen Edge Masking | 0 |
Sharpen Radius | +1.0 |
Sharpness | Normal |
Shooting Mode | Continuous, Auto ISO |
Shot Info Version | 0239 |
Shutter Count | 228161 |
Sidecar For Extension | NEF |
Split Toning Balance | 0 |
Split Toning Highlight Hue | 0 |
Split Toning Highlight Saturation | 0 |
Split Toning Shadow Hue | 0 |
Split Toning Shadow Saturation | 0 |
Subject Distance | 14.96 m |
Subject Distance Range | Unknown |
TIFF-EP Standard ID | 1 0 0 0 |
Texture | +11 |
Tint | -1 |
Tone Curve Name 2012 | Linear |
Tone Curve PV2012 | 0, 0, 255, 255 |
Tone Curve PV2012 Blue | 0, 0, 255, 255 |
Tone Curve PV2012 Green | 0, 0, 255, 255 |
Tone Curve PV2012 Red | 0, 0, 255, 255 |
Toning Effect | Unknown (0x4) |
Toning Saturation | 0 |
VR Info Version | 0100 |
Version | 15.3 |
Vibrance | +21 |
Vibration Reduction | On |
Vignette Amount | 0 |
Vignette Control | Normal |
WB RB Levels | 2.452636719 1.384765625 1 1 |
White Balance | Cloudy |
White Balance Fine Tune | 0 0 |
Whites 2012 | +7 |
GPS Information |
GPS Version ID | 2.3.0.0 |