Shooting information for this photo
Camera: | NIKON CORPORATION NIKON D810 |
Exposure: | 0.004 sec. (1/250) |
Aperture: | f/18.0 |
Focal Length: | 35.0 mm (35 mm equivalent: 35.0 mm) |
Flash: | Off, Did not fire |
Exposure mode: | Aperture-priority AE |
Max Aperture: | 4.0 |
Resolution: | 300 x 300 dpi |
Dimension: | 1600 x 1068 pixels |
Original Date: | 2022:02:08 14:39:42.45 |
Created on: | 2022:02:08 14:39:42.45 |
Modified on: | 2022:02:08 20:32:23.45 |
Software: | Adobe Photoshop 23.1 (Windows) |
Already Applied | True |
Approximate Focus Distance | 4294967295 |
Auto Lateral CA | 0 |
Blacks 2012 | -16 |
Blue Hue | 0 |
Blue Saturation | 0 |
CFA Pattern | [Red,Green][Green,Blue] |
Camera Profile | Adobe Standard |
Circle Of Confusion | 0.030 mm |
Clarity 2012 | +6 |
Color Grade Blending | 100 |
Color Grade Global Hue | 0 |
Color Grade Global Lum | 0 |
Color Grade Global Sat | 0 |
Color Grade Highlight Lum | +10 |
Color Grade Midtone Hue | 33 |
Color Grade Midtone Lum | +12 |
Color Grade Midtone Sat | 3 |
Color Grade Shadow Lum | -5 |
Color Mode | RGB |
Color Noise Reduction | 25 |
Color Noise Reduction Detail | 50 |
Color Noise Reduction Smoothness | 50 |
Color Space | sRGB |
Color Temperature | 6500 |
Contrast | Normal |
Contrast 2012 | +20 |
Crop Angle | -1.459642 |
Crop Bottom | 0.963224 |
Crop Constrain To Warp | 0 |
Crop Left | 0.010198 |
Crop Right | 0.989802 |
Crop Top | 0.036776 |
Custom Rendered | Normal |
Date Created | 2022:02:08 14:39:42.045 |
Defringe Green Amount | 0 |
Defringe Green Hue Hi | 60 |
Defringe Green Hue Lo | 40 |
Defringe Purple Amount | 0 |
Defringe Purple Hue Hi | 70 |
Defringe Purple Hue Lo | 30 |
Dehaze | +7 |
Digital Zoom Ratio | 1 |
Exposure 2012 | 0.00 |
Exposure Compensation | 0 |
Exposure Mode | Auto |
Field Of View | 54.4 deg |
Focal Length In 35mm Format | 35 mm |
Format | image/jpeg |
Gain Control | High gain up |
Grain Amount | 9 |
Grain Frequency | 59 |
Grain Size | 19 |
Green Hue | 0 |
Green Saturation | 0 |
Has Crop | True |
Has Settings | True |
Highlights 2012 | -100 |
Hue Adjustment Aqua | -8 |
Hue Adjustment Blue | -12 |
Hue Adjustment Green | -7 |
Hue Adjustment Magenta | +20 |
Hue Adjustment Orange | -1 |
Hue Adjustment Purple | 0 |
Hue Adjustment Red | -8 |
Hue Adjustment Yellow | -5 |
Hyperfocal Distance | 2.27 m |
ICC Profile Name | sRGB IEC61966-2.1 |
ISO | 1000 |
Image Number | 58830 |
Image Size | 1600x1068 |
Lens | 16.0-35.0 mm f/4.0 |
Lens ID | AF-S Nikkor 16-35mm f/4G ED VR |
Lens Info | 16-35mm f/4 |
Lens Manual Distortion Amount | 0 |
Lens Model | 16.0-35.0 mm f/4.0 |
Lens Profile Enable | 0 |
Light Source | Unknown |
Light Value | 13.0 |
Look Amount | 1 |
Look Copyright | © 2018 Adobe Systems, Inc. |
Look Group | Profiles |
Look Name | Adobe Color |
Look Parameters Camera Profile | Adobe Standard |
Look Parameters Convert To Grayscale | False |
Look Parameters Look Table | E1095149FDB39D7A057BAB208837E2 E1 |
Look Parameters Process Version | 11.0 |
Look Parameters Tone Curve PV2012 | 0, 0, 22, 16, 40, 35, 127, 127, 224, 230, 240, 246, 255, 255 |
Look Parameters Tone Curve PV2012 Blue | 0, 0, 255, 255 |
Look Parameters Tone Curve PV2012 Green | 0, 0, 255, 255 |
Look Parameters Tone Curve PV2012 Red | 0, 0, 255, 255 |
Look Parameters Version | 14.1 |
Look Supports Amount | false |
Look Supports Monochrome | false |
Look Supports Output Referred | false |
Luminance Adjustment Aqua | +9 |
Luminance Adjustment Blue | +13 |
Luminance Adjustment Green | -2 |
Luminance Adjustment Magenta | +8 |
Luminance Adjustment Orange | -2 |
Luminance Adjustment Purple | +8 |
Luminance Adjustment Red | +8 |
Luminance Adjustment Yellow | +6 |
Luminance Smoothing | 0 |
Metering Mode | Multi-segment |
Override Look Vignette | False |
Parametric Darks | 0 |
Parametric Highlight Split | 75 |
Parametric Highlights | 0 |
Parametric Lights | 0 |
Parametric Midtone Split | 50 |
Parametric Shadow Split | 25 |
Parametric Shadows | 0 |
Perspective Aspect | 0 |
Perspective Horizontal | 0 |
Perspective Rotate | 0.0 |
Perspective Scale | 100 |
Perspective Upright | 0 |
Perspective Vertical | 0 |
Perspective X | 0.00 |
Perspective Y | 0.00 |
Post Crop Vignette Amount | 0 |
Process Version | 11.0 |
Red Hue | 0 |
Red Saturation | 0 |
Saturation | Normal |
Saturation Adjustment Aqua | -20 |
Saturation Adjustment Blue | -28 |
Saturation Adjustment Green | -33 |
Saturation Adjustment Magenta | 0 |
Saturation Adjustment Orange | -8 |
Saturation Adjustment Purple | -8 |
Saturation Adjustment Red | +2 |
Saturation Adjustment Yellow | -2 |
Scale Factor To 35 mm Equivalent | 1.0 |
Scene Capture Type | Standard |
Scene Type | Directly photographed |
Sensing Method | One-chip color area |
Sensitivity Type | Recommended Exposure Index |
Shadow Tint | 0 |
Shadows 2012 | +100 |
Sharpen Detail | 25 |
Sharpen Edge Masking | 0 |
Sharpen Radius | +1.0 |
Sharpness | Normal |
Split Toning Balance | -15 |
Split Toning Highlight Hue | 36 |
Split Toning Highlight Saturation | 3 |
Split Toning Shadow Hue | 53 |
Split Toning Shadow Saturation | 3 |
Subject Distance Range | Unknown |
Texture | +5 |
Tint | -1 |
Tone Curve Name 2012 | Custom |
Tone Curve PV2012 | 0, 8, 38, 48, 73, 94, 126, 153, 184, 203, 255, 250 |
Tone Curve PV2012 Blue | 0, 0, 70, 68, 172, 160, 255, 252 |
Tone Curve PV2012 Green | 0, 0, 55, 57, 116, 112, 191, 186, 255, 255 |
Tone Curve PV2012 Red | 0, 0, 38, 42, 83, 82, 174, 170, 255, 254 |
Version | 14.1 |
Vibrance | +57 |
Vignette Amount | 0 |
White Balance | Auto |
Whites 2012 | -18 |