Shooting information for this photo
Camera: | NIKON CORPORATION NIKON D500 |
Exposure: | 0.0025 sec. (1/400) |
Aperture: | f/6.3 |
Focal Length: | 300.0 mm (35 mm equivalent: 450.0 mm) |
Flash: | No Flash |
Exposure mode: | Aperture-priority AE |
Max Aperture: | 6.3 |
Resolution: | 300 x 300 dpi |
Dimension: | 1600 x 1046 pixels |
Original Date: | 2021:09:09 11:26:11.86 |
Created on: | 2021:09:09 11:26:11.86 |
Modified on: | 2021:09:09 16:16:33.86 |
Software: | Adobe Photoshop 22.5 (Windows) |
Already Applied | True |
Approximate Focus Distance | 11.9 |
Auto Lateral CA | 0 |
Blacks 2012 | -44 |
Blue Hue | 0 |
Blue Saturation | 0 |
CFA Pattern | [Red,Green][Green,Blue] |
Camera Profile | Adobe Standard |
Circle Of Confusion | 0.020 mm |
Clarity 2012 | +1 |
Color Grade Blending | 50 |
Color Grade Global Hue | 0 |
Color Grade Global Lum | 0 |
Color Grade Global Sat | 0 |
Color Grade Highlight Lum | 0 |
Color Grade Midtone Hue | 0 |
Color Grade Midtone Lum | 0 |
Color Grade Midtone Sat | 0 |
Color Grade Shadow Lum | 0 |
Color Mode | RGB |
Color Noise Reduction | 25 |
Color Noise Reduction Detail | 50 |
Color Noise Reduction Smoothness | 50 |
Color Space | sRGB |
Color Temperature | 5750 |
Contrast | Normal |
Contrast 2012 | +22 |
Crop Angle | 0 |
Crop Bottom | 0.937943 |
Crop Constrain To Warp | 0 |
Crop Left | 0 |
Crop Right | 0.832545 |
Crop Top | 0.121158 |
Custom Rendered | Normal |
Date Created | 2021:09:09 11:26:11.086 |
Defringe Green Amount | 0 |
Defringe Green Hue Hi | 60 |
Defringe Green Hue Lo | 40 |
Defringe Purple Amount | 0 |
Defringe Purple Hue Hi | 70 |
Defringe Purple Hue Lo | 30 |
Dehaze | +12 |
Exposure 2012 | 0.00 |
Exposure Compensation | 0 |
Exposure Mode | Auto |
Field Of View | 4.6 deg |
Focal Length In 35mm Format | 450 mm |
Format | image/jpeg |
Gain Control | Low gain up |
Grain Amount | 0 |
Green Hue | 0 |
Green Saturation | 0 |
Has Crop | True |
Has Settings | True |
Highlights 2012 | -83 |
Hue Adjustment Aqua | 0 |
Hue Adjustment Blue | 0 |
Hue Adjustment Green | 0 |
Hue Adjustment Magenta | 0 |
Hue Adjustment Orange | 0 |
Hue Adjustment Purple | 0 |
Hue Adjustment Red | 0 |
Hue Adjustment Yellow | 0 |
Hyperfocal Distance | 713.19 m |
ICC Profile Name | sRGB IEC61966-2.1 |
ISO | 800 |
Image Number | 163032 |
Image Size | 1600x1046 |
Lens | TAMRON AF 16-300mm F3.5-6.3 Di II VC PZD B016N |
Lens ID | TAMRON AF 16-300mm F3.5-6.3 Di II VC PZD B016N |
Lens Info | 16-300mm f/3.5-6.3 |
Lens Manual Distortion Amount | 0 |
Lens Model | TAMRON AF 16-300mm F3.5-6.3 Di II VC PZD B016N |
Lens Profile Enable | 0 |
Light Source | Unknown |
Light Value | 11.0 |
Look Amount | 1.000000 |
Look Copyright | © 2018 Adobe Systems, Inc. |
Look Group | Profiles |
Look Name | Adobe Color |
Look Parameters Camera Profile | Adobe Standard |
Look Parameters Convert To Grayscale | False |
Look Parameters Look Table | E1095149FDB39D7A057BAB208837E2 E1 |
Look Parameters Process Version | 11.0 |
Look Parameters Tone Curve PV2012 | 0, 0, 22, 16, 40, 35, 127, 127, 224, 230, 240, 246, 255, 255 |
Look Parameters Tone Curve PV2012 Blue | 0, 0, 255, 255 |
Look Parameters Tone Curve PV2012 Green | 0, 0, 255, 255 |
Look Parameters Tone Curve PV2012 Red | 0, 0, 255, 255 |
Look Parameters Version | 13.3 |
Look Supports Amount | false |
Look Supports Monochrome | false |
Look Supports Output Referred | false |
Luminance Adjustment Aqua | 0 |
Luminance Adjustment Blue | 0 |
Luminance Adjustment Green | 0 |
Luminance Adjustment Magenta | 0 |
Luminance Adjustment Orange | 0 |
Luminance Adjustment Purple | 0 |
Luminance Adjustment Red | 0 |
Luminance Adjustment Yellow | 0 |
Luminance Smoothing | 0 |
Metering Mode | Multi-segment |
Override Look Vignette | False |
Parametric Darks | 0 |
Parametric Highlight Split | 75 |
Parametric Highlights | 0 |
Parametric Lights | 0 |
Parametric Midtone Split | 50 |
Parametric Shadow Split | 25 |
Parametric Shadows | 0 |
Perspective Aspect | 0 |
Perspective Horizontal | 0 |
Perspective Rotate | 0.0 |
Perspective Scale | 100 |
Perspective Upright | 0 |
Perspective Vertical | 0 |
Perspective X | 0.00 |
Perspective Y | 0.00 |
Post Crop Vignette Amount | 0 |
Process Version | 11.0 |
Rating | 0 |
Red Hue | 0 |
Red Saturation | 0 |
Saturation | Normal |
Saturation Adjustment Aqua | 0 |
Saturation Adjustment Blue | 0 |
Saturation Adjustment Green | 0 |
Saturation Adjustment Magenta | 0 |
Saturation Adjustment Orange | 0 |
Saturation Adjustment Purple | 0 |
Saturation Adjustment Red | 0 |
Saturation Adjustment Yellow | 0 |
Scale Factor To 35 mm Equivalent | 1.5 |
Scene Capture Type | Standard |
Scene Type | Directly photographed |
Sensing Method | One-chip color area |
Sensitivity Type | Recommended Exposure Index |
Shadow Tint | 0 |
Shadows 2012 | +87 |
Sharpen Detail | 25 |
Sharpen Edge Masking | 0 |
Sharpen Radius | +1.0 |
Sharpness | Normal |
Split Toning Balance | 0 |
Split Toning Highlight Hue | 0 |
Split Toning Highlight Saturation | 0 |
Split Toning Shadow Hue | 0 |
Split Toning Shadow Saturation | 0 |
Subject Distance Range | Unknown |
Texture | +15 |
Tint | +27 |
Tone Curve Name 2012 | Linear |
Tone Curve PV2012 | 0, 0, 255, 255 |
Tone Curve PV2012 Blue | 0, 0, 255, 255 |
Tone Curve PV2012 Green | 0, 0, 255, 255 |
Tone Curve PV2012 Red | 0, 0, 255, 255 |
Version | 13.3 |
Vibrance | +24 |
Vignette Amount | 0 |
White Balance | Auto |
Whites 2012 | +25 |